BEGIN:VCALENDAR
VERSION:2.0
PRODID:-//CCSJJC - ECPv6.15.20//NONSGML v1.0//EN
CALSCALE:GREGORIAN
METHOD:PUBLISH
X-ORIGINAL-URL:https://sjjcouncil.org
X-WR-CALDESC:Events for CCSJJC
REFRESH-INTERVAL;VALUE=DURATION:PT1H
X-Robots-Tag:noindex
X-PUBLISHED-TTL:PT1H
BEGIN:VTIMEZONE
TZID:America/Chicago
BEGIN:DAYLIGHT
TZOFFSETFROM:-0600
TZOFFSETTO:-0500
TZNAME:CDT
DTSTART:20250309T080000
END:DAYLIGHT
BEGIN:STANDARD
TZOFFSETFROM:-0500
TZOFFSETTO:-0600
TZNAME:CST
DTSTART:20251102T070000
END:STANDARD
BEGIN:DAYLIGHT
TZOFFSETFROM:-0600
TZOFFSETTO:-0500
TZNAME:CDT
DTSTART:20260308T080000
END:DAYLIGHT
BEGIN:STANDARD
TZOFFSETFROM:-0500
TZOFFSETTO:-0600
TZNAME:CST
DTSTART:20261101T070000
END:STANDARD
BEGIN:DAYLIGHT
TZOFFSETFROM:-0600
TZOFFSETTO:-0500
TZNAME:CDT
DTSTART:20270314T080000
END:DAYLIGHT
BEGIN:STANDARD
TZOFFSETFROM:-0500
TZOFFSETTO:-0600
TZNAME:CST
DTSTART:20271107T070000
END:STANDARD
END:VTIMEZONE
BEGIN:VEVENT
DTSTART;TZID=America/Chicago:20260403T110000
DTEND;TZID=America/Chicago:20260403T133000
DTSTAMP:20260420T051217
CREATED:20260326T153055Z
LAST-MODIFIED:20260326T153055Z
UID:10002802-1775214000-1775223000@sjjcouncil.org
SUMMARY:MoorLuv: Situational Workshop
DESCRIPTION:
URL:https://sjjcouncil.org/event/moorluv-situational-workshop/
LOCATION:Wheeler Chapel\, 3517 W 137th St\, Robbins\, IL\, United States
ATTACH;FMTTYPE=image/jpeg:https://sjjcouncil.org/wp-content/uploads/2026/03/EPC-scaled.jpeg
ORGANIZER;CN="MooreLuv":MAILTO:Moor3luv@gmail.com
END:VEVENT
BEGIN:VEVENT
DTSTART;TZID=America/Chicago:20260327T163000
DTEND;TZID=America/Chicago:20260327T183000
DTSTAMP:20260420T051217
CREATED:20260326T153239Z
LAST-MODIFIED:20260326T153239Z
UID:10002803-1774629000-1774636200@sjjcouncil.org
SUMMARY:MooreLuv: Keeping it Real\, Appropriate\, Understanding Code Switching
DESCRIPTION:
URL:https://sjjcouncil.org/event/mooreluv-keeping-it-real-appropriate-understanding-code-switching/
LOCATION:Wheeler Chapel\, 3517 W 137th St\, Robbins\, IL\, United States
ATTACH;FMTTYPE=image/jpeg:https://sjjcouncil.org/wp-content/uploads/2026/03/kir_1-scaled.jpeg
ORGANIZER;CN="MooreLuv":MAILTO:Moor3luv@gmail.com
END:VEVENT
BEGIN:VEVENT
DTSTART;TZID=America/Chicago:20260302T110000
DTEND;TZID=America/Chicago:20260302T150000
DTSTAMP:20260420T051217
CREATED:20260220T165332Z
LAST-MODIFIED:20260223T010210Z
UID:10002799-1772449200-1772463600@sjjcouncil.org
SUMMARY:Crafts and Conversations
DESCRIPTION:
URL:https://sjjcouncil.org/event/crafts-and-conversations/
LOCATION:Wheeler Chapel\, 3517 W 137th St\, Robbins\, IL\, United States
ATTACH;FMTTYPE=image/png:https://sjjcouncil.org/wp-content/uploads/2026/02/03.02.26_MooreLuv_CraftsConvo.png
ORGANIZER;CN="MooreLuv":MAILTO:Moor3luv@gmail.com
END:VEVENT
BEGIN:VEVENT
DTSTART;TZID=America/Chicago:20260119T100000
DTEND;TZID=America/Chicago:20260119T150000
DTSTAMP:20260420T051217
CREATED:20260115T162744Z
LAST-MODIFIED:20260116T140220Z
UID:10002794-1768816800-1768834800@sjjcouncil.org
SUMMARY:Mooreluv Presents: Managing My Emotions
DESCRIPTION:
URL:https://sjjcouncil.org/event/mooreluv-presents-managing-my-emotions/
LOCATION:Wheeler Chapel\, 3517 W 137th St\, Robbins\, IL\, United States
ATTACH;FMTTYPE=image/png:https://sjjcouncil.org/wp-content/uploads/2026/01/01.19.2026_MooreLuv_Managing-My-Emotions_email-scaled.png
END:VEVENT
END:VCALENDAR