BEGIN:VCALENDAR
VERSION:2.0
PRODID:-//CCSJJC - ECPv6.15.20//NONSGML v1.0//EN
CALSCALE:GREGORIAN
METHOD:PUBLISH
X-WR-CALNAME:CCSJJC
X-ORIGINAL-URL:https://sjjcouncil.org
X-WR-CALDESC:Events for CCSJJC
REFRESH-INTERVAL;VALUE=DURATION:PT1H
X-Robots-Tag:noindex
X-PUBLISHED-TTL:PT1H
BEGIN:VTIMEZONE
TZID:America/Chicago
BEGIN:DAYLIGHT
TZOFFSETFROM:-0600
TZOFFSETTO:-0500
TZNAME:CDT
DTSTART:20240310T080000
END:DAYLIGHT
BEGIN:STANDARD
TZOFFSETFROM:-0500
TZOFFSETTO:-0600
TZNAME:CST
DTSTART:20241103T070000
END:STANDARD
BEGIN:DAYLIGHT
TZOFFSETFROM:-0600
TZOFFSETTO:-0500
TZNAME:CDT
DTSTART:20250309T080000
END:DAYLIGHT
BEGIN:STANDARD
TZOFFSETFROM:-0500
TZOFFSETTO:-0600
TZNAME:CST
DTSTART:20251102T070000
END:STANDARD
BEGIN:DAYLIGHT
TZOFFSETFROM:-0600
TZOFFSETTO:-0500
TZNAME:CDT
DTSTART:20260308T080000
END:DAYLIGHT
BEGIN:STANDARD
TZOFFSETFROM:-0500
TZOFFSETTO:-0600
TZNAME:CST
DTSTART:20261101T070000
END:STANDARD
END:VTIMEZONE
BEGIN:VEVENT
DTSTART;TZID=America/Chicago:20251120T190000
DTEND;TZID=America/Chicago:20251120T210000
DTSTAMP:20260420T113054
CREATED:20251031T143353Z
LAST-MODIFIED:20251031T143353Z
UID:10002765-1763665200-1763672400@sjjcouncil.org
SUMMARY:Girl’s Empowerment
DESCRIPTION:
URL:https://sjjcouncil.org/event/girls-empowerment-3/
LOCATION:Mother Teresa Catholic School\, 24201 Kings Rd\, Crete\, IL\, 60417\, United States
ATTACH;FMTTYPE=image/png:https://sjjcouncil.org/wp-content/uploads/2025/10/11.20.25_MooreLuv_Girl-Empower-Series_3_3.png
ORGANIZER;CN="MooreLuv":MAILTO:Moor3luv@gmail.com
END:VEVENT
BEGIN:VEVENT
DTSTART;TZID=America/Chicago:20251114T163000
DTEND;TZID=America/Chicago:20251114T183000
DTSTAMP:20260420T113054
CREATED:20251031T143306Z
LAST-MODIFIED:20251031T143306Z
UID:10002764-1763137800-1763145000@sjjcouncil.org
SUMMARY:Girl’s Empowerment
DESCRIPTION:
URL:https://sjjcouncil.org/event/girls-empowerment-2/
LOCATION:Mother Teresa Catholic School\, 24201 Kings Rd\, Crete\, IL\, 60417\, United States
ATTACH;FMTTYPE=image/png:https://sjjcouncil.org/wp-content/uploads/2025/10/11.14.25_MooreLuv_Girl-Empower-Series_2_3.png
ORGANIZER;CN="MooreLuv":MAILTO:Moor3luv@gmail.com
END:VEVENT
BEGIN:VEVENT
DTSTART;TZID=America/Chicago:20251030T190000
DTEND;TZID=America/Chicago:20251030T210000
DTSTAMP:20260420T113054
CREATED:20251031T143150Z
LAST-MODIFIED:20251031T143150Z
UID:10002763-1761850800-1761858000@sjjcouncil.org
SUMMARY:Girl’s Empowerment
DESCRIPTION:
URL:https://sjjcouncil.org/event/girls-empowerment/
LOCATION:Mother Teresa Catholic School\, 24201 Kings Rd\, Crete\, IL\, 60417\, United States
ATTACH;FMTTYPE=image/png:https://sjjcouncil.org/wp-content/uploads/2025/10/11.20.25_MooreLuv_Girl-Empower-Series_3_3.png
ORGANIZER;CN="MooreLuv":MAILTO:Moor3luv@gmail.com
END:VEVENT
BEGIN:VEVENT
DTSTART;TZID=America/Chicago:20251007T163000
DTEND;TZID=America/Chicago:20251007T180000
DTSTAMP:20260420T113054
CREATED:20250915T232227Z
LAST-MODIFIED:20250915T232227Z
UID:10000350-1759854600-1759860000@sjjcouncil.org
SUMMARY:Youth Workshop For Girls
DESCRIPTION:Click Here to Register!
URL:https://sjjcouncil.org/event/youth-workshop-for-girls-4/
LOCATION:Mother Teresa Catholic School\, 24201 Kings Rd\, Crete\, IL\, 60417\, United States
ATTACH;FMTTYPE=image/png:https://sjjcouncil.org/wp-content/uploads/2025/09/MOORELUV-workshop_10_7_rec-01-scaled.png
ORGANIZER;CN="MooreLuv":MAILTO:Moor3luv@gmail.com
END:VEVENT
BEGIN:VEVENT
DTSTART;TZID=America/Chicago:20250930T163000
DTEND;TZID=America/Chicago:20250930T180000
DTSTAMP:20260420T113054
CREATED:20250915T232144Z
LAST-MODIFIED:20250915T232144Z
UID:10000349-1759249800-1759255200@sjjcouncil.org
SUMMARY:Youth Workshop For Girls
DESCRIPTION:Click Here to Register!
URL:https://sjjcouncil.org/event/youth-workshop-for-girls-3/
LOCATION:Mother Teresa Catholic School\, 24201 Kings Rd\, Crete\, IL\, 60417\, United States
ATTACH;FMTTYPE=image/png:https://sjjcouncil.org/wp-content/uploads/2025/09/MOORLUV_FLYER_9_30_Rect-01-scaled.png
ORGANIZER;CN="MooreLuv":MAILTO:Moor3luv@gmail.com
END:VEVENT
BEGIN:VEVENT
DTSTART;TZID=America/Chicago:20250923T163000
DTEND;TZID=America/Chicago:20250923T180000
DTSTAMP:20260420T113054
CREATED:20250915T232102Z
LAST-MODIFIED:20250915T232102Z
UID:10000348-1758645000-1758650400@sjjcouncil.org
SUMMARY:Youth Workshop For Girls
DESCRIPTION:Click Here to Register!
URL:https://sjjcouncil.org/event/youth-workshop-for-girls-2/
LOCATION:Mother Teresa Catholic School\, 24201 Kings Rd\, Crete\, IL\, 60417\, United States
ATTACH;FMTTYPE=image/png:https://sjjcouncil.org/wp-content/uploads/2025/09/MOORELUV-workshop_9_23_rec-01-scaled.png
ORGANIZER;CN="MooreLuv":MAILTO:Moor3luv@gmail.com
END:VEVENT
BEGIN:VEVENT
DTSTART;TZID=America/Chicago:20250916T163000
DTEND;TZID=America/Chicago:20250916T180000
DTSTAMP:20260420T113054
CREATED:20250915T230927Z
LAST-MODIFIED:20250915T230927Z
UID:10000347-1758040200-1758045600@sjjcouncil.org
SUMMARY:Youth Workshop For Girls
DESCRIPTION:Click Here to Register!
URL:https://sjjcouncil.org/event/youth-workshop-for-girls/
LOCATION:Mother Teresa Catholic School\, 24201 Kings Rd\, Crete\, IL\, 60417\, United States
ATTACH;FMTTYPE=image/png:https://sjjcouncil.org/wp-content/uploads/2025/09/MOORLUV_FLYER_9_16-scaled.png
ORGANIZER;CN="MooreLuv":MAILTO:Moor3luv@gmail.com
END:VEVENT
END:VCALENDAR