BEGIN:VCALENDAR
VERSION:2.0
PRODID:-//CCSJJC - ECPv6.15.20//NONSGML v1.0//EN
CALSCALE:GREGORIAN
METHOD:PUBLISH
X-ORIGINAL-URL:https://sjjcouncil.org
X-WR-CALDESC:Events for CCSJJC
REFRESH-INTERVAL;VALUE=DURATION:PT1H
X-Robots-Tag:noindex
X-PUBLISHED-TTL:PT1H
BEGIN:VTIMEZONE
TZID:UTC
BEGIN:STANDARD
TZOFFSETFROM:+0000
TZOFFSETTO:+0000
TZNAME:UTC
DTSTART:20250101T000000
END:STANDARD
END:VTIMEZONE
BEGIN:VEVENT
DTSTART;TZID=UTC:20260701T134500
DTEND;TZID=UTC:20260701T150000
DTSTAMP:20260420T051137
CREATED:20251017T015738Z
LAST-MODIFIED:20251120T193136Z
UID:10002090-1782913500-1782918000@sjjcouncil.org
SUMMARY:Civic Engagement Workshop
DESCRIPTION:
URL:https://sjjcouncil.org/event/civic-engagement-workshop-2/2026-07-01/
LOCATION:IL
ATTACH;FMTTYPE=image/png:https://sjjcouncil.org/wp-content/uploads/2025/10/Civic-Engagement-Workshop-2025-scaled.png
END:VEVENT
BEGIN:VEVENT
DTSTART;TZID=UTC:20260702T154500
DTEND;TZID=UTC:20260702T174500
DTSTAMP:20260420T051137
CREATED:20251017T015654Z
LAST-MODIFIED:20251120T193415Z
UID:10000487-1783007100-1783014300@sjjcouncil.org
SUMMARY:Civic Engagement Workshop
DESCRIPTION:
URL:https://sjjcouncil.org/event/civic-engagement-workshop/2026-07-02/
LOCATION:IL
ATTACH;FMTTYPE=image/png:https://sjjcouncil.org/wp-content/uploads/2025/10/Civic-Engagement-Workshop-2025-scaled.png
END:VEVENT
BEGIN:VEVENT
DTSTART;TZID=UTC:20260706T154500
DTEND;TZID=UTC:20260706T174500
DTSTAMP:20260420T051137
CREATED:20251017T015654Z
LAST-MODIFIED:20251120T193415Z
UID:10000488-1783352700-1783359900@sjjcouncil.org
SUMMARY:Civic Engagement Workshop
DESCRIPTION:
URL:https://sjjcouncil.org/event/civic-engagement-workshop/2026-07-06/
LOCATION:IL
ATTACH;FMTTYPE=image/png:https://sjjcouncil.org/wp-content/uploads/2025/10/Civic-Engagement-Workshop-2025-scaled.png
END:VEVENT
BEGIN:VEVENT
DTSTART;TZID=UTC:20260707T154500
DTEND;TZID=UTC:20260707T174500
DTSTAMP:20260420T051137
CREATED:20251017T015654Z
LAST-MODIFIED:20251120T193415Z
UID:10000489-1783439100-1783446300@sjjcouncil.org
SUMMARY:Civic Engagement Workshop
DESCRIPTION:
URL:https://sjjcouncil.org/event/civic-engagement-workshop/2026-07-07/
LOCATION:IL
ATTACH;FMTTYPE=image/png:https://sjjcouncil.org/wp-content/uploads/2025/10/Civic-Engagement-Workshop-2025-scaled.png
END:VEVENT
BEGIN:VEVENT
DTSTART;TZID=UTC:20260708T134500
DTEND;TZID=UTC:20260708T150000
DTSTAMP:20260420T051137
CREATED:20251017T015738Z
LAST-MODIFIED:20251120T193136Z
UID:10002093-1783518300-1783522800@sjjcouncil.org
SUMMARY:Civic Engagement Workshop
DESCRIPTION:
URL:https://sjjcouncil.org/event/civic-engagement-workshop-2/2026-07-08/
LOCATION:IL
ATTACH;FMTTYPE=image/png:https://sjjcouncil.org/wp-content/uploads/2025/10/Civic-Engagement-Workshop-2025-scaled.png
END:VEVENT
BEGIN:VEVENT
DTSTART;TZID=UTC:20260709T154500
DTEND;TZID=UTC:20260709T174500
DTSTAMP:20260420T051137
CREATED:20251017T015654Z
LAST-MODIFIED:20251120T193415Z
UID:10000490-1783611900-1783619100@sjjcouncil.org
SUMMARY:Civic Engagement Workshop
DESCRIPTION:
URL:https://sjjcouncil.org/event/civic-engagement-workshop/2026-07-09/
LOCATION:IL
ATTACH;FMTTYPE=image/png:https://sjjcouncil.org/wp-content/uploads/2025/10/Civic-Engagement-Workshop-2025-scaled.png
END:VEVENT
BEGIN:VEVENT
DTSTART;TZID=UTC:20260713T154500
DTEND;TZID=UTC:20260713T174500
DTSTAMP:20260420T051137
CREATED:20251017T015654Z
LAST-MODIFIED:20251120T193415Z
UID:10000491-1783957500-1783964700@sjjcouncil.org
SUMMARY:Civic Engagement Workshop
DESCRIPTION:
URL:https://sjjcouncil.org/event/civic-engagement-workshop/2026-07-13/
LOCATION:IL
ATTACH;FMTTYPE=image/png:https://sjjcouncil.org/wp-content/uploads/2025/10/Civic-Engagement-Workshop-2025-scaled.png
END:VEVENT
BEGIN:VEVENT
DTSTART;TZID=UTC:20260714T154500
DTEND;TZID=UTC:20260714T174500
DTSTAMP:20260420T051137
CREATED:20251017T015654Z
LAST-MODIFIED:20251120T193415Z
UID:10000492-1784043900-1784051100@sjjcouncil.org
SUMMARY:Civic Engagement Workshop
DESCRIPTION:
URL:https://sjjcouncil.org/event/civic-engagement-workshop/2026-07-14/
LOCATION:IL
ATTACH;FMTTYPE=image/png:https://sjjcouncil.org/wp-content/uploads/2025/10/Civic-Engagement-Workshop-2025-scaled.png
END:VEVENT
BEGIN:VEVENT
DTSTART;TZID=UTC:20260715T134500
DTEND;TZID=UTC:20260715T150000
DTSTAMP:20260420T051137
CREATED:20251017T015738Z
LAST-MODIFIED:20251120T193136Z
UID:10002096-1784123100-1784127600@sjjcouncil.org
SUMMARY:Civic Engagement Workshop
DESCRIPTION:
URL:https://sjjcouncil.org/event/civic-engagement-workshop-2/2026-07-15/
LOCATION:IL
ATTACH;FMTTYPE=image/png:https://sjjcouncil.org/wp-content/uploads/2025/10/Civic-Engagement-Workshop-2025-scaled.png
END:VEVENT
BEGIN:VEVENT
DTSTART;TZID=UTC:20260716T154500
DTEND;TZID=UTC:20260716T174500
DTSTAMP:20260420T051137
CREATED:20251017T015654Z
LAST-MODIFIED:20251120T193415Z
UID:10000493-1784216700-1784223900@sjjcouncil.org
SUMMARY:Civic Engagement Workshop
DESCRIPTION:
URL:https://sjjcouncil.org/event/civic-engagement-workshop/2026-07-16/
LOCATION:IL
ATTACH;FMTTYPE=image/png:https://sjjcouncil.org/wp-content/uploads/2025/10/Civic-Engagement-Workshop-2025-scaled.png
END:VEVENT
BEGIN:VEVENT
DTSTART;TZID=UTC:20260720T154500
DTEND;TZID=UTC:20260720T174500
DTSTAMP:20260420T051137
CREATED:20251017T015654Z
LAST-MODIFIED:20251120T193415Z
UID:10000494-1784562300-1784569500@sjjcouncil.org
SUMMARY:Civic Engagement Workshop
DESCRIPTION:
URL:https://sjjcouncil.org/event/civic-engagement-workshop/2026-07-20/
LOCATION:IL
ATTACH;FMTTYPE=image/png:https://sjjcouncil.org/wp-content/uploads/2025/10/Civic-Engagement-Workshop-2025-scaled.png
END:VEVENT
BEGIN:VEVENT
DTSTART;TZID=UTC:20260721T154500
DTEND;TZID=UTC:20260721T174500
DTSTAMP:20260420T051137
CREATED:20251017T015654Z
LAST-MODIFIED:20251120T193415Z
UID:10000495-1784648700-1784655900@sjjcouncil.org
SUMMARY:Civic Engagement Workshop
DESCRIPTION:
URL:https://sjjcouncil.org/event/civic-engagement-workshop/2026-07-21/
LOCATION:IL
ATTACH;FMTTYPE=image/png:https://sjjcouncil.org/wp-content/uploads/2025/10/Civic-Engagement-Workshop-2025-scaled.png
END:VEVENT
BEGIN:VEVENT
DTSTART;TZID=UTC:20260722T134500
DTEND;TZID=UTC:20260722T150000
DTSTAMP:20260420T051137
CREATED:20251017T015738Z
LAST-MODIFIED:20251120T193136Z
UID:10002099-1784727900-1784732400@sjjcouncil.org
SUMMARY:Civic Engagement Workshop
DESCRIPTION:
URL:https://sjjcouncil.org/event/civic-engagement-workshop-2/2026-07-22/
LOCATION:IL
ATTACH;FMTTYPE=image/png:https://sjjcouncil.org/wp-content/uploads/2025/10/Civic-Engagement-Workshop-2025-scaled.png
END:VEVENT
BEGIN:VEVENT
DTSTART;TZID=UTC:20260723T154500
DTEND;TZID=UTC:20260723T174500
DTSTAMP:20260420T051137
CREATED:20251017T015654Z
LAST-MODIFIED:20251120T193415Z
UID:10000496-1784821500-1784828700@sjjcouncil.org
SUMMARY:Civic Engagement Workshop
DESCRIPTION:
URL:https://sjjcouncil.org/event/civic-engagement-workshop/2026-07-23/
LOCATION:IL
ATTACH;FMTTYPE=image/png:https://sjjcouncil.org/wp-content/uploads/2025/10/Civic-Engagement-Workshop-2025-scaled.png
END:VEVENT
BEGIN:VEVENT
DTSTART;TZID=UTC:20260727T154500
DTEND;TZID=UTC:20260727T174500
DTSTAMP:20260420T051137
CREATED:20251017T015654Z
LAST-MODIFIED:20251120T193415Z
UID:10000497-1785167100-1785174300@sjjcouncil.org
SUMMARY:Civic Engagement Workshop
DESCRIPTION:
URL:https://sjjcouncil.org/event/civic-engagement-workshop/2026-07-27/
LOCATION:IL
ATTACH;FMTTYPE=image/png:https://sjjcouncil.org/wp-content/uploads/2025/10/Civic-Engagement-Workshop-2025-scaled.png
END:VEVENT
BEGIN:VEVENT
DTSTART;TZID=UTC:20260728T154500
DTEND;TZID=UTC:20260728T174500
DTSTAMP:20260420T051137
CREATED:20251017T015654Z
LAST-MODIFIED:20251120T193415Z
UID:10000498-1785253500-1785260700@sjjcouncil.org
SUMMARY:Civic Engagement Workshop
DESCRIPTION:
URL:https://sjjcouncil.org/event/civic-engagement-workshop/2026-07-28/
LOCATION:IL
ATTACH;FMTTYPE=image/png:https://sjjcouncil.org/wp-content/uploads/2025/10/Civic-Engagement-Workshop-2025-scaled.png
END:VEVENT
BEGIN:VEVENT
DTSTART;TZID=UTC:20260729T134500
DTEND;TZID=UTC:20260729T150000
DTSTAMP:20260420T051137
CREATED:20251017T015738Z
LAST-MODIFIED:20251120T193136Z
UID:10002102-1785332700-1785337200@sjjcouncil.org
SUMMARY:Civic Engagement Workshop
DESCRIPTION:
URL:https://sjjcouncil.org/event/civic-engagement-workshop-2/2026-07-29/
LOCATION:IL
ATTACH;FMTTYPE=image/png:https://sjjcouncil.org/wp-content/uploads/2025/10/Civic-Engagement-Workshop-2025-scaled.png
END:VEVENT
BEGIN:VEVENT
DTSTART;TZID=UTC:20260730T154500
DTEND;TZID=UTC:20260730T174500
DTSTAMP:20260420T051137
CREATED:20251017T015654Z
LAST-MODIFIED:20251120T193415Z
UID:10000499-1785426300-1785433500@sjjcouncil.org
SUMMARY:Civic Engagement Workshop
DESCRIPTION:
URL:https://sjjcouncil.org/event/civic-engagement-workshop/2026-07-30/
LOCATION:IL
ATTACH;FMTTYPE=image/png:https://sjjcouncil.org/wp-content/uploads/2025/10/Civic-Engagement-Workshop-2025-scaled.png
END:VEVENT
END:VCALENDAR