BEGIN:VCALENDAR
VERSION:2.0
PRODID:-//CCSJJC - ECPv6.15.20//NONSGML v1.0//EN
CALSCALE:GREGORIAN
METHOD:PUBLISH
X-ORIGINAL-URL:https://sjjcouncil.org
X-WR-CALDESC:Events for CCSJJC
REFRESH-INTERVAL;VALUE=DURATION:PT1H
X-Robots-Tag:noindex
X-PUBLISHED-TTL:PT1H
BEGIN:VTIMEZONE
TZID:UTC
BEGIN:STANDARD
TZOFFSETFROM:+0000
TZOFFSETTO:+0000
TZNAME:UTC
DTSTART:20240101T000000
END:STANDARD
END:VTIMEZONE
BEGIN:VTIMEZONE
TZID:America/Chicago
BEGIN:DAYLIGHT
TZOFFSETFROM:-0600
TZOFFSETTO:-0500
TZNAME:CDT
DTSTART:20240310T080000
END:DAYLIGHT
BEGIN:STANDARD
TZOFFSETFROM:-0500
TZOFFSETTO:-0600
TZNAME:CST
DTSTART:20241103T070000
END:STANDARD
BEGIN:DAYLIGHT
TZOFFSETFROM:-0600
TZOFFSETTO:-0500
TZNAME:CDT
DTSTART:20250309T080000
END:DAYLIGHT
BEGIN:STANDARD
TZOFFSETFROM:-0500
TZOFFSETTO:-0600
TZNAME:CST
DTSTART:20251102T070000
END:STANDARD
BEGIN:DAYLIGHT
TZOFFSETFROM:-0600
TZOFFSETTO:-0500
TZNAME:CDT
DTSTART:20260308T080000
END:DAYLIGHT
BEGIN:STANDARD
TZOFFSETFROM:-0500
TZOFFSETTO:-0600
TZNAME:CST
DTSTART:20261101T070000
END:STANDARD
END:VTIMEZONE
BEGIN:VEVENT
DTSTART;TZID=UTC:20251201T154500
DTEND;TZID=UTC:20251201T174500
DTSTAMP:20260420T070104
CREATED:20251017T015654Z
LAST-MODIFIED:20251120T193415Z
UID:10000395-1764603900-1764611100@sjjcouncil.org
SUMMARY:Civic Engagement Workshop
DESCRIPTION:
URL:https://sjjcouncil.org/event/civic-engagement-workshop/2025-12-01/
LOCATION:IL
ATTACH;FMTTYPE=image/png:https://sjjcouncil.org/wp-content/uploads/2025/10/Civic-Engagement-Workshop-2025-scaled.png
END:VEVENT
BEGIN:VEVENT
DTSTART;TZID=UTC:20251202T154500
DTEND;TZID=UTC:20251202T174500
DTSTAMP:20260420T070104
CREATED:20251017T015654Z
LAST-MODIFIED:20251120T193415Z
UID:10000396-1764690300-1764697500@sjjcouncil.org
SUMMARY:Civic Engagement Workshop
DESCRIPTION:
URL:https://sjjcouncil.org/event/civic-engagement-workshop/2025-12-02/
LOCATION:IL
ATTACH;FMTTYPE=image/png:https://sjjcouncil.org/wp-content/uploads/2025/10/Civic-Engagement-Workshop-2025-scaled.png
END:VEVENT
BEGIN:VEVENT
DTSTART;TZID=UTC:20251203T134500
DTEND;TZID=UTC:20251203T150000
DTSTAMP:20260420T070104
CREATED:20251017T015738Z
LAST-MODIFIED:20251120T193136Z
UID:10002000-1764769500-1764774000@sjjcouncil.org
SUMMARY:Civic Engagement Workshop
DESCRIPTION:
URL:https://sjjcouncil.org/event/civic-engagement-workshop-2/2025-12-03/
LOCATION:IL
ATTACH;FMTTYPE=image/png:https://sjjcouncil.org/wp-content/uploads/2025/10/Civic-Engagement-Workshop-2025-scaled.png
END:VEVENT
BEGIN:VEVENT
DTSTART;TZID=America/Chicago:20251204T153000
DTEND;TZID=America/Chicago:20251204T180000
DTSTAMP:20260420T070104
CREATED:20251110T190828Z
LAST-MODIFIED:20251110T190839Z
UID:10002768-1764862200-1764871200@sjjcouncil.org
SUMMARY:Listening Session
DESCRIPTION:
URL:https://sjjcouncil.org/event/listening-session-3/
LOCATION:Thornridge High School\, 15000 Cottage Grove Ave\, Dolton\, IL\, United States
ATTACH;FMTTYPE=image/png:https://sjjcouncil.org/wp-content/uploads/2025/11/12.4.2025_SJJC_Listening-Session.png
END:VEVENT
BEGIN:VEVENT
DTSTART;TZID=UTC:20251204T154500
DTEND;TZID=UTC:20251204T174500
DTSTAMP:20260420T070104
CREATED:20251017T015654Z
LAST-MODIFIED:20251120T193415Z
UID:10000397-1764863100-1764870300@sjjcouncil.org
SUMMARY:Civic Engagement Workshop
DESCRIPTION:
URL:https://sjjcouncil.org/event/civic-engagement-workshop/2025-12-04/
LOCATION:IL
ATTACH;FMTTYPE=image/png:https://sjjcouncil.org/wp-content/uploads/2025/10/Civic-Engagement-Workshop-2025-scaled.png
END:VEVENT
BEGIN:VEVENT
DTSTART;TZID=UTC:20251208T154500
DTEND;TZID=UTC:20251208T174500
DTSTAMP:20260420T070104
CREATED:20251017T015654Z
LAST-MODIFIED:20251120T193415Z
UID:10000398-1765208700-1765215900@sjjcouncil.org
SUMMARY:Civic Engagement Workshop
DESCRIPTION:
URL:https://sjjcouncil.org/event/civic-engagement-workshop/2025-12-08/
LOCATION:IL
ATTACH;FMTTYPE=image/png:https://sjjcouncil.org/wp-content/uploads/2025/10/Civic-Engagement-Workshop-2025-scaled.png
END:VEVENT
BEGIN:VEVENT
DTSTART;TZID=UTC:20251209T154500
DTEND;TZID=UTC:20251209T174500
DTSTAMP:20260420T070104
CREATED:20251017T015654Z
LAST-MODIFIED:20251120T193415Z
UID:10000399-1765295100-1765302300@sjjcouncil.org
SUMMARY:Civic Engagement Workshop
DESCRIPTION:
URL:https://sjjcouncil.org/event/civic-engagement-workshop/2025-12-09/
LOCATION:IL
ATTACH;FMTTYPE=image/png:https://sjjcouncil.org/wp-content/uploads/2025/10/Civic-Engagement-Workshop-2025-scaled.png
END:VEVENT
BEGIN:VEVENT
DTSTART;TZID=UTC:20251210T134500
DTEND;TZID=UTC:20251210T150000
DTSTAMP:20260420T070104
CREATED:20251017T015738Z
LAST-MODIFIED:20251120T193136Z
UID:10002003-1765374300-1765378800@sjjcouncil.org
SUMMARY:Civic Engagement Workshop
DESCRIPTION:
URL:https://sjjcouncil.org/event/civic-engagement-workshop-2/2025-12-10/
LOCATION:IL
ATTACH;FMTTYPE=image/png:https://sjjcouncil.org/wp-content/uploads/2025/10/Civic-Engagement-Workshop-2025-scaled.png
END:VEVENT
BEGIN:VEVENT
DTSTART;TZID=UTC:20251211T154500
DTEND;TZID=UTC:20251211T174500
DTSTAMP:20260420T070104
CREATED:20251017T015654Z
LAST-MODIFIED:20251120T193415Z
UID:10000400-1765467900-1765475100@sjjcouncil.org
SUMMARY:Civic Engagement Workshop
DESCRIPTION:
URL:https://sjjcouncil.org/event/civic-engagement-workshop/2025-12-11/
LOCATION:IL
ATTACH;FMTTYPE=image/png:https://sjjcouncil.org/wp-content/uploads/2025/10/Civic-Engagement-Workshop-2025-scaled.png
END:VEVENT
BEGIN:VEVENT
DTSTART;TZID=America/Chicago:20251212T183000
DTEND;TZID=America/Chicago:20251212T193000
DTSTAMP:20260420T070104
CREATED:20251208T191025Z
LAST-MODIFIED:20251208T191025Z
UID:10002793-1765564200-1765567800@sjjcouncil.org
SUMMARY:Meditation and Movement Workshop
DESCRIPTION:
URL:https://sjjcouncil.org/event/meditation-and-movement-workshop/
LOCATION:Louis Sherman Community Center\, 3501 Hopkins St.\, Steger\, IL\, United States
ATTACH;FMTTYPE=image/png:https://sjjcouncil.org/wp-content/uploads/2025/12/12.12.25_MooreLuv_Meditation_QRCode_printable-1-scaled.png
ORGANIZER;CN="MooreLuv":MAILTO:Moor3luv@gmail.com
END:VEVENT
BEGIN:VEVENT
DTSTART;TZID=America/Chicago:20251213T130000
DTEND;TZID=America/Chicago:20251213T150000
DTSTAMP:20260420T070104
CREATED:20251110T191303Z
LAST-MODIFIED:20251110T191303Z
UID:10002769-1765630800-1765638000@sjjcouncil.org
SUMMARY:Caregivers Connect: Unplugged
DESCRIPTION:
URL:https://sjjcouncil.org/event/caregivers-connect-unplugged/
LOCATION:Calumet City Public Library\, 660 Manistee Ave\, Calumet City\, 60406
ATTACH;FMTTYPE=image/png:https://sjjcouncil.org/wp-content/uploads/2025/11/12.13.2025_Resiliance-Hub_Caregiver-Connect_1.png
END:VEVENT
BEGIN:VEVENT
DTSTART;TZID=UTC:20251214T113000
DTEND;TZID=UTC:20251214T140000
DTSTAMP:20260420T070104
CREATED:20251110T191516Z
LAST-MODIFIED:20251110T191516Z
UID:10002770-1765711800-1765720800@sjjcouncil.org
SUMMARY:WGGT Market Day
DESCRIPTION:
URL:https://sjjcouncil.org/event/wggt-market-day/
LOCATION:New Community Church\, 14801 Lincoln Ave\, Dolton\, IL\, 60419
ORGANIZER;CN="When Girls Get Together":MAILTO:info@wggti.org
END:VEVENT
BEGIN:VEVENT
DTSTART;TZID=UTC:20251215T154500
DTEND;TZID=UTC:20251215T174500
DTSTAMP:20260420T070104
CREATED:20251017T015654Z
LAST-MODIFIED:20251120T193415Z
UID:10000401-1765813500-1765820700@sjjcouncil.org
SUMMARY:Civic Engagement Workshop
DESCRIPTION:
URL:https://sjjcouncil.org/event/civic-engagement-workshop/2025-12-15/
LOCATION:IL
ATTACH;FMTTYPE=image/png:https://sjjcouncil.org/wp-content/uploads/2025/10/Civic-Engagement-Workshop-2025-scaled.png
END:VEVENT
BEGIN:VEVENT
DTSTART;TZID=UTC:20251216T154500
DTEND;TZID=UTC:20251216T174500
DTSTAMP:20260420T070104
CREATED:20251017T015654Z
LAST-MODIFIED:20251120T193415Z
UID:10000402-1765899900-1765907100@sjjcouncil.org
SUMMARY:Civic Engagement Workshop
DESCRIPTION:
URL:https://sjjcouncil.org/event/civic-engagement-workshop/2025-12-16/
LOCATION:IL
ATTACH;FMTTYPE=image/png:https://sjjcouncil.org/wp-content/uploads/2025/10/Civic-Engagement-Workshop-2025-scaled.png
END:VEVENT
BEGIN:VEVENT
DTSTART;TZID=UTC:20251218T154500
DTEND;TZID=UTC:20251218T174500
DTSTAMP:20260420T070104
CREATED:20251017T015654Z
LAST-MODIFIED:20251120T193415Z
UID:10000403-1766072700-1766079900@sjjcouncil.org
SUMMARY:Civic Engagement Workshop
DESCRIPTION:
URL:https://sjjcouncil.org/event/civic-engagement-workshop/2025-12-18/
LOCATION:IL
ATTACH;FMTTYPE=image/png:https://sjjcouncil.org/wp-content/uploads/2025/10/Civic-Engagement-Workshop-2025-scaled.png
END:VEVENT
END:VCALENDAR