BEGIN:VCALENDAR
VERSION:2.0
PRODID:-//CCSJJC - ECPv6.15.20//NONSGML v1.0//EN
CALSCALE:GREGORIAN
METHOD:PUBLISH
X-WR-CALNAME:CCSJJC
X-ORIGINAL-URL:https://sjjcouncil.org
X-WR-CALDESC:Events for CCSJJC
REFRESH-INTERVAL;VALUE=DURATION:PT1H
X-Robots-Tag:noindex
X-PUBLISHED-TTL:PT1H
BEGIN:VTIMEZONE
TZID:UTC
BEGIN:STANDARD
TZOFFSETFROM:+0000
TZOFFSETTO:+0000
TZNAME:UTC
DTSTART:20270101T000000
END:STANDARD
END:VTIMEZONE
BEGIN:VEVENT
DTSTART;TZID=UTC:20280328T154500
DTEND;TZID=UTC:20280328T174500
DTSTAMP:20260422T173956
CREATED:20251017T015654Z
LAST-MODIFIED:20251120T193415Z
UID:10000759-1837871100-1837878300@sjjcouncil.org
SUMMARY:Civic Engagement Workshop
DESCRIPTION:
URL:https://sjjcouncil.org/event/civic-engagement-workshop/2028-03-28/
ATTACH;FMTTYPE=image/png:https://sjjcouncil.org/wp-content/uploads/2025/10/Civic-Engagement-Workshop-2025-scaled.png
END:VEVENT
BEGIN:VEVENT
DTSTART;TZID=UTC:20280329T134500
DTEND;TZID=UTC:20280329T150000
DTSTAMP:20260422T173956
CREATED:20251017T015738Z
LAST-MODIFIED:20251120T193136Z
UID:10002363-1837950300-1837954800@sjjcouncil.org
SUMMARY:Civic Engagement Workshop
DESCRIPTION:
URL:https://sjjcouncil.org/event/civic-engagement-workshop-2/2028-03-29/
ATTACH;FMTTYPE=image/png:https://sjjcouncil.org/wp-content/uploads/2025/10/Civic-Engagement-Workshop-2025-scaled.png
END:VEVENT
BEGIN:VEVENT
DTSTART;TZID=UTC:20280330T154500
DTEND;TZID=UTC:20280330T174500
DTSTAMP:20260422T173956
CREATED:20251017T015654Z
LAST-MODIFIED:20251120T193415Z
UID:10000760-1838043900-1838051100@sjjcouncil.org
SUMMARY:Civic Engagement Workshop
DESCRIPTION:
URL:https://sjjcouncil.org/event/civic-engagement-workshop/2028-03-30/
ATTACH;FMTTYPE=image/png:https://sjjcouncil.org/wp-content/uploads/2025/10/Civic-Engagement-Workshop-2025-scaled.png
END:VEVENT
BEGIN:VEVENT
DTSTART;TZID=UTC:20280403T154500
DTEND;TZID=UTC:20280403T174500
DTSTAMP:20260422T173956
CREATED:20251017T015654Z
LAST-MODIFIED:20251120T193415Z
UID:10000761-1838389500-1838396700@sjjcouncil.org
SUMMARY:Civic Engagement Workshop
DESCRIPTION:
URL:https://sjjcouncil.org/event/civic-engagement-workshop/2028-04-03/
ATTACH;FMTTYPE=image/png:https://sjjcouncil.org/wp-content/uploads/2025/10/Civic-Engagement-Workshop-2025-scaled.png
END:VEVENT
BEGIN:VEVENT
DTSTART;TZID=UTC:20280404T154500
DTEND;TZID=UTC:20280404T174500
DTSTAMP:20260422T173956
CREATED:20251017T015654Z
LAST-MODIFIED:20251120T193415Z
UID:10000762-1838475900-1838483100@sjjcouncil.org
SUMMARY:Civic Engagement Workshop
DESCRIPTION:
URL:https://sjjcouncil.org/event/civic-engagement-workshop/2028-04-04/
ATTACH;FMTTYPE=image/png:https://sjjcouncil.org/wp-content/uploads/2025/10/Civic-Engagement-Workshop-2025-scaled.png
END:VEVENT
BEGIN:VEVENT
DTSTART;TZID=UTC:20280405T134500
DTEND;TZID=UTC:20280405T150000
DTSTAMP:20260422T173956
CREATED:20251017T015738Z
LAST-MODIFIED:20251120T193136Z
UID:10002366-1838555100-1838559600@sjjcouncil.org
SUMMARY:Civic Engagement Workshop
DESCRIPTION:
URL:https://sjjcouncil.org/event/civic-engagement-workshop-2/2028-04-05/
ATTACH;FMTTYPE=image/png:https://sjjcouncil.org/wp-content/uploads/2025/10/Civic-Engagement-Workshop-2025-scaled.png
END:VEVENT
BEGIN:VEVENT
DTSTART;TZID=UTC:20280406T154500
DTEND;TZID=UTC:20280406T174500
DTSTAMP:20260422T173956
CREATED:20251017T015654Z
LAST-MODIFIED:20251120T193415Z
UID:10000763-1838648700-1838655900@sjjcouncil.org
SUMMARY:Civic Engagement Workshop
DESCRIPTION:
URL:https://sjjcouncil.org/event/civic-engagement-workshop/2028-04-06/
ATTACH;FMTTYPE=image/png:https://sjjcouncil.org/wp-content/uploads/2025/10/Civic-Engagement-Workshop-2025-scaled.png
END:VEVENT
BEGIN:VEVENT
DTSTART;TZID=UTC:20280410T154500
DTEND;TZID=UTC:20280410T174500
DTSTAMP:20260422T173956
CREATED:20251017T015654Z
LAST-MODIFIED:20251120T193415Z
UID:10000764-1838994300-1839001500@sjjcouncil.org
SUMMARY:Civic Engagement Workshop
DESCRIPTION:
URL:https://sjjcouncil.org/event/civic-engagement-workshop/2028-04-10/
ATTACH;FMTTYPE=image/png:https://sjjcouncil.org/wp-content/uploads/2025/10/Civic-Engagement-Workshop-2025-scaled.png
END:VEVENT
BEGIN:VEVENT
DTSTART;TZID=UTC:20280411T154500
DTEND;TZID=UTC:20280411T174500
DTSTAMP:20260422T173956
CREATED:20251017T015654Z
LAST-MODIFIED:20251120T193415Z
UID:10000765-1839080700-1839087900@sjjcouncil.org
SUMMARY:Civic Engagement Workshop
DESCRIPTION:
URL:https://sjjcouncil.org/event/civic-engagement-workshop/2028-04-11/
ATTACH;FMTTYPE=image/png:https://sjjcouncil.org/wp-content/uploads/2025/10/Civic-Engagement-Workshop-2025-scaled.png
END:VEVENT
BEGIN:VEVENT
DTSTART;TZID=UTC:20280412T134500
DTEND;TZID=UTC:20280412T150000
DTSTAMP:20260422T173956
CREATED:20251017T015738Z
LAST-MODIFIED:20251120T193136Z
UID:10002369-1839159900-1839164400@sjjcouncil.org
SUMMARY:Civic Engagement Workshop
DESCRIPTION:
URL:https://sjjcouncil.org/event/civic-engagement-workshop-2/2028-04-12/
ATTACH;FMTTYPE=image/png:https://sjjcouncil.org/wp-content/uploads/2025/10/Civic-Engagement-Workshop-2025-scaled.png
END:VEVENT
BEGIN:VEVENT
DTSTART;TZID=UTC:20280413T154500
DTEND;TZID=UTC:20280413T174500
DTSTAMP:20260422T173956
CREATED:20251017T015654Z
LAST-MODIFIED:20251120T193415Z
UID:10000766-1839253500-1839260700@sjjcouncil.org
SUMMARY:Civic Engagement Workshop
DESCRIPTION:
URL:https://sjjcouncil.org/event/civic-engagement-workshop/2028-04-13/
ATTACH;FMTTYPE=image/png:https://sjjcouncil.org/wp-content/uploads/2025/10/Civic-Engagement-Workshop-2025-scaled.png
END:VEVENT
BEGIN:VEVENT
DTSTART;TZID=UTC:20280417T154500
DTEND;TZID=UTC:20280417T174500
DTSTAMP:20260422T173956
CREATED:20251017T015654Z
LAST-MODIFIED:20251120T193415Z
UID:10000767-1839599100-1839606300@sjjcouncil.org
SUMMARY:Civic Engagement Workshop
DESCRIPTION:
URL:https://sjjcouncil.org/event/civic-engagement-workshop/2028-04-17/
ATTACH;FMTTYPE=image/png:https://sjjcouncil.org/wp-content/uploads/2025/10/Civic-Engagement-Workshop-2025-scaled.png
END:VEVENT
BEGIN:VEVENT
DTSTART;TZID=UTC:20280418T154500
DTEND;TZID=UTC:20280418T174500
DTSTAMP:20260422T173956
CREATED:20251017T015654Z
LAST-MODIFIED:20251120T193415Z
UID:10000768-1839685500-1839692700@sjjcouncil.org
SUMMARY:Civic Engagement Workshop
DESCRIPTION:
URL:https://sjjcouncil.org/event/civic-engagement-workshop/2028-04-18/
ATTACH;FMTTYPE=image/png:https://sjjcouncil.org/wp-content/uploads/2025/10/Civic-Engagement-Workshop-2025-scaled.png
END:VEVENT
BEGIN:VEVENT
DTSTART;TZID=UTC:20280419T134500
DTEND;TZID=UTC:20280419T150000
DTSTAMP:20260422T173956
CREATED:20251017T015738Z
LAST-MODIFIED:20251120T193136Z
UID:10002372-1839764700-1839769200@sjjcouncil.org
SUMMARY:Civic Engagement Workshop
DESCRIPTION:
URL:https://sjjcouncil.org/event/civic-engagement-workshop-2/2028-04-19/
ATTACH;FMTTYPE=image/png:https://sjjcouncil.org/wp-content/uploads/2025/10/Civic-Engagement-Workshop-2025-scaled.png
END:VEVENT
BEGIN:VEVENT
DTSTART;TZID=UTC:20280420T154500
DTEND;TZID=UTC:20280420T174500
DTSTAMP:20260422T173956
CREATED:20251017T015654Z
LAST-MODIFIED:20251120T193415Z
UID:10000769-1839858300-1839865500@sjjcouncil.org
SUMMARY:Civic Engagement Workshop
DESCRIPTION:
URL:https://sjjcouncil.org/event/civic-engagement-workshop/2028-04-20/
ATTACH;FMTTYPE=image/png:https://sjjcouncil.org/wp-content/uploads/2025/10/Civic-Engagement-Workshop-2025-scaled.png
END:VEVENT
BEGIN:VEVENT
DTSTART;TZID=UTC:20280424T154500
DTEND;TZID=UTC:20280424T174500
DTSTAMP:20260422T173956
CREATED:20251017T015654Z
LAST-MODIFIED:20251120T193415Z
UID:10000770-1840203900-1840211100@sjjcouncil.org
SUMMARY:Civic Engagement Workshop
DESCRIPTION:
URL:https://sjjcouncil.org/event/civic-engagement-workshop/2028-04-24/
ATTACH;FMTTYPE=image/png:https://sjjcouncil.org/wp-content/uploads/2025/10/Civic-Engagement-Workshop-2025-scaled.png
END:VEVENT
BEGIN:VEVENT
DTSTART;TZID=UTC:20280425T154500
DTEND;TZID=UTC:20280425T174500
DTSTAMP:20260422T173956
CREATED:20251017T015654Z
LAST-MODIFIED:20251120T193415Z
UID:10000771-1840290300-1840297500@sjjcouncil.org
SUMMARY:Civic Engagement Workshop
DESCRIPTION:
URL:https://sjjcouncil.org/event/civic-engagement-workshop/2028-04-25/
ATTACH;FMTTYPE=image/png:https://sjjcouncil.org/wp-content/uploads/2025/10/Civic-Engagement-Workshop-2025-scaled.png
END:VEVENT
BEGIN:VEVENT
DTSTART;TZID=UTC:20280426T134500
DTEND;TZID=UTC:20280426T150000
DTSTAMP:20260422T173956
CREATED:20251017T015738Z
LAST-MODIFIED:20251120T193136Z
UID:10002375-1840369500-1840374000@sjjcouncil.org
SUMMARY:Civic Engagement Workshop
DESCRIPTION:
URL:https://sjjcouncil.org/event/civic-engagement-workshop-2/2028-04-26/
ATTACH;FMTTYPE=image/png:https://sjjcouncil.org/wp-content/uploads/2025/10/Civic-Engagement-Workshop-2025-scaled.png
END:VEVENT
BEGIN:VEVENT
DTSTART;TZID=UTC:20280427T154500
DTEND;TZID=UTC:20280427T174500
DTSTAMP:20260422T173956
CREATED:20251017T015654Z
LAST-MODIFIED:20251120T193415Z
UID:10000772-1840463100-1840470300@sjjcouncil.org
SUMMARY:Civic Engagement Workshop
DESCRIPTION:
URL:https://sjjcouncil.org/event/civic-engagement-workshop/2028-04-27/
ATTACH;FMTTYPE=image/png:https://sjjcouncil.org/wp-content/uploads/2025/10/Civic-Engagement-Workshop-2025-scaled.png
END:VEVENT
BEGIN:VEVENT
DTSTART;TZID=UTC:20280501T154500
DTEND;TZID=UTC:20280501T174500
DTSTAMP:20260422T173956
CREATED:20251017T015654Z
LAST-MODIFIED:20251120T193415Z
UID:10000773-1840808700-1840815900@sjjcouncil.org
SUMMARY:Civic Engagement Workshop
DESCRIPTION:
URL:https://sjjcouncil.org/event/civic-engagement-workshop/2028-05-01/
ATTACH;FMTTYPE=image/png:https://sjjcouncil.org/wp-content/uploads/2025/10/Civic-Engagement-Workshop-2025-scaled.png
END:VEVENT
BEGIN:VEVENT
DTSTART;TZID=UTC:20280502T154500
DTEND;TZID=UTC:20280502T174500
DTSTAMP:20260422T173956
CREATED:20251017T015654Z
LAST-MODIFIED:20251120T193415Z
UID:10000774-1840895100-1840902300@sjjcouncil.org
SUMMARY:Civic Engagement Workshop
DESCRIPTION:
URL:https://sjjcouncil.org/event/civic-engagement-workshop/2028-05-02/
ATTACH;FMTTYPE=image/png:https://sjjcouncil.org/wp-content/uploads/2025/10/Civic-Engagement-Workshop-2025-scaled.png
END:VEVENT
BEGIN:VEVENT
DTSTART;TZID=UTC:20280503T134500
DTEND;TZID=UTC:20280503T150000
DTSTAMP:20260422T173956
CREATED:20251017T015738Z
LAST-MODIFIED:20251120T193136Z
UID:10002378-1840974300-1840978800@sjjcouncil.org
SUMMARY:Civic Engagement Workshop
DESCRIPTION:
URL:https://sjjcouncil.org/event/civic-engagement-workshop-2/2028-05-03/
ATTACH;FMTTYPE=image/png:https://sjjcouncil.org/wp-content/uploads/2025/10/Civic-Engagement-Workshop-2025-scaled.png
END:VEVENT
BEGIN:VEVENT
DTSTART;TZID=UTC:20280504T154500
DTEND;TZID=UTC:20280504T174500
DTSTAMP:20260422T173956
CREATED:20251017T015654Z
LAST-MODIFIED:20251120T193415Z
UID:10000775-1841067900-1841075100@sjjcouncil.org
SUMMARY:Civic Engagement Workshop
DESCRIPTION:
URL:https://sjjcouncil.org/event/civic-engagement-workshop/2028-05-04/
ATTACH;FMTTYPE=image/png:https://sjjcouncil.org/wp-content/uploads/2025/10/Civic-Engagement-Workshop-2025-scaled.png
END:VEVENT
BEGIN:VEVENT
DTSTART;TZID=UTC:20280508T154500
DTEND;TZID=UTC:20280508T174500
DTSTAMP:20260422T173956
CREATED:20251017T015654Z
LAST-MODIFIED:20251120T193415Z
UID:10000776-1841413500-1841420700@sjjcouncil.org
SUMMARY:Civic Engagement Workshop
DESCRIPTION:
URL:https://sjjcouncil.org/event/civic-engagement-workshop/2028-05-08/
ATTACH;FMTTYPE=image/png:https://sjjcouncil.org/wp-content/uploads/2025/10/Civic-Engagement-Workshop-2025-scaled.png
END:VEVENT
BEGIN:VEVENT
DTSTART;TZID=UTC:20280509T154500
DTEND;TZID=UTC:20280509T174500
DTSTAMP:20260422T173957
CREATED:20251017T015654Z
LAST-MODIFIED:20251120T193415Z
UID:10000777-1841499900-1841507100@sjjcouncil.org
SUMMARY:Civic Engagement Workshop
DESCRIPTION:
URL:https://sjjcouncil.org/event/civic-engagement-workshop/2028-05-09/
ATTACH;FMTTYPE=image/png:https://sjjcouncil.org/wp-content/uploads/2025/10/Civic-Engagement-Workshop-2025-scaled.png
END:VEVENT
BEGIN:VEVENT
DTSTART;TZID=UTC:20280510T134500
DTEND;TZID=UTC:20280510T150000
DTSTAMP:20260422T173957
CREATED:20251017T015738Z
LAST-MODIFIED:20251120T193136Z
UID:10002381-1841579100-1841583600@sjjcouncil.org
SUMMARY:Civic Engagement Workshop
DESCRIPTION:
URL:https://sjjcouncil.org/event/civic-engagement-workshop-2/2028-05-10/
ATTACH;FMTTYPE=image/png:https://sjjcouncil.org/wp-content/uploads/2025/10/Civic-Engagement-Workshop-2025-scaled.png
END:VEVENT
BEGIN:VEVENT
DTSTART;TZID=UTC:20280511T154500
DTEND;TZID=UTC:20280511T174500
DTSTAMP:20260422T173957
CREATED:20251017T015654Z
LAST-MODIFIED:20251120T193415Z
UID:10000778-1841672700-1841679900@sjjcouncil.org
SUMMARY:Civic Engagement Workshop
DESCRIPTION:
URL:https://sjjcouncil.org/event/civic-engagement-workshop/2028-05-11/
ATTACH;FMTTYPE=image/png:https://sjjcouncil.org/wp-content/uploads/2025/10/Civic-Engagement-Workshop-2025-scaled.png
END:VEVENT
BEGIN:VEVENT
DTSTART;TZID=UTC:20280515T154500
DTEND;TZID=UTC:20280515T174500
DTSTAMP:20260422T173957
CREATED:20251017T015654Z
LAST-MODIFIED:20251120T193415Z
UID:10000779-1842018300-1842025500@sjjcouncil.org
SUMMARY:Civic Engagement Workshop
DESCRIPTION:
URL:https://sjjcouncil.org/event/civic-engagement-workshop/2028-05-15/
ATTACH;FMTTYPE=image/png:https://sjjcouncil.org/wp-content/uploads/2025/10/Civic-Engagement-Workshop-2025-scaled.png
END:VEVENT
BEGIN:VEVENT
DTSTART;TZID=UTC:20280516T154500
DTEND;TZID=UTC:20280516T174500
DTSTAMP:20260422T173957
CREATED:20251017T015654Z
LAST-MODIFIED:20251120T193415Z
UID:10000780-1842104700-1842111900@sjjcouncil.org
SUMMARY:Civic Engagement Workshop
DESCRIPTION:
URL:https://sjjcouncil.org/event/civic-engagement-workshop/2028-05-16/
ATTACH;FMTTYPE=image/png:https://sjjcouncil.org/wp-content/uploads/2025/10/Civic-Engagement-Workshop-2025-scaled.png
END:VEVENT
BEGIN:VEVENT
DTSTART;TZID=UTC:20280517T134500
DTEND;TZID=UTC:20280517T150000
DTSTAMP:20260422T173957
CREATED:20251017T015738Z
LAST-MODIFIED:20251120T193136Z
UID:10002384-1842183900-1842188400@sjjcouncil.org
SUMMARY:Civic Engagement Workshop
DESCRIPTION:
URL:https://sjjcouncil.org/event/civic-engagement-workshop-2/2028-05-17/
ATTACH;FMTTYPE=image/png:https://sjjcouncil.org/wp-content/uploads/2025/10/Civic-Engagement-Workshop-2025-scaled.png
END:VEVENT
END:VCALENDAR