BEGIN:VCALENDAR
VERSION:2.0
PRODID:-//CCSJJC - ECPv6.15.20//NONSGML v1.0//EN
CALSCALE:GREGORIAN
METHOD:PUBLISH
X-WR-CALNAME:CCSJJC
X-ORIGINAL-URL:https://sjjcouncil.org
X-WR-CALDESC:Events for CCSJJC
REFRESH-INTERVAL;VALUE=DURATION:PT1H
X-Robots-Tag:noindex
X-PUBLISHED-TTL:PT1H
BEGIN:VTIMEZONE
TZID:UTC
BEGIN:STANDARD
TZOFFSETFROM:+0000
TZOFFSETTO:+0000
TZNAME:UTC
DTSTART:20250101T000000
END:STANDARD
END:VTIMEZONE
BEGIN:VEVENT
DTSTART;TZID=UTC:20261223T134500
DTEND;TZID=UTC:20261223T150000
DTSTAMP:20260421T004349
CREATED:20251017T015738Z
LAST-MODIFIED:20251120T193136Z
UID:10002165-1798033500-1798038000@sjjcouncil.org
SUMMARY:Civic Engagement Workshop
DESCRIPTION:
URL:https://sjjcouncil.org/event/civic-engagement-workshop-2/2026-12-23/
ATTACH;FMTTYPE=image/png:https://sjjcouncil.org/wp-content/uploads/2025/10/Civic-Engagement-Workshop-2025-scaled.png
END:VEVENT
BEGIN:VEVENT
DTSTART;TZID=UTC:20261224T154500
DTEND;TZID=UTC:20261224T174500
DTSTAMP:20260421T004349
CREATED:20251017T015654Z
LAST-MODIFIED:20251120T193415Z
UID:10000562-1798127100-1798134300@sjjcouncil.org
SUMMARY:Civic Engagement Workshop
DESCRIPTION:
URL:https://sjjcouncil.org/event/civic-engagement-workshop/2026-12-24/
ATTACH;FMTTYPE=image/png:https://sjjcouncil.org/wp-content/uploads/2025/10/Civic-Engagement-Workshop-2025-scaled.png
END:VEVENT
BEGIN:VEVENT
DTSTART;TZID=UTC:20261228T154500
DTEND;TZID=UTC:20261228T174500
DTSTAMP:20260421T004349
CREATED:20251017T015654Z
LAST-MODIFIED:20251120T193415Z
UID:10000563-1798472700-1798479900@sjjcouncil.org
SUMMARY:Civic Engagement Workshop
DESCRIPTION:
URL:https://sjjcouncil.org/event/civic-engagement-workshop/2026-12-28/
ATTACH;FMTTYPE=image/png:https://sjjcouncil.org/wp-content/uploads/2025/10/Civic-Engagement-Workshop-2025-scaled.png
END:VEVENT
BEGIN:VEVENT
DTSTART;TZID=UTC:20261229T154500
DTEND;TZID=UTC:20261229T174500
DTSTAMP:20260421T004349
CREATED:20251017T015654Z
LAST-MODIFIED:20251120T193415Z
UID:10000564-1798559100-1798566300@sjjcouncil.org
SUMMARY:Civic Engagement Workshop
DESCRIPTION:
URL:https://sjjcouncil.org/event/civic-engagement-workshop/2026-12-29/
ATTACH;FMTTYPE=image/png:https://sjjcouncil.org/wp-content/uploads/2025/10/Civic-Engagement-Workshop-2025-scaled.png
END:VEVENT
BEGIN:VEVENT
DTSTART;TZID=UTC:20261230T134500
DTEND;TZID=UTC:20261230T150000
DTSTAMP:20260421T004349
CREATED:20251017T015738Z
LAST-MODIFIED:20251120T193136Z
UID:10002168-1798638300-1798642800@sjjcouncil.org
SUMMARY:Civic Engagement Workshop
DESCRIPTION:
URL:https://sjjcouncil.org/event/civic-engagement-workshop-2/2026-12-30/
ATTACH;FMTTYPE=image/png:https://sjjcouncil.org/wp-content/uploads/2025/10/Civic-Engagement-Workshop-2025-scaled.png
END:VEVENT
BEGIN:VEVENT
DTSTART;TZID=UTC:20261231T154500
DTEND;TZID=UTC:20261231T174500
DTSTAMP:20260421T004349
CREATED:20251017T015654Z
LAST-MODIFIED:20251120T193415Z
UID:10000565-1798731900-1798739100@sjjcouncil.org
SUMMARY:Civic Engagement Workshop
DESCRIPTION:
URL:https://sjjcouncil.org/event/civic-engagement-workshop/2026-12-31/
ATTACH;FMTTYPE=image/png:https://sjjcouncil.org/wp-content/uploads/2025/10/Civic-Engagement-Workshop-2025-scaled.png
END:VEVENT
BEGIN:VEVENT
DTSTART;TZID=UTC:20270104T154500
DTEND;TZID=UTC:20270104T174500
DTSTAMP:20260421T004349
CREATED:20251017T015654Z
LAST-MODIFIED:20251120T193415Z
UID:10000566-1799077500-1799084700@sjjcouncil.org
SUMMARY:Civic Engagement Workshop
DESCRIPTION:
URL:https://sjjcouncil.org/event/civic-engagement-workshop/2027-01-04/
ATTACH;FMTTYPE=image/png:https://sjjcouncil.org/wp-content/uploads/2025/10/Civic-Engagement-Workshop-2025-scaled.png
END:VEVENT
BEGIN:VEVENT
DTSTART;TZID=UTC:20270105T154500
DTEND;TZID=UTC:20270105T174500
DTSTAMP:20260421T004349
CREATED:20251017T015654Z
LAST-MODIFIED:20251120T193415Z
UID:10000567-1799163900-1799171100@sjjcouncil.org
SUMMARY:Civic Engagement Workshop
DESCRIPTION:
URL:https://sjjcouncil.org/event/civic-engagement-workshop/2027-01-05/
ATTACH;FMTTYPE=image/png:https://sjjcouncil.org/wp-content/uploads/2025/10/Civic-Engagement-Workshop-2025-scaled.png
END:VEVENT
BEGIN:VEVENT
DTSTART;TZID=UTC:20270106T134500
DTEND;TZID=UTC:20270106T150000
DTSTAMP:20260421T004349
CREATED:20251017T015738Z
LAST-MODIFIED:20251120T193136Z
UID:10002171-1799243100-1799247600@sjjcouncil.org
SUMMARY:Civic Engagement Workshop
DESCRIPTION:
URL:https://sjjcouncil.org/event/civic-engagement-workshop-2/2027-01-06/
ATTACH;FMTTYPE=image/png:https://sjjcouncil.org/wp-content/uploads/2025/10/Civic-Engagement-Workshop-2025-scaled.png
END:VEVENT
BEGIN:VEVENT
DTSTART;TZID=UTC:20270107T154500
DTEND;TZID=UTC:20270107T174500
DTSTAMP:20260421T004349
CREATED:20251017T015654Z
LAST-MODIFIED:20251120T193415Z
UID:10000568-1799336700-1799343900@sjjcouncil.org
SUMMARY:Civic Engagement Workshop
DESCRIPTION:
URL:https://sjjcouncil.org/event/civic-engagement-workshop/2027-01-07/
ATTACH;FMTTYPE=image/png:https://sjjcouncil.org/wp-content/uploads/2025/10/Civic-Engagement-Workshop-2025-scaled.png
END:VEVENT
BEGIN:VEVENT
DTSTART;TZID=UTC:20270111T154500
DTEND;TZID=UTC:20270111T174500
DTSTAMP:20260421T004349
CREATED:20251017T015654Z
LAST-MODIFIED:20251120T193415Z
UID:10000569-1799682300-1799689500@sjjcouncil.org
SUMMARY:Civic Engagement Workshop
DESCRIPTION:
URL:https://sjjcouncil.org/event/civic-engagement-workshop/2027-01-11/
ATTACH;FMTTYPE=image/png:https://sjjcouncil.org/wp-content/uploads/2025/10/Civic-Engagement-Workshop-2025-scaled.png
END:VEVENT
BEGIN:VEVENT
DTSTART;TZID=UTC:20270112T154500
DTEND;TZID=UTC:20270112T174500
DTSTAMP:20260421T004349
CREATED:20251017T015654Z
LAST-MODIFIED:20251120T193415Z
UID:10000570-1799768700-1799775900@sjjcouncil.org
SUMMARY:Civic Engagement Workshop
DESCRIPTION:
URL:https://sjjcouncil.org/event/civic-engagement-workshop/2027-01-12/
ATTACH;FMTTYPE=image/png:https://sjjcouncil.org/wp-content/uploads/2025/10/Civic-Engagement-Workshop-2025-scaled.png
END:VEVENT
BEGIN:VEVENT
DTSTART;TZID=UTC:20270113T134500
DTEND;TZID=UTC:20270113T150000
DTSTAMP:20260421T004349
CREATED:20251017T015738Z
LAST-MODIFIED:20251120T193136Z
UID:10002174-1799847900-1799852400@sjjcouncil.org
SUMMARY:Civic Engagement Workshop
DESCRIPTION:
URL:https://sjjcouncil.org/event/civic-engagement-workshop-2/2027-01-13/
ATTACH;FMTTYPE=image/png:https://sjjcouncil.org/wp-content/uploads/2025/10/Civic-Engagement-Workshop-2025-scaled.png
END:VEVENT
BEGIN:VEVENT
DTSTART;TZID=UTC:20270114T154500
DTEND;TZID=UTC:20270114T174500
DTSTAMP:20260421T004349
CREATED:20251017T015654Z
LAST-MODIFIED:20251120T193415Z
UID:10000571-1799941500-1799948700@sjjcouncil.org
SUMMARY:Civic Engagement Workshop
DESCRIPTION:
URL:https://sjjcouncil.org/event/civic-engagement-workshop/2027-01-14/
ATTACH;FMTTYPE=image/png:https://sjjcouncil.org/wp-content/uploads/2025/10/Civic-Engagement-Workshop-2025-scaled.png
END:VEVENT
BEGIN:VEVENT
DTSTART;TZID=UTC:20270118T154500
DTEND;TZID=UTC:20270118T174500
DTSTAMP:20260421T004349
CREATED:20251017T015654Z
LAST-MODIFIED:20251120T193415Z
UID:10000572-1800287100-1800294300@sjjcouncil.org
SUMMARY:Civic Engagement Workshop
DESCRIPTION:
URL:https://sjjcouncil.org/event/civic-engagement-workshop/2027-01-18/
ATTACH;FMTTYPE=image/png:https://sjjcouncil.org/wp-content/uploads/2025/10/Civic-Engagement-Workshop-2025-scaled.png
END:VEVENT
BEGIN:VEVENT
DTSTART;TZID=UTC:20270119T154500
DTEND;TZID=UTC:20270119T174500
DTSTAMP:20260421T004349
CREATED:20251017T015654Z
LAST-MODIFIED:20251120T193415Z
UID:10000573-1800373500-1800380700@sjjcouncil.org
SUMMARY:Civic Engagement Workshop
DESCRIPTION:
URL:https://sjjcouncil.org/event/civic-engagement-workshop/2027-01-19/
ATTACH;FMTTYPE=image/png:https://sjjcouncil.org/wp-content/uploads/2025/10/Civic-Engagement-Workshop-2025-scaled.png
END:VEVENT
BEGIN:VEVENT
DTSTART;TZID=UTC:20270120T134500
DTEND;TZID=UTC:20270120T150000
DTSTAMP:20260421T004349
CREATED:20251017T015738Z
LAST-MODIFIED:20251120T193136Z
UID:10002177-1800452700-1800457200@sjjcouncil.org
SUMMARY:Civic Engagement Workshop
DESCRIPTION:
URL:https://sjjcouncil.org/event/civic-engagement-workshop-2/2027-01-20/
ATTACH;FMTTYPE=image/png:https://sjjcouncil.org/wp-content/uploads/2025/10/Civic-Engagement-Workshop-2025-scaled.png
END:VEVENT
BEGIN:VEVENT
DTSTART;TZID=UTC:20270121T154500
DTEND;TZID=UTC:20270121T174500
DTSTAMP:20260421T004349
CREATED:20251017T015654Z
LAST-MODIFIED:20251120T193415Z
UID:10000574-1800546300-1800553500@sjjcouncil.org
SUMMARY:Civic Engagement Workshop
DESCRIPTION:
URL:https://sjjcouncil.org/event/civic-engagement-workshop/2027-01-21/
ATTACH;FMTTYPE=image/png:https://sjjcouncil.org/wp-content/uploads/2025/10/Civic-Engagement-Workshop-2025-scaled.png
END:VEVENT
BEGIN:VEVENT
DTSTART;TZID=UTC:20270125T154500
DTEND;TZID=UTC:20270125T174500
DTSTAMP:20260421T004349
CREATED:20251017T015654Z
LAST-MODIFIED:20251120T193415Z
UID:10000575-1800891900-1800899100@sjjcouncil.org
SUMMARY:Civic Engagement Workshop
DESCRIPTION:
URL:https://sjjcouncil.org/event/civic-engagement-workshop/2027-01-25/
ATTACH;FMTTYPE=image/png:https://sjjcouncil.org/wp-content/uploads/2025/10/Civic-Engagement-Workshop-2025-scaled.png
END:VEVENT
BEGIN:VEVENT
DTSTART;TZID=UTC:20270126T154500
DTEND;TZID=UTC:20270126T174500
DTSTAMP:20260421T004349
CREATED:20251017T015654Z
LAST-MODIFIED:20251120T193415Z
UID:10000576-1800978300-1800985500@sjjcouncil.org
SUMMARY:Civic Engagement Workshop
DESCRIPTION:
URL:https://sjjcouncil.org/event/civic-engagement-workshop/2027-01-26/
ATTACH;FMTTYPE=image/png:https://sjjcouncil.org/wp-content/uploads/2025/10/Civic-Engagement-Workshop-2025-scaled.png
END:VEVENT
BEGIN:VEVENT
DTSTART;TZID=UTC:20270127T134500
DTEND;TZID=UTC:20270127T150000
DTSTAMP:20260421T004349
CREATED:20251017T015738Z
LAST-MODIFIED:20251120T193136Z
UID:10002180-1801057500-1801062000@sjjcouncil.org
SUMMARY:Civic Engagement Workshop
DESCRIPTION:
URL:https://sjjcouncil.org/event/civic-engagement-workshop-2/2027-01-27/
ATTACH;FMTTYPE=image/png:https://sjjcouncil.org/wp-content/uploads/2025/10/Civic-Engagement-Workshop-2025-scaled.png
END:VEVENT
BEGIN:VEVENT
DTSTART;TZID=UTC:20270128T154500
DTEND;TZID=UTC:20270128T174500
DTSTAMP:20260421T004349
CREATED:20251017T015654Z
LAST-MODIFIED:20251120T193415Z
UID:10000577-1801151100-1801158300@sjjcouncil.org
SUMMARY:Civic Engagement Workshop
DESCRIPTION:
URL:https://sjjcouncil.org/event/civic-engagement-workshop/2027-01-28/
ATTACH;FMTTYPE=image/png:https://sjjcouncil.org/wp-content/uploads/2025/10/Civic-Engagement-Workshop-2025-scaled.png
END:VEVENT
BEGIN:VEVENT
DTSTART;TZID=UTC:20270201T154500
DTEND;TZID=UTC:20270201T174500
DTSTAMP:20260421T004349
CREATED:20251017T015654Z
LAST-MODIFIED:20251120T193415Z
UID:10000578-1801496700-1801503900@sjjcouncil.org
SUMMARY:Civic Engagement Workshop
DESCRIPTION:
URL:https://sjjcouncil.org/event/civic-engagement-workshop/2027-02-01/
ATTACH;FMTTYPE=image/png:https://sjjcouncil.org/wp-content/uploads/2025/10/Civic-Engagement-Workshop-2025-scaled.png
END:VEVENT
BEGIN:VEVENT
DTSTART;TZID=UTC:20270202T154500
DTEND;TZID=UTC:20270202T174500
DTSTAMP:20260421T004349
CREATED:20251017T015654Z
LAST-MODIFIED:20251120T193415Z
UID:10000579-1801583100-1801590300@sjjcouncil.org
SUMMARY:Civic Engagement Workshop
DESCRIPTION:
URL:https://sjjcouncil.org/event/civic-engagement-workshop/2027-02-02/
ATTACH;FMTTYPE=image/png:https://sjjcouncil.org/wp-content/uploads/2025/10/Civic-Engagement-Workshop-2025-scaled.png
END:VEVENT
BEGIN:VEVENT
DTSTART;TZID=UTC:20270203T134500
DTEND;TZID=UTC:20270203T150000
DTSTAMP:20260421T004349
CREATED:20251017T015738Z
LAST-MODIFIED:20251120T193136Z
UID:10002183-1801662300-1801666800@sjjcouncil.org
SUMMARY:Civic Engagement Workshop
DESCRIPTION:
URL:https://sjjcouncil.org/event/civic-engagement-workshop-2/2027-02-03/
ATTACH;FMTTYPE=image/png:https://sjjcouncil.org/wp-content/uploads/2025/10/Civic-Engagement-Workshop-2025-scaled.png
END:VEVENT
BEGIN:VEVENT
DTSTART;TZID=UTC:20270204T154500
DTEND;TZID=UTC:20270204T174500
DTSTAMP:20260421T004349
CREATED:20251017T015654Z
LAST-MODIFIED:20251120T193415Z
UID:10000580-1801755900-1801763100@sjjcouncil.org
SUMMARY:Civic Engagement Workshop
DESCRIPTION:
URL:https://sjjcouncil.org/event/civic-engagement-workshop/2027-02-04/
ATTACH;FMTTYPE=image/png:https://sjjcouncil.org/wp-content/uploads/2025/10/Civic-Engagement-Workshop-2025-scaled.png
END:VEVENT
BEGIN:VEVENT
DTSTART;TZID=UTC:20270208T154500
DTEND;TZID=UTC:20270208T174500
DTSTAMP:20260421T004349
CREATED:20251017T015654Z
LAST-MODIFIED:20251120T193415Z
UID:10000581-1802101500-1802108700@sjjcouncil.org
SUMMARY:Civic Engagement Workshop
DESCRIPTION:
URL:https://sjjcouncil.org/event/civic-engagement-workshop/2027-02-08/
ATTACH;FMTTYPE=image/png:https://sjjcouncil.org/wp-content/uploads/2025/10/Civic-Engagement-Workshop-2025-scaled.png
END:VEVENT
BEGIN:VEVENT
DTSTART;TZID=UTC:20270209T154500
DTEND;TZID=UTC:20270209T174500
DTSTAMP:20260421T004349
CREATED:20251017T015654Z
LAST-MODIFIED:20251120T193415Z
UID:10000582-1802187900-1802195100@sjjcouncil.org
SUMMARY:Civic Engagement Workshop
DESCRIPTION:
URL:https://sjjcouncil.org/event/civic-engagement-workshop/2027-02-09/
ATTACH;FMTTYPE=image/png:https://sjjcouncil.org/wp-content/uploads/2025/10/Civic-Engagement-Workshop-2025-scaled.png
END:VEVENT
BEGIN:VEVENT
DTSTART;TZID=UTC:20270210T134500
DTEND;TZID=UTC:20270210T150000
DTSTAMP:20260421T004349
CREATED:20251017T015738Z
LAST-MODIFIED:20251120T193136Z
UID:10002186-1802267100-1802271600@sjjcouncil.org
SUMMARY:Civic Engagement Workshop
DESCRIPTION:
URL:https://sjjcouncil.org/event/civic-engagement-workshop-2/2027-02-10/
ATTACH;FMTTYPE=image/png:https://sjjcouncil.org/wp-content/uploads/2025/10/Civic-Engagement-Workshop-2025-scaled.png
END:VEVENT
BEGIN:VEVENT
DTSTART;TZID=UTC:20270211T154500
DTEND;TZID=UTC:20270211T174500
DTSTAMP:20260421T004349
CREATED:20251017T015654Z
LAST-MODIFIED:20251120T193415Z
UID:10000583-1802360700-1802367900@sjjcouncil.org
SUMMARY:Civic Engagement Workshop
DESCRIPTION:
URL:https://sjjcouncil.org/event/civic-engagement-workshop/2027-02-11/
ATTACH;FMTTYPE=image/png:https://sjjcouncil.org/wp-content/uploads/2025/10/Civic-Engagement-Workshop-2025-scaled.png
END:VEVENT
END:VCALENDAR