BEGIN:VCALENDAR
VERSION:2.0
PRODID:-//CCSJJC - ECPv6.15.20//NONSGML v1.0//EN
CALSCALE:GREGORIAN
METHOD:PUBLISH
X-WR-CALNAME:CCSJJC
X-ORIGINAL-URL:https://sjjcouncil.org
X-WR-CALDESC:Events for CCSJJC
REFRESH-INTERVAL;VALUE=DURATION:PT1H
X-Robots-Tag:noindex
X-PUBLISHED-TTL:PT1H
BEGIN:VTIMEZONE
TZID:UTC
BEGIN:STANDARD
TZOFFSETFROM:+0000
TZOFFSETTO:+0000
TZNAME:UTC
DTSTART:20240101T000000
END:STANDARD
END:VTIMEZONE
BEGIN:VEVENT
DTSTART;TZID=UTC:20250422T190000
DTEND;TZID=UTC:20250422T210000
DTSTAMP:20260421T011233
CREATED:20250417T015711Z
LAST-MODIFIED:20250417T015711Z
UID:10000343-1745348400-1745355600@sjjcouncil.org
SUMMARY:Workshop: Player Safety and Awareness
DESCRIPTION:
URL:https://sjjcouncil.org/event/workshop-player-safety-and-awareness/
LOCATION:Steger Community Center\, 3501 Hopkins St\, Steger\, IL\, United States
ATTACH;FMTTYPE=image/png:https://sjjcouncil.org/wp-content/uploads/2025/04/04222025_Mooreluv_Wildcats-Saftey-Workshop.png
END:VEVENT
BEGIN:VEVENT
DTSTART;TZID=UTC:20250416T180000
DTEND;TZID=UTC:20250416T193000
DTSTAMP:20260421T011233
CREATED:20250417T015358Z
LAST-MODIFIED:20250417T015358Z
UID:10000342-1744826400-1744831800@sjjcouncil.org
SUMMARY:Youth Voices for Violence Prevention (YVVP) Listening Sessions
DESCRIPTION:
URL:https://sjjcouncil.org/event/youth-voices-for-violence-prevention-yvvp-listening-sessions/
LOCATION:Vernard L. Alsberry Jr. Municipal Center\, 3601 W 183rd Street\, Hazel Crest\, IL\, United States
ATTACH;FMTTYPE=image/png:https://sjjcouncil.org/wp-content/uploads/2025/04/Event-Poster_-US-Letter.png
END:VEVENT
BEGIN:VEVENT
DTSTART;TZID=UTC:20250315T130000
DTEND;TZID=UTC:20250315T170000
DTSTAMP:20260421T011233
CREATED:20250226T232454Z
LAST-MODIFIED:20250226T232454Z
UID:10000339-1742043600-1742058000@sjjcouncil.org
SUMMARY:Breaking the Cycle: A Mental Health Awareness Event
DESCRIPTION:
URL:https://sjjcouncil.org/event/breaking-the-cycle-a-mental-health-awareness-event/
ATTACH;FMTTYPE=application/pdf:https://sjjcouncil.org/wp-content/uploads/2025/02/2025-Mental-Health-Event-Flyer_1-21-25b.pdf
END:VEVENT
BEGIN:VEVENT
DTSTART;TZID=UTC:20250227T190000
DTEND;TZID=UTC:20250227T210000
DTSTAMP:20260421T011233
CREATED:20250226T232130Z
LAST-MODIFIED:20250226T232130Z
UID:10000338-1740682800-1740690000@sjjcouncil.org
SUMMARY:MooreLuv: Lady Wildcats Team Building Workshop
DESCRIPTION:
URL:https://sjjcouncil.org/event/mooreluv-lady-wildcats-team-building-workshop/
ATTACH;FMTTYPE=image/png:https://sjjcouncil.org/wp-content/uploads/2025/02/02272025_MoorLuv_Lady-Wildcats-Team-Building.png
END:VEVENT
BEGIN:VEVENT
DTSTART;TZID=UTC:20250225T100000
DTEND;TZID=UTC:20250225T120000
DTSTAMP:20260421T011233
CREATED:20250226T231902Z
LAST-MODIFIED:20250226T231902Z
UID:10000337-1740477600-1740484800@sjjcouncil.org
SUMMARY:When Girls Get Together: Tribal Knowledge: Cosmetology Edition: Workshop & Clinic
DESCRIPTION:
URL:https://sjjcouncil.org/event/when-girls-get-together-tribal-knowledge-cosmetology-edition-workshop-clinic/
ATTACH;FMTTYPE=image/png:https://sjjcouncil.org/wp-content/uploads/2025/02/Brown-Minimalist-Autumn-Workshop-Poster.png
END:VEVENT
BEGIN:VEVENT
DTSTART;TZID=UTC:20250118T080000
DTEND;TZID=UTC:20250118T140000
DTSTAMP:20260421T011233
CREATED:20250226T233030Z
LAST-MODIFIED:20250226T233030Z
UID:10000340-1737187200-1737208800@sjjcouncil.org
SUMMARY:Girls Empowerment Conference
DESCRIPTION:
URL:https://sjjcouncil.org/event/girls-empowerment-conference/
ATTACH;FMTTYPE=image/png:https://sjjcouncil.org/wp-content/uploads/2025/02/Artboard-1.png
END:VEVENT
END:VCALENDAR