BEGIN:VCALENDAR
VERSION:2.0
PRODID:-//CCSJJC - ECPv6.15.20//NONSGML v1.0//EN
CALSCALE:GREGORIAN
METHOD:PUBLISH
X-WR-CALNAME:CCSJJC
X-ORIGINAL-URL:https://sjjcouncil.org
X-WR-CALDESC:Events for CCSJJC
REFRESH-INTERVAL;VALUE=DURATION:PT1H
X-Robots-Tag:noindex
X-PUBLISHED-TTL:PT1H
BEGIN:VTIMEZONE
TZID:UTC
BEGIN:STANDARD
TZOFFSETFROM:+0000
TZOFFSETTO:+0000
TZNAME:UTC
DTSTART:20260101T000000
END:STANDARD
END:VTIMEZONE
BEGIN:VEVENT
DTSTART;TZID=UTC:20270322T154500
DTEND;TZID=UTC:20270322T174500
DTSTAMP:20260421T143636
CREATED:20251017T015654Z
LAST-MODIFIED:20251120T193415Z
UID:10000599-1805730300-1805737500@sjjcouncil.org
SUMMARY:Civic Engagement Workshop
DESCRIPTION:
URL:https://sjjcouncil.org/event/civic-engagement-workshop/2027-03-22/
ATTACH;FMTTYPE=image/png:https://sjjcouncil.org/wp-content/uploads/2025/10/Civic-Engagement-Workshop-2025-scaled.png
END:VEVENT
BEGIN:VEVENT
DTSTART;TZID=UTC:20270323T154500
DTEND;TZID=UTC:20270323T174500
DTSTAMP:20260421T143636
CREATED:20251017T015654Z
LAST-MODIFIED:20251120T193415Z
UID:10000600-1805816700-1805823900@sjjcouncil.org
SUMMARY:Civic Engagement Workshop
DESCRIPTION:
URL:https://sjjcouncil.org/event/civic-engagement-workshop/2027-03-23/
ATTACH;FMTTYPE=image/png:https://sjjcouncil.org/wp-content/uploads/2025/10/Civic-Engagement-Workshop-2025-scaled.png
END:VEVENT
BEGIN:VEVENT
DTSTART;TZID=UTC:20270324T134500
DTEND;TZID=UTC:20270324T150000
DTSTAMP:20260421T143636
CREATED:20251017T015738Z
LAST-MODIFIED:20251120T193136Z
UID:10002204-1805895900-1805900400@sjjcouncil.org
SUMMARY:Civic Engagement Workshop
DESCRIPTION:
URL:https://sjjcouncil.org/event/civic-engagement-workshop-2/2027-03-24/
ATTACH;FMTTYPE=image/png:https://sjjcouncil.org/wp-content/uploads/2025/10/Civic-Engagement-Workshop-2025-scaled.png
END:VEVENT
BEGIN:VEVENT
DTSTART;TZID=UTC:20270325T154500
DTEND;TZID=UTC:20270325T174500
DTSTAMP:20260421T143636
CREATED:20251017T015654Z
LAST-MODIFIED:20251120T193415Z
UID:10000601-1805989500-1805996700@sjjcouncil.org
SUMMARY:Civic Engagement Workshop
DESCRIPTION:
URL:https://sjjcouncil.org/event/civic-engagement-workshop/2027-03-25/
ATTACH;FMTTYPE=image/png:https://sjjcouncil.org/wp-content/uploads/2025/10/Civic-Engagement-Workshop-2025-scaled.png
END:VEVENT
BEGIN:VEVENT
DTSTART;TZID=UTC:20270329T154500
DTEND;TZID=UTC:20270329T174500
DTSTAMP:20260421T143636
CREATED:20251017T015654Z
LAST-MODIFIED:20251120T193415Z
UID:10000602-1806335100-1806342300@sjjcouncil.org
SUMMARY:Civic Engagement Workshop
DESCRIPTION:
URL:https://sjjcouncil.org/event/civic-engagement-workshop/2027-03-29/
ATTACH;FMTTYPE=image/png:https://sjjcouncil.org/wp-content/uploads/2025/10/Civic-Engagement-Workshop-2025-scaled.png
END:VEVENT
BEGIN:VEVENT
DTSTART;TZID=UTC:20270330T154500
DTEND;TZID=UTC:20270330T174500
DTSTAMP:20260421T143636
CREATED:20251017T015654Z
LAST-MODIFIED:20251120T193415Z
UID:10000603-1806421500-1806428700@sjjcouncil.org
SUMMARY:Civic Engagement Workshop
DESCRIPTION:
URL:https://sjjcouncil.org/event/civic-engagement-workshop/2027-03-30/
ATTACH;FMTTYPE=image/png:https://sjjcouncil.org/wp-content/uploads/2025/10/Civic-Engagement-Workshop-2025-scaled.png
END:VEVENT
BEGIN:VEVENT
DTSTART;TZID=UTC:20270331T134500
DTEND;TZID=UTC:20270331T150000
DTSTAMP:20260421T143636
CREATED:20251017T015738Z
LAST-MODIFIED:20251120T193136Z
UID:10002207-1806500700-1806505200@sjjcouncil.org
SUMMARY:Civic Engagement Workshop
DESCRIPTION:
URL:https://sjjcouncil.org/event/civic-engagement-workshop-2/2027-03-31/
ATTACH;FMTTYPE=image/png:https://sjjcouncil.org/wp-content/uploads/2025/10/Civic-Engagement-Workshop-2025-scaled.png
END:VEVENT
BEGIN:VEVENT
DTSTART;TZID=UTC:20270401T154500
DTEND;TZID=UTC:20270401T174500
DTSTAMP:20260421T143636
CREATED:20251017T015654Z
LAST-MODIFIED:20251120T193415Z
UID:10000604-1806594300-1806601500@sjjcouncil.org
SUMMARY:Civic Engagement Workshop
DESCRIPTION:
URL:https://sjjcouncil.org/event/civic-engagement-workshop/2027-04-01/
ATTACH;FMTTYPE=image/png:https://sjjcouncil.org/wp-content/uploads/2025/10/Civic-Engagement-Workshop-2025-scaled.png
END:VEVENT
BEGIN:VEVENT
DTSTART;TZID=UTC:20270405T154500
DTEND;TZID=UTC:20270405T174500
DTSTAMP:20260421T143636
CREATED:20251017T015654Z
LAST-MODIFIED:20251120T193415Z
UID:10000605-1806939900-1806947100@sjjcouncil.org
SUMMARY:Civic Engagement Workshop
DESCRIPTION:
URL:https://sjjcouncil.org/event/civic-engagement-workshop/2027-04-05/
ATTACH;FMTTYPE=image/png:https://sjjcouncil.org/wp-content/uploads/2025/10/Civic-Engagement-Workshop-2025-scaled.png
END:VEVENT
BEGIN:VEVENT
DTSTART;TZID=UTC:20270406T154500
DTEND;TZID=UTC:20270406T174500
DTSTAMP:20260421T143636
CREATED:20251017T015654Z
LAST-MODIFIED:20251120T193415Z
UID:10000606-1807026300-1807033500@sjjcouncil.org
SUMMARY:Civic Engagement Workshop
DESCRIPTION:
URL:https://sjjcouncil.org/event/civic-engagement-workshop/2027-04-06/
ATTACH;FMTTYPE=image/png:https://sjjcouncil.org/wp-content/uploads/2025/10/Civic-Engagement-Workshop-2025-scaled.png
END:VEVENT
BEGIN:VEVENT
DTSTART;TZID=UTC:20270407T134500
DTEND;TZID=UTC:20270407T150000
DTSTAMP:20260421T143636
CREATED:20251017T015738Z
LAST-MODIFIED:20251120T193136Z
UID:10002210-1807105500-1807110000@sjjcouncil.org
SUMMARY:Civic Engagement Workshop
DESCRIPTION:
URL:https://sjjcouncil.org/event/civic-engagement-workshop-2/2027-04-07/
ATTACH;FMTTYPE=image/png:https://sjjcouncil.org/wp-content/uploads/2025/10/Civic-Engagement-Workshop-2025-scaled.png
END:VEVENT
BEGIN:VEVENT
DTSTART;TZID=UTC:20270408T154500
DTEND;TZID=UTC:20270408T174500
DTSTAMP:20260421T143636
CREATED:20251017T015654Z
LAST-MODIFIED:20251120T193415Z
UID:10000607-1807199100-1807206300@sjjcouncil.org
SUMMARY:Civic Engagement Workshop
DESCRIPTION:
URL:https://sjjcouncil.org/event/civic-engagement-workshop/2027-04-08/
ATTACH;FMTTYPE=image/png:https://sjjcouncil.org/wp-content/uploads/2025/10/Civic-Engagement-Workshop-2025-scaled.png
END:VEVENT
BEGIN:VEVENT
DTSTART;TZID=UTC:20270412T154500
DTEND;TZID=UTC:20270412T174500
DTSTAMP:20260421T143636
CREATED:20251017T015654Z
LAST-MODIFIED:20251120T193415Z
UID:10000608-1807544700-1807551900@sjjcouncil.org
SUMMARY:Civic Engagement Workshop
DESCRIPTION:
URL:https://sjjcouncil.org/event/civic-engagement-workshop/2027-04-12/
ATTACH;FMTTYPE=image/png:https://sjjcouncil.org/wp-content/uploads/2025/10/Civic-Engagement-Workshop-2025-scaled.png
END:VEVENT
BEGIN:VEVENT
DTSTART;TZID=UTC:20270413T154500
DTEND;TZID=UTC:20270413T174500
DTSTAMP:20260421T143636
CREATED:20251017T015654Z
LAST-MODIFIED:20251120T193415Z
UID:10000609-1807631100-1807638300@sjjcouncil.org
SUMMARY:Civic Engagement Workshop
DESCRIPTION:
URL:https://sjjcouncil.org/event/civic-engagement-workshop/2027-04-13/
ATTACH;FMTTYPE=image/png:https://sjjcouncil.org/wp-content/uploads/2025/10/Civic-Engagement-Workshop-2025-scaled.png
END:VEVENT
BEGIN:VEVENT
DTSTART;TZID=UTC:20270414T134500
DTEND;TZID=UTC:20270414T150000
DTSTAMP:20260421T143636
CREATED:20251017T015738Z
LAST-MODIFIED:20251120T193136Z
UID:10002213-1807710300-1807714800@sjjcouncil.org
SUMMARY:Civic Engagement Workshop
DESCRIPTION:
URL:https://sjjcouncil.org/event/civic-engagement-workshop-2/2027-04-14/
ATTACH;FMTTYPE=image/png:https://sjjcouncil.org/wp-content/uploads/2025/10/Civic-Engagement-Workshop-2025-scaled.png
END:VEVENT
BEGIN:VEVENT
DTSTART;TZID=UTC:20270415T154500
DTEND;TZID=UTC:20270415T174500
DTSTAMP:20260421T143636
CREATED:20251017T015654Z
LAST-MODIFIED:20251120T193415Z
UID:10000610-1807803900-1807811100@sjjcouncil.org
SUMMARY:Civic Engagement Workshop
DESCRIPTION:
URL:https://sjjcouncil.org/event/civic-engagement-workshop/2027-04-15/
ATTACH;FMTTYPE=image/png:https://sjjcouncil.org/wp-content/uploads/2025/10/Civic-Engagement-Workshop-2025-scaled.png
END:VEVENT
BEGIN:VEVENT
DTSTART;TZID=UTC:20270419T154500
DTEND;TZID=UTC:20270419T174500
DTSTAMP:20260421T143636
CREATED:20251017T015654Z
LAST-MODIFIED:20251120T193415Z
UID:10000611-1808149500-1808156700@sjjcouncil.org
SUMMARY:Civic Engagement Workshop
DESCRIPTION:
URL:https://sjjcouncil.org/event/civic-engagement-workshop/2027-04-19/
ATTACH;FMTTYPE=image/png:https://sjjcouncil.org/wp-content/uploads/2025/10/Civic-Engagement-Workshop-2025-scaled.png
END:VEVENT
BEGIN:VEVENT
DTSTART;TZID=UTC:20270420T154500
DTEND;TZID=UTC:20270420T174500
DTSTAMP:20260421T143636
CREATED:20251017T015654Z
LAST-MODIFIED:20251120T193415Z
UID:10000612-1808235900-1808243100@sjjcouncil.org
SUMMARY:Civic Engagement Workshop
DESCRIPTION:
URL:https://sjjcouncil.org/event/civic-engagement-workshop/2027-04-20/
ATTACH;FMTTYPE=image/png:https://sjjcouncil.org/wp-content/uploads/2025/10/Civic-Engagement-Workshop-2025-scaled.png
END:VEVENT
BEGIN:VEVENT
DTSTART;TZID=UTC:20270421T134500
DTEND;TZID=UTC:20270421T150000
DTSTAMP:20260421T143636
CREATED:20251017T015738Z
LAST-MODIFIED:20251120T193136Z
UID:10002216-1808315100-1808319600@sjjcouncil.org
SUMMARY:Civic Engagement Workshop
DESCRIPTION:
URL:https://sjjcouncil.org/event/civic-engagement-workshop-2/2027-04-21/
ATTACH;FMTTYPE=image/png:https://sjjcouncil.org/wp-content/uploads/2025/10/Civic-Engagement-Workshop-2025-scaled.png
END:VEVENT
BEGIN:VEVENT
DTSTART;TZID=UTC:20270422T154500
DTEND;TZID=UTC:20270422T174500
DTSTAMP:20260421T143636
CREATED:20251017T015654Z
LAST-MODIFIED:20251120T193415Z
UID:10000613-1808408700-1808415900@sjjcouncil.org
SUMMARY:Civic Engagement Workshop
DESCRIPTION:
URL:https://sjjcouncil.org/event/civic-engagement-workshop/2027-04-22/
ATTACH;FMTTYPE=image/png:https://sjjcouncil.org/wp-content/uploads/2025/10/Civic-Engagement-Workshop-2025-scaled.png
END:VEVENT
BEGIN:VEVENT
DTSTART;TZID=UTC:20270426T154500
DTEND;TZID=UTC:20270426T174500
DTSTAMP:20260421T143636
CREATED:20251017T015654Z
LAST-MODIFIED:20251120T193415Z
UID:10000614-1808754300-1808761500@sjjcouncil.org
SUMMARY:Civic Engagement Workshop
DESCRIPTION:
URL:https://sjjcouncil.org/event/civic-engagement-workshop/2027-04-26/
ATTACH;FMTTYPE=image/png:https://sjjcouncil.org/wp-content/uploads/2025/10/Civic-Engagement-Workshop-2025-scaled.png
END:VEVENT
BEGIN:VEVENT
DTSTART;TZID=UTC:20270427T154500
DTEND;TZID=UTC:20270427T174500
DTSTAMP:20260421T143636
CREATED:20251017T015654Z
LAST-MODIFIED:20251120T193415Z
UID:10000615-1808840700-1808847900@sjjcouncil.org
SUMMARY:Civic Engagement Workshop
DESCRIPTION:
URL:https://sjjcouncil.org/event/civic-engagement-workshop/2027-04-27/
ATTACH;FMTTYPE=image/png:https://sjjcouncil.org/wp-content/uploads/2025/10/Civic-Engagement-Workshop-2025-scaled.png
END:VEVENT
BEGIN:VEVENT
DTSTART;TZID=UTC:20270428T134500
DTEND;TZID=UTC:20270428T150000
DTSTAMP:20260421T143636
CREATED:20251017T015738Z
LAST-MODIFIED:20251120T193136Z
UID:10002219-1808919900-1808924400@sjjcouncil.org
SUMMARY:Civic Engagement Workshop
DESCRIPTION:
URL:https://sjjcouncil.org/event/civic-engagement-workshop-2/2027-04-28/
ATTACH;FMTTYPE=image/png:https://sjjcouncil.org/wp-content/uploads/2025/10/Civic-Engagement-Workshop-2025-scaled.png
END:VEVENT
BEGIN:VEVENT
DTSTART;TZID=UTC:20270429T154500
DTEND;TZID=UTC:20270429T174500
DTSTAMP:20260421T143636
CREATED:20251017T015654Z
LAST-MODIFIED:20251120T193415Z
UID:10000616-1809013500-1809020700@sjjcouncil.org
SUMMARY:Civic Engagement Workshop
DESCRIPTION:
URL:https://sjjcouncil.org/event/civic-engagement-workshop/2027-04-29/
ATTACH;FMTTYPE=image/png:https://sjjcouncil.org/wp-content/uploads/2025/10/Civic-Engagement-Workshop-2025-scaled.png
END:VEVENT
BEGIN:VEVENT
DTSTART;TZID=UTC:20270503T154500
DTEND;TZID=UTC:20270503T174500
DTSTAMP:20260421T143636
CREATED:20251017T015654Z
LAST-MODIFIED:20251120T193415Z
UID:10000617-1809359100-1809366300@sjjcouncil.org
SUMMARY:Civic Engagement Workshop
DESCRIPTION:
URL:https://sjjcouncil.org/event/civic-engagement-workshop/2027-05-03/
ATTACH;FMTTYPE=image/png:https://sjjcouncil.org/wp-content/uploads/2025/10/Civic-Engagement-Workshop-2025-scaled.png
END:VEVENT
BEGIN:VEVENT
DTSTART;TZID=UTC:20270504T154500
DTEND;TZID=UTC:20270504T174500
DTSTAMP:20260421T143636
CREATED:20251017T015654Z
LAST-MODIFIED:20251120T193415Z
UID:10000618-1809445500-1809452700@sjjcouncil.org
SUMMARY:Civic Engagement Workshop
DESCRIPTION:
URL:https://sjjcouncil.org/event/civic-engagement-workshop/2027-05-04/
ATTACH;FMTTYPE=image/png:https://sjjcouncil.org/wp-content/uploads/2025/10/Civic-Engagement-Workshop-2025-scaled.png
END:VEVENT
BEGIN:VEVENT
DTSTART;TZID=UTC:20270505T134500
DTEND;TZID=UTC:20270505T150000
DTSTAMP:20260421T143636
CREATED:20251017T015738Z
LAST-MODIFIED:20251120T193136Z
UID:10002222-1809524700-1809529200@sjjcouncil.org
SUMMARY:Civic Engagement Workshop
DESCRIPTION:
URL:https://sjjcouncil.org/event/civic-engagement-workshop-2/2027-05-05/
ATTACH;FMTTYPE=image/png:https://sjjcouncil.org/wp-content/uploads/2025/10/Civic-Engagement-Workshop-2025-scaled.png
END:VEVENT
BEGIN:VEVENT
DTSTART;TZID=UTC:20270506T154500
DTEND;TZID=UTC:20270506T174500
DTSTAMP:20260421T143636
CREATED:20251017T015654Z
LAST-MODIFIED:20251120T193415Z
UID:10000619-1809618300-1809625500@sjjcouncil.org
SUMMARY:Civic Engagement Workshop
DESCRIPTION:
URL:https://sjjcouncil.org/event/civic-engagement-workshop/2027-05-06/
ATTACH;FMTTYPE=image/png:https://sjjcouncil.org/wp-content/uploads/2025/10/Civic-Engagement-Workshop-2025-scaled.png
END:VEVENT
BEGIN:VEVENT
DTSTART;TZID=UTC:20270510T154500
DTEND;TZID=UTC:20270510T174500
DTSTAMP:20260421T143636
CREATED:20251017T015654Z
LAST-MODIFIED:20251120T193415Z
UID:10000620-1809963900-1809971100@sjjcouncil.org
SUMMARY:Civic Engagement Workshop
DESCRIPTION:
URL:https://sjjcouncil.org/event/civic-engagement-workshop/2027-05-10/
ATTACH;FMTTYPE=image/png:https://sjjcouncil.org/wp-content/uploads/2025/10/Civic-Engagement-Workshop-2025-scaled.png
END:VEVENT
BEGIN:VEVENT
DTSTART;TZID=UTC:20270511T154500
DTEND;TZID=UTC:20270511T174500
DTSTAMP:20260421T143636
CREATED:20251017T015654Z
LAST-MODIFIED:20251120T193415Z
UID:10000621-1810050300-1810057500@sjjcouncil.org
SUMMARY:Civic Engagement Workshop
DESCRIPTION:
URL:https://sjjcouncil.org/event/civic-engagement-workshop/2027-05-11/
ATTACH;FMTTYPE=image/png:https://sjjcouncil.org/wp-content/uploads/2025/10/Civic-Engagement-Workshop-2025-scaled.png
END:VEVENT
END:VCALENDAR