BEGIN:VCALENDAR
VERSION:2.0
PRODID:-//CCSJJC - ECPv6.15.20//NONSGML v1.0//EN
CALSCALE:GREGORIAN
METHOD:PUBLISH
X-ORIGINAL-URL:https://sjjcouncil.org
X-WR-CALDESC:Events for CCSJJC
REFRESH-INTERVAL;VALUE=DURATION:PT1H
X-Robots-Tag:noindex
X-PUBLISHED-TTL:PT1H
BEGIN:VTIMEZONE
TZID:UTC
BEGIN:STANDARD
TZOFFSETFROM:+0000
TZOFFSETTO:+0000
TZNAME:UTC
DTSTART:20280101T000000
END:STANDARD
END:VTIMEZONE
BEGIN:VEVENT
DTSTART;TZID=UTC:20290417T154500
DTEND;TZID=UTC:20290417T174500
DTSTAMP:20260423T184251
CREATED:20251017T015654Z
LAST-MODIFIED:20251120T193415Z
UID:10000924-1871135100-1871142300@sjjcouncil.org
SUMMARY:Civic Engagement Workshop
DESCRIPTION:
URL:https://sjjcouncil.org/event/civic-engagement-workshop/2029-04-17/
ATTACH;FMTTYPE=image/png:https://sjjcouncil.org/wp-content/uploads/2025/10/Civic-Engagement-Workshop-2025-scaled.png
END:VEVENT
BEGIN:VEVENT
DTSTART;TZID=UTC:20290418T134500
DTEND;TZID=UTC:20290418T150000
DTSTAMP:20260423T184251
CREATED:20251017T015738Z
LAST-MODIFIED:20251120T193136Z
UID:10002528-1871214300-1871218800@sjjcouncil.org
SUMMARY:Civic Engagement Workshop
DESCRIPTION:
URL:https://sjjcouncil.org/event/civic-engagement-workshop-2/2029-04-18/
ATTACH;FMTTYPE=image/png:https://sjjcouncil.org/wp-content/uploads/2025/10/Civic-Engagement-Workshop-2025-scaled.png
END:VEVENT
BEGIN:VEVENT
DTSTART;TZID=UTC:20290419T154500
DTEND;TZID=UTC:20290419T174500
DTSTAMP:20260423T184251
CREATED:20251017T015654Z
LAST-MODIFIED:20251120T193415Z
UID:10000925-1871307900-1871315100@sjjcouncil.org
SUMMARY:Civic Engagement Workshop
DESCRIPTION:
URL:https://sjjcouncil.org/event/civic-engagement-workshop/2029-04-19/
ATTACH;FMTTYPE=image/png:https://sjjcouncil.org/wp-content/uploads/2025/10/Civic-Engagement-Workshop-2025-scaled.png
END:VEVENT
BEGIN:VEVENT
DTSTART;TZID=UTC:20290423T154500
DTEND;TZID=UTC:20290423T174500
DTSTAMP:20260423T184251
CREATED:20251017T015654Z
LAST-MODIFIED:20251120T193415Z
UID:10000926-1871653500-1871660700@sjjcouncil.org
SUMMARY:Civic Engagement Workshop
DESCRIPTION:
URL:https://sjjcouncil.org/event/civic-engagement-workshop/2029-04-23/
ATTACH;FMTTYPE=image/png:https://sjjcouncil.org/wp-content/uploads/2025/10/Civic-Engagement-Workshop-2025-scaled.png
END:VEVENT
BEGIN:VEVENT
DTSTART;TZID=UTC:20290424T154500
DTEND;TZID=UTC:20290424T174500
DTSTAMP:20260423T184251
CREATED:20251017T015654Z
LAST-MODIFIED:20251120T193415Z
UID:10000927-1871739900-1871747100@sjjcouncil.org
SUMMARY:Civic Engagement Workshop
DESCRIPTION:
URL:https://sjjcouncil.org/event/civic-engagement-workshop/2029-04-24/
ATTACH;FMTTYPE=image/png:https://sjjcouncil.org/wp-content/uploads/2025/10/Civic-Engagement-Workshop-2025-scaled.png
END:VEVENT
BEGIN:VEVENT
DTSTART;TZID=UTC:20290425T134500
DTEND;TZID=UTC:20290425T150000
DTSTAMP:20260423T184251
CREATED:20251017T015738Z
LAST-MODIFIED:20251120T193136Z
UID:10002531-1871819100-1871823600@sjjcouncil.org
SUMMARY:Civic Engagement Workshop
DESCRIPTION:
URL:https://sjjcouncil.org/event/civic-engagement-workshop-2/2029-04-25/
ATTACH;FMTTYPE=image/png:https://sjjcouncil.org/wp-content/uploads/2025/10/Civic-Engagement-Workshop-2025-scaled.png
END:VEVENT
BEGIN:VEVENT
DTSTART;TZID=UTC:20290426T154500
DTEND;TZID=UTC:20290426T174500
DTSTAMP:20260423T184251
CREATED:20251017T015654Z
LAST-MODIFIED:20251120T193415Z
UID:10000928-1871912700-1871919900@sjjcouncil.org
SUMMARY:Civic Engagement Workshop
DESCRIPTION:
URL:https://sjjcouncil.org/event/civic-engagement-workshop/2029-04-26/
ATTACH;FMTTYPE=image/png:https://sjjcouncil.org/wp-content/uploads/2025/10/Civic-Engagement-Workshop-2025-scaled.png
END:VEVENT
BEGIN:VEVENT
DTSTART;TZID=UTC:20290430T154500
DTEND;TZID=UTC:20290430T174500
DTSTAMP:20260423T184251
CREATED:20251017T015654Z
LAST-MODIFIED:20251120T193415Z
UID:10000929-1872258300-1872265500@sjjcouncil.org
SUMMARY:Civic Engagement Workshop
DESCRIPTION:
URL:https://sjjcouncil.org/event/civic-engagement-workshop/2029-04-30/
ATTACH;FMTTYPE=image/png:https://sjjcouncil.org/wp-content/uploads/2025/10/Civic-Engagement-Workshop-2025-scaled.png
END:VEVENT
BEGIN:VEVENT
DTSTART;TZID=UTC:20290501T154500
DTEND;TZID=UTC:20290501T174500
DTSTAMP:20260423T184251
CREATED:20251017T015654Z
LAST-MODIFIED:20251120T193415Z
UID:10000930-1872344700-1872351900@sjjcouncil.org
SUMMARY:Civic Engagement Workshop
DESCRIPTION:
URL:https://sjjcouncil.org/event/civic-engagement-workshop/2029-05-01/
ATTACH;FMTTYPE=image/png:https://sjjcouncil.org/wp-content/uploads/2025/10/Civic-Engagement-Workshop-2025-scaled.png
END:VEVENT
BEGIN:VEVENT
DTSTART;TZID=UTC:20290502T134500
DTEND;TZID=UTC:20290502T150000
DTSTAMP:20260423T184251
CREATED:20251017T015738Z
LAST-MODIFIED:20251120T193136Z
UID:10002534-1872423900-1872428400@sjjcouncil.org
SUMMARY:Civic Engagement Workshop
DESCRIPTION:
URL:https://sjjcouncil.org/event/civic-engagement-workshop-2/2029-05-02/
ATTACH;FMTTYPE=image/png:https://sjjcouncil.org/wp-content/uploads/2025/10/Civic-Engagement-Workshop-2025-scaled.png
END:VEVENT
BEGIN:VEVENT
DTSTART;TZID=UTC:20290503T154500
DTEND;TZID=UTC:20290503T174500
DTSTAMP:20260423T184251
CREATED:20251017T015654Z
LAST-MODIFIED:20251120T193415Z
UID:10000931-1872517500-1872524700@sjjcouncil.org
SUMMARY:Civic Engagement Workshop
DESCRIPTION:
URL:https://sjjcouncil.org/event/civic-engagement-workshop/2029-05-03/
ATTACH;FMTTYPE=image/png:https://sjjcouncil.org/wp-content/uploads/2025/10/Civic-Engagement-Workshop-2025-scaled.png
END:VEVENT
BEGIN:VEVENT
DTSTART;TZID=UTC:20290507T154500
DTEND;TZID=UTC:20290507T174500
DTSTAMP:20260423T184251
CREATED:20251017T015654Z
LAST-MODIFIED:20251120T193415Z
UID:10000932-1872863100-1872870300@sjjcouncil.org
SUMMARY:Civic Engagement Workshop
DESCRIPTION:
URL:https://sjjcouncil.org/event/civic-engagement-workshop/2029-05-07/
ATTACH;FMTTYPE=image/png:https://sjjcouncil.org/wp-content/uploads/2025/10/Civic-Engagement-Workshop-2025-scaled.png
END:VEVENT
BEGIN:VEVENT
DTSTART;TZID=UTC:20290508T154500
DTEND;TZID=UTC:20290508T174500
DTSTAMP:20260423T184251
CREATED:20251017T015654Z
LAST-MODIFIED:20251120T193415Z
UID:10000933-1872949500-1872956700@sjjcouncil.org
SUMMARY:Civic Engagement Workshop
DESCRIPTION:
URL:https://sjjcouncil.org/event/civic-engagement-workshop/2029-05-08/
ATTACH;FMTTYPE=image/png:https://sjjcouncil.org/wp-content/uploads/2025/10/Civic-Engagement-Workshop-2025-scaled.png
END:VEVENT
BEGIN:VEVENT
DTSTART;TZID=UTC:20290509T134500
DTEND;TZID=UTC:20290509T150000
DTSTAMP:20260423T184251
CREATED:20251017T015738Z
LAST-MODIFIED:20251120T193136Z
UID:10002537-1873028700-1873033200@sjjcouncil.org
SUMMARY:Civic Engagement Workshop
DESCRIPTION:
URL:https://sjjcouncil.org/event/civic-engagement-workshop-2/2029-05-09/
ATTACH;FMTTYPE=image/png:https://sjjcouncil.org/wp-content/uploads/2025/10/Civic-Engagement-Workshop-2025-scaled.png
END:VEVENT
BEGIN:VEVENT
DTSTART;TZID=UTC:20290510T154500
DTEND;TZID=UTC:20290510T174500
DTSTAMP:20260423T184251
CREATED:20251017T015654Z
LAST-MODIFIED:20251120T193415Z
UID:10000934-1873122300-1873129500@sjjcouncil.org
SUMMARY:Civic Engagement Workshop
DESCRIPTION:
URL:https://sjjcouncil.org/event/civic-engagement-workshop/2029-05-10/
ATTACH;FMTTYPE=image/png:https://sjjcouncil.org/wp-content/uploads/2025/10/Civic-Engagement-Workshop-2025-scaled.png
END:VEVENT
BEGIN:VEVENT
DTSTART;TZID=UTC:20290514T154500
DTEND;TZID=UTC:20290514T174500
DTSTAMP:20260423T184251
CREATED:20251017T015654Z
LAST-MODIFIED:20251120T193415Z
UID:10000935-1873467900-1873475100@sjjcouncil.org
SUMMARY:Civic Engagement Workshop
DESCRIPTION:
URL:https://sjjcouncil.org/event/civic-engagement-workshop/2029-05-14/
ATTACH;FMTTYPE=image/png:https://sjjcouncil.org/wp-content/uploads/2025/10/Civic-Engagement-Workshop-2025-scaled.png
END:VEVENT
BEGIN:VEVENT
DTSTART;TZID=UTC:20290515T154500
DTEND;TZID=UTC:20290515T174500
DTSTAMP:20260423T184251
CREATED:20251017T015654Z
LAST-MODIFIED:20251120T193415Z
UID:10000936-1873554300-1873561500@sjjcouncil.org
SUMMARY:Civic Engagement Workshop
DESCRIPTION:
URL:https://sjjcouncil.org/event/civic-engagement-workshop/2029-05-15/
ATTACH;FMTTYPE=image/png:https://sjjcouncil.org/wp-content/uploads/2025/10/Civic-Engagement-Workshop-2025-scaled.png
END:VEVENT
BEGIN:VEVENT
DTSTART;TZID=UTC:20290516T134500
DTEND;TZID=UTC:20290516T150000
DTSTAMP:20260423T184251
CREATED:20251017T015738Z
LAST-MODIFIED:20251120T193136Z
UID:10002540-1873633500-1873638000@sjjcouncil.org
SUMMARY:Civic Engagement Workshop
DESCRIPTION:
URL:https://sjjcouncil.org/event/civic-engagement-workshop-2/2029-05-16/
ATTACH;FMTTYPE=image/png:https://sjjcouncil.org/wp-content/uploads/2025/10/Civic-Engagement-Workshop-2025-scaled.png
END:VEVENT
BEGIN:VEVENT
DTSTART;TZID=UTC:20290517T154500
DTEND;TZID=UTC:20290517T174500
DTSTAMP:20260423T184251
CREATED:20251017T015654Z
LAST-MODIFIED:20251120T193415Z
UID:10000937-1873727100-1873734300@sjjcouncil.org
SUMMARY:Civic Engagement Workshop
DESCRIPTION:
URL:https://sjjcouncil.org/event/civic-engagement-workshop/2029-05-17/
ATTACH;FMTTYPE=image/png:https://sjjcouncil.org/wp-content/uploads/2025/10/Civic-Engagement-Workshop-2025-scaled.png
END:VEVENT
BEGIN:VEVENT
DTSTART;TZID=UTC:20290521T154500
DTEND;TZID=UTC:20290521T174500
DTSTAMP:20260423T184251
CREATED:20251017T015654Z
LAST-MODIFIED:20251120T193415Z
UID:10000938-1874072700-1874079900@sjjcouncil.org
SUMMARY:Civic Engagement Workshop
DESCRIPTION:
URL:https://sjjcouncil.org/event/civic-engagement-workshop/2029-05-21/
ATTACH;FMTTYPE=image/png:https://sjjcouncil.org/wp-content/uploads/2025/10/Civic-Engagement-Workshop-2025-scaled.png
END:VEVENT
BEGIN:VEVENT
DTSTART;TZID=UTC:20290522T154500
DTEND;TZID=UTC:20290522T174500
DTSTAMP:20260423T184251
CREATED:20251017T015654Z
LAST-MODIFIED:20251120T193415Z
UID:10000939-1874159100-1874166300@sjjcouncil.org
SUMMARY:Civic Engagement Workshop
DESCRIPTION:
URL:https://sjjcouncil.org/event/civic-engagement-workshop/2029-05-22/
ATTACH;FMTTYPE=image/png:https://sjjcouncil.org/wp-content/uploads/2025/10/Civic-Engagement-Workshop-2025-scaled.png
END:VEVENT
BEGIN:VEVENT
DTSTART;TZID=UTC:20290523T134500
DTEND;TZID=UTC:20290523T150000
DTSTAMP:20260423T184251
CREATED:20251017T015738Z
LAST-MODIFIED:20251120T193136Z
UID:10002543-1874238300-1874242800@sjjcouncil.org
SUMMARY:Civic Engagement Workshop
DESCRIPTION:
URL:https://sjjcouncil.org/event/civic-engagement-workshop-2/2029-05-23/
ATTACH;FMTTYPE=image/png:https://sjjcouncil.org/wp-content/uploads/2025/10/Civic-Engagement-Workshop-2025-scaled.png
END:VEVENT
BEGIN:VEVENT
DTSTART;TZID=UTC:20290524T154500
DTEND;TZID=UTC:20290524T174500
DTSTAMP:20260423T184251
CREATED:20251017T015654Z
LAST-MODIFIED:20251120T193415Z
UID:10000940-1874331900-1874339100@sjjcouncil.org
SUMMARY:Civic Engagement Workshop
DESCRIPTION:
URL:https://sjjcouncil.org/event/civic-engagement-workshop/2029-05-24/
ATTACH;FMTTYPE=image/png:https://sjjcouncil.org/wp-content/uploads/2025/10/Civic-Engagement-Workshop-2025-scaled.png
END:VEVENT
BEGIN:VEVENT
DTSTART;TZID=UTC:20290528T154500
DTEND;TZID=UTC:20290528T174500
DTSTAMP:20260423T184251
CREATED:20251017T015654Z
LAST-MODIFIED:20251120T193415Z
UID:10000941-1874677500-1874684700@sjjcouncil.org
SUMMARY:Civic Engagement Workshop
DESCRIPTION:
URL:https://sjjcouncil.org/event/civic-engagement-workshop/2029-05-28/
ATTACH;FMTTYPE=image/png:https://sjjcouncil.org/wp-content/uploads/2025/10/Civic-Engagement-Workshop-2025-scaled.png
END:VEVENT
BEGIN:VEVENT
DTSTART;TZID=UTC:20290529T154500
DTEND;TZID=UTC:20290529T174500
DTSTAMP:20260423T184251
CREATED:20251017T015654Z
LAST-MODIFIED:20251120T193415Z
UID:10000942-1874763900-1874771100@sjjcouncil.org
SUMMARY:Civic Engagement Workshop
DESCRIPTION:
URL:https://sjjcouncil.org/event/civic-engagement-workshop/2029-05-29/
ATTACH;FMTTYPE=image/png:https://sjjcouncil.org/wp-content/uploads/2025/10/Civic-Engagement-Workshop-2025-scaled.png
END:VEVENT
BEGIN:VEVENT
DTSTART;TZID=UTC:20290530T134500
DTEND;TZID=UTC:20290530T150000
DTSTAMP:20260423T184251
CREATED:20251017T015738Z
LAST-MODIFIED:20251120T193136Z
UID:10002546-1874843100-1874847600@sjjcouncil.org
SUMMARY:Civic Engagement Workshop
DESCRIPTION:
URL:https://sjjcouncil.org/event/civic-engagement-workshop-2/2029-05-30/
ATTACH;FMTTYPE=image/png:https://sjjcouncil.org/wp-content/uploads/2025/10/Civic-Engagement-Workshop-2025-scaled.png
END:VEVENT
BEGIN:VEVENT
DTSTART;TZID=UTC:20290531T154500
DTEND;TZID=UTC:20290531T174500
DTSTAMP:20260423T184251
CREATED:20251017T015654Z
LAST-MODIFIED:20251120T193415Z
UID:10000943-1874936700-1874943900@sjjcouncil.org
SUMMARY:Civic Engagement Workshop
DESCRIPTION:
URL:https://sjjcouncil.org/event/civic-engagement-workshop/2029-05-31/
ATTACH;FMTTYPE=image/png:https://sjjcouncil.org/wp-content/uploads/2025/10/Civic-Engagement-Workshop-2025-scaled.png
END:VEVENT
BEGIN:VEVENT
DTSTART;TZID=UTC:20290604T154500
DTEND;TZID=UTC:20290604T174500
DTSTAMP:20260423T184251
CREATED:20251017T015654Z
LAST-MODIFIED:20251120T193415Z
UID:10000944-1875282300-1875289500@sjjcouncil.org
SUMMARY:Civic Engagement Workshop
DESCRIPTION:
URL:https://sjjcouncil.org/event/civic-engagement-workshop/2029-06-04/
ATTACH;FMTTYPE=image/png:https://sjjcouncil.org/wp-content/uploads/2025/10/Civic-Engagement-Workshop-2025-scaled.png
END:VEVENT
BEGIN:VEVENT
DTSTART;TZID=UTC:20290605T154500
DTEND;TZID=UTC:20290605T174500
DTSTAMP:20260423T184251
CREATED:20251017T015654Z
LAST-MODIFIED:20251120T193415Z
UID:10000945-1875368700-1875375900@sjjcouncil.org
SUMMARY:Civic Engagement Workshop
DESCRIPTION:
URL:https://sjjcouncil.org/event/civic-engagement-workshop/2029-06-05/
ATTACH;FMTTYPE=image/png:https://sjjcouncil.org/wp-content/uploads/2025/10/Civic-Engagement-Workshop-2025-scaled.png
END:VEVENT
BEGIN:VEVENT
DTSTART;TZID=UTC:20290606T134500
DTEND;TZID=UTC:20290606T150000
DTSTAMP:20260423T184251
CREATED:20251017T015738Z
LAST-MODIFIED:20251120T193136Z
UID:10002549-1875447900-1875452400@sjjcouncil.org
SUMMARY:Civic Engagement Workshop
DESCRIPTION:
URL:https://sjjcouncil.org/event/civic-engagement-workshop-2/2029-06-06/
ATTACH;FMTTYPE=image/png:https://sjjcouncil.org/wp-content/uploads/2025/10/Civic-Engagement-Workshop-2025-scaled.png
END:VEVENT
END:VCALENDAR