BEGIN:VCALENDAR
VERSION:2.0
PRODID:-//CCSJJC - ECPv6.15.20//NONSGML v1.0//EN
CALSCALE:GREGORIAN
METHOD:PUBLISH
X-ORIGINAL-URL:https://sjjcouncil.org
X-WR-CALDESC:Events for CCSJJC
REFRESH-INTERVAL;VALUE=DURATION:PT1H
X-Robots-Tag:noindex
X-PUBLISHED-TTL:PT1H
BEGIN:VTIMEZONE
TZID:UTC
BEGIN:STANDARD
TZOFFSETFROM:+0000
TZOFFSETTO:+0000
TZNAME:UTC
DTSTART:20260101T000000
END:STANDARD
END:VTIMEZONE
BEGIN:VEVENT
DTSTART;TZID=UTC:20271011T154500
DTEND;TZID=UTC:20271011T174500
DTSTAMP:20260421T193749
CREATED:20251017T015654Z
LAST-MODIFIED:20251120T193415Z
UID:10000686-1823269500-1823276700@sjjcouncil.org
SUMMARY:Civic Engagement Workshop
DESCRIPTION:
URL:https://sjjcouncil.org/event/civic-engagement-workshop/2027-10-11/
ATTACH;FMTTYPE=image/png:https://sjjcouncil.org/wp-content/uploads/2025/10/Civic-Engagement-Workshop-2025-scaled.png
END:VEVENT
BEGIN:VEVENT
DTSTART;TZID=UTC:20271012T154500
DTEND;TZID=UTC:20271012T174500
DTSTAMP:20260421T193749
CREATED:20251017T015654Z
LAST-MODIFIED:20251120T193415Z
UID:10000687-1823355900-1823363100@sjjcouncil.org
SUMMARY:Civic Engagement Workshop
DESCRIPTION:
URL:https://sjjcouncil.org/event/civic-engagement-workshop/2027-10-12/
ATTACH;FMTTYPE=image/png:https://sjjcouncil.org/wp-content/uploads/2025/10/Civic-Engagement-Workshop-2025-scaled.png
END:VEVENT
BEGIN:VEVENT
DTSTART;TZID=UTC:20271013T134500
DTEND;TZID=UTC:20271013T150000
DTSTAMP:20260421T193749
CREATED:20251017T015738Z
LAST-MODIFIED:20251120T193136Z
UID:10002291-1823435100-1823439600@sjjcouncil.org
SUMMARY:Civic Engagement Workshop
DESCRIPTION:
URL:https://sjjcouncil.org/event/civic-engagement-workshop-2/2027-10-13/
ATTACH;FMTTYPE=image/png:https://sjjcouncil.org/wp-content/uploads/2025/10/Civic-Engagement-Workshop-2025-scaled.png
END:VEVENT
BEGIN:VEVENT
DTSTART;TZID=UTC:20271014T154500
DTEND;TZID=UTC:20271014T174500
DTSTAMP:20260421T193749
CREATED:20251017T015654Z
LAST-MODIFIED:20251120T193415Z
UID:10000688-1823528700-1823535900@sjjcouncil.org
SUMMARY:Civic Engagement Workshop
DESCRIPTION:
URL:https://sjjcouncil.org/event/civic-engagement-workshop/2027-10-14/
ATTACH;FMTTYPE=image/png:https://sjjcouncil.org/wp-content/uploads/2025/10/Civic-Engagement-Workshop-2025-scaled.png
END:VEVENT
BEGIN:VEVENT
DTSTART;TZID=UTC:20271018T154500
DTEND;TZID=UTC:20271018T174500
DTSTAMP:20260421T193749
CREATED:20251017T015654Z
LAST-MODIFIED:20251120T193415Z
UID:10000689-1823874300-1823881500@sjjcouncil.org
SUMMARY:Civic Engagement Workshop
DESCRIPTION:
URL:https://sjjcouncil.org/event/civic-engagement-workshop/2027-10-18/
ATTACH;FMTTYPE=image/png:https://sjjcouncil.org/wp-content/uploads/2025/10/Civic-Engagement-Workshop-2025-scaled.png
END:VEVENT
BEGIN:VEVENT
DTSTART;TZID=UTC:20271019T154500
DTEND;TZID=UTC:20271019T174500
DTSTAMP:20260421T193749
CREATED:20251017T015654Z
LAST-MODIFIED:20251120T193415Z
UID:10000690-1823960700-1823967900@sjjcouncil.org
SUMMARY:Civic Engagement Workshop
DESCRIPTION:
URL:https://sjjcouncil.org/event/civic-engagement-workshop/2027-10-19/
ATTACH;FMTTYPE=image/png:https://sjjcouncil.org/wp-content/uploads/2025/10/Civic-Engagement-Workshop-2025-scaled.png
END:VEVENT
BEGIN:VEVENT
DTSTART;TZID=UTC:20271020T134500
DTEND;TZID=UTC:20271020T150000
DTSTAMP:20260421T193749
CREATED:20251017T015738Z
LAST-MODIFIED:20251120T193136Z
UID:10002294-1824039900-1824044400@sjjcouncil.org
SUMMARY:Civic Engagement Workshop
DESCRIPTION:
URL:https://sjjcouncil.org/event/civic-engagement-workshop-2/2027-10-20/
ATTACH;FMTTYPE=image/png:https://sjjcouncil.org/wp-content/uploads/2025/10/Civic-Engagement-Workshop-2025-scaled.png
END:VEVENT
BEGIN:VEVENT
DTSTART;TZID=UTC:20271021T154500
DTEND;TZID=UTC:20271021T174500
DTSTAMP:20260421T193749
CREATED:20251017T015654Z
LAST-MODIFIED:20251120T193415Z
UID:10000691-1824133500-1824140700@sjjcouncil.org
SUMMARY:Civic Engagement Workshop
DESCRIPTION:
URL:https://sjjcouncil.org/event/civic-engagement-workshop/2027-10-21/
ATTACH;FMTTYPE=image/png:https://sjjcouncil.org/wp-content/uploads/2025/10/Civic-Engagement-Workshop-2025-scaled.png
END:VEVENT
BEGIN:VEVENT
DTSTART;TZID=UTC:20271025T154500
DTEND;TZID=UTC:20271025T174500
DTSTAMP:20260421T193749
CREATED:20251017T015654Z
LAST-MODIFIED:20251120T193415Z
UID:10000692-1824479100-1824486300@sjjcouncil.org
SUMMARY:Civic Engagement Workshop
DESCRIPTION:
URL:https://sjjcouncil.org/event/civic-engagement-workshop/2027-10-25/
ATTACH;FMTTYPE=image/png:https://sjjcouncil.org/wp-content/uploads/2025/10/Civic-Engagement-Workshop-2025-scaled.png
END:VEVENT
BEGIN:VEVENT
DTSTART;TZID=UTC:20271026T154500
DTEND;TZID=UTC:20271026T174500
DTSTAMP:20260421T193749
CREATED:20251017T015654Z
LAST-MODIFIED:20251120T193415Z
UID:10000693-1824565500-1824572700@sjjcouncil.org
SUMMARY:Civic Engagement Workshop
DESCRIPTION:
URL:https://sjjcouncil.org/event/civic-engagement-workshop/2027-10-26/
ATTACH;FMTTYPE=image/png:https://sjjcouncil.org/wp-content/uploads/2025/10/Civic-Engagement-Workshop-2025-scaled.png
END:VEVENT
BEGIN:VEVENT
DTSTART;TZID=UTC:20271027T134500
DTEND;TZID=UTC:20271027T150000
DTSTAMP:20260421T193749
CREATED:20251017T015738Z
LAST-MODIFIED:20251120T193136Z
UID:10002297-1824644700-1824649200@sjjcouncil.org
SUMMARY:Civic Engagement Workshop
DESCRIPTION:
URL:https://sjjcouncil.org/event/civic-engagement-workshop-2/2027-10-27/
ATTACH;FMTTYPE=image/png:https://sjjcouncil.org/wp-content/uploads/2025/10/Civic-Engagement-Workshop-2025-scaled.png
END:VEVENT
BEGIN:VEVENT
DTSTART;TZID=UTC:20271028T154500
DTEND;TZID=UTC:20271028T174500
DTSTAMP:20260421T193749
CREATED:20251017T015654Z
LAST-MODIFIED:20251120T193415Z
UID:10000694-1824738300-1824745500@sjjcouncil.org
SUMMARY:Civic Engagement Workshop
DESCRIPTION:
URL:https://sjjcouncil.org/event/civic-engagement-workshop/2027-10-28/
ATTACH;FMTTYPE=image/png:https://sjjcouncil.org/wp-content/uploads/2025/10/Civic-Engagement-Workshop-2025-scaled.png
END:VEVENT
BEGIN:VEVENT
DTSTART;TZID=UTC:20271101T154500
DTEND;TZID=UTC:20271101T174500
DTSTAMP:20260421T193749
CREATED:20251017T015654Z
LAST-MODIFIED:20251120T193415Z
UID:10000695-1825083900-1825091100@sjjcouncil.org
SUMMARY:Civic Engagement Workshop
DESCRIPTION:
URL:https://sjjcouncil.org/event/civic-engagement-workshop/2027-11-01/
ATTACH;FMTTYPE=image/png:https://sjjcouncil.org/wp-content/uploads/2025/10/Civic-Engagement-Workshop-2025-scaled.png
END:VEVENT
BEGIN:VEVENT
DTSTART;TZID=UTC:20271102T154500
DTEND;TZID=UTC:20271102T174500
DTSTAMP:20260421T193749
CREATED:20251017T015654Z
LAST-MODIFIED:20251120T193415Z
UID:10000696-1825170300-1825177500@sjjcouncil.org
SUMMARY:Civic Engagement Workshop
DESCRIPTION:
URL:https://sjjcouncil.org/event/civic-engagement-workshop/2027-11-02/
ATTACH;FMTTYPE=image/png:https://sjjcouncil.org/wp-content/uploads/2025/10/Civic-Engagement-Workshop-2025-scaled.png
END:VEVENT
BEGIN:VEVENT
DTSTART;TZID=UTC:20271103T134500
DTEND;TZID=UTC:20271103T150000
DTSTAMP:20260421T193749
CREATED:20251017T015738Z
LAST-MODIFIED:20251120T193136Z
UID:10002300-1825249500-1825254000@sjjcouncil.org
SUMMARY:Civic Engagement Workshop
DESCRIPTION:
URL:https://sjjcouncil.org/event/civic-engagement-workshop-2/2027-11-03/
ATTACH;FMTTYPE=image/png:https://sjjcouncil.org/wp-content/uploads/2025/10/Civic-Engagement-Workshop-2025-scaled.png
END:VEVENT
BEGIN:VEVENT
DTSTART;TZID=UTC:20271104T154500
DTEND;TZID=UTC:20271104T174500
DTSTAMP:20260421T193749
CREATED:20251017T015654Z
LAST-MODIFIED:20251120T193415Z
UID:10000697-1825343100-1825350300@sjjcouncil.org
SUMMARY:Civic Engagement Workshop
DESCRIPTION:
URL:https://sjjcouncil.org/event/civic-engagement-workshop/2027-11-04/
ATTACH;FMTTYPE=image/png:https://sjjcouncil.org/wp-content/uploads/2025/10/Civic-Engagement-Workshop-2025-scaled.png
END:VEVENT
BEGIN:VEVENT
DTSTART;TZID=UTC:20271108T154500
DTEND;TZID=UTC:20271108T174500
DTSTAMP:20260421T193749
CREATED:20251017T015654Z
LAST-MODIFIED:20251120T193415Z
UID:10000698-1825688700-1825695900@sjjcouncil.org
SUMMARY:Civic Engagement Workshop
DESCRIPTION:
URL:https://sjjcouncil.org/event/civic-engagement-workshop/2027-11-08/
ATTACH;FMTTYPE=image/png:https://sjjcouncil.org/wp-content/uploads/2025/10/Civic-Engagement-Workshop-2025-scaled.png
END:VEVENT
BEGIN:VEVENT
DTSTART;TZID=UTC:20271109T154500
DTEND;TZID=UTC:20271109T174500
DTSTAMP:20260421T193749
CREATED:20251017T015654Z
LAST-MODIFIED:20251120T193415Z
UID:10000699-1825775100-1825782300@sjjcouncil.org
SUMMARY:Civic Engagement Workshop
DESCRIPTION:
URL:https://sjjcouncil.org/event/civic-engagement-workshop/2027-11-09/
ATTACH;FMTTYPE=image/png:https://sjjcouncil.org/wp-content/uploads/2025/10/Civic-Engagement-Workshop-2025-scaled.png
END:VEVENT
BEGIN:VEVENT
DTSTART;TZID=UTC:20271110T134500
DTEND;TZID=UTC:20271110T150000
DTSTAMP:20260421T193749
CREATED:20251017T015738Z
LAST-MODIFIED:20251120T193136Z
UID:10002303-1825854300-1825858800@sjjcouncil.org
SUMMARY:Civic Engagement Workshop
DESCRIPTION:
URL:https://sjjcouncil.org/event/civic-engagement-workshop-2/2027-11-10/
ATTACH;FMTTYPE=image/png:https://sjjcouncil.org/wp-content/uploads/2025/10/Civic-Engagement-Workshop-2025-scaled.png
END:VEVENT
BEGIN:VEVENT
DTSTART;TZID=UTC:20271111T154500
DTEND;TZID=UTC:20271111T174500
DTSTAMP:20260421T193749
CREATED:20251017T015654Z
LAST-MODIFIED:20251120T193415Z
UID:10000700-1825947900-1825955100@sjjcouncil.org
SUMMARY:Civic Engagement Workshop
DESCRIPTION:
URL:https://sjjcouncil.org/event/civic-engagement-workshop/2027-11-11/
ATTACH;FMTTYPE=image/png:https://sjjcouncil.org/wp-content/uploads/2025/10/Civic-Engagement-Workshop-2025-scaled.png
END:VEVENT
BEGIN:VEVENT
DTSTART;TZID=UTC:20271115T154500
DTEND;TZID=UTC:20271115T174500
DTSTAMP:20260421T193749
CREATED:20251017T015654Z
LAST-MODIFIED:20251120T193415Z
UID:10000701-1826293500-1826300700@sjjcouncil.org
SUMMARY:Civic Engagement Workshop
DESCRIPTION:
URL:https://sjjcouncil.org/event/civic-engagement-workshop/2027-11-15/
ATTACH;FMTTYPE=image/png:https://sjjcouncil.org/wp-content/uploads/2025/10/Civic-Engagement-Workshop-2025-scaled.png
END:VEVENT
BEGIN:VEVENT
DTSTART;TZID=UTC:20271116T154500
DTEND;TZID=UTC:20271116T174500
DTSTAMP:20260421T193749
CREATED:20251017T015654Z
LAST-MODIFIED:20251120T193415Z
UID:10000702-1826379900-1826387100@sjjcouncil.org
SUMMARY:Civic Engagement Workshop
DESCRIPTION:
URL:https://sjjcouncil.org/event/civic-engagement-workshop/2027-11-16/
ATTACH;FMTTYPE=image/png:https://sjjcouncil.org/wp-content/uploads/2025/10/Civic-Engagement-Workshop-2025-scaled.png
END:VEVENT
BEGIN:VEVENT
DTSTART;TZID=UTC:20271117T134500
DTEND;TZID=UTC:20271117T150000
DTSTAMP:20260421T193749
CREATED:20251017T015738Z
LAST-MODIFIED:20251120T193136Z
UID:10002306-1826459100-1826463600@sjjcouncil.org
SUMMARY:Civic Engagement Workshop
DESCRIPTION:
URL:https://sjjcouncil.org/event/civic-engagement-workshop-2/2027-11-17/
ATTACH;FMTTYPE=image/png:https://sjjcouncil.org/wp-content/uploads/2025/10/Civic-Engagement-Workshop-2025-scaled.png
END:VEVENT
BEGIN:VEVENT
DTSTART;TZID=UTC:20271118T154500
DTEND;TZID=UTC:20271118T174500
DTSTAMP:20260421T193749
CREATED:20251017T015654Z
LAST-MODIFIED:20251120T193415Z
UID:10000703-1826552700-1826559900@sjjcouncil.org
SUMMARY:Civic Engagement Workshop
DESCRIPTION:
URL:https://sjjcouncil.org/event/civic-engagement-workshop/2027-11-18/
ATTACH;FMTTYPE=image/png:https://sjjcouncil.org/wp-content/uploads/2025/10/Civic-Engagement-Workshop-2025-scaled.png
END:VEVENT
BEGIN:VEVENT
DTSTART;TZID=UTC:20271122T154500
DTEND;TZID=UTC:20271122T174500
DTSTAMP:20260421T193749
CREATED:20251017T015654Z
LAST-MODIFIED:20251120T193415Z
UID:10000704-1826898300-1826905500@sjjcouncil.org
SUMMARY:Civic Engagement Workshop
DESCRIPTION:
URL:https://sjjcouncil.org/event/civic-engagement-workshop/2027-11-22/
ATTACH;FMTTYPE=image/png:https://sjjcouncil.org/wp-content/uploads/2025/10/Civic-Engagement-Workshop-2025-scaled.png
END:VEVENT
BEGIN:VEVENT
DTSTART;TZID=UTC:20271123T154500
DTEND;TZID=UTC:20271123T174500
DTSTAMP:20260421T193749
CREATED:20251017T015654Z
LAST-MODIFIED:20251120T193415Z
UID:10000705-1826984700-1826991900@sjjcouncil.org
SUMMARY:Civic Engagement Workshop
DESCRIPTION:
URL:https://sjjcouncil.org/event/civic-engagement-workshop/2027-11-23/
ATTACH;FMTTYPE=image/png:https://sjjcouncil.org/wp-content/uploads/2025/10/Civic-Engagement-Workshop-2025-scaled.png
END:VEVENT
BEGIN:VEVENT
DTSTART;TZID=UTC:20271124T134500
DTEND;TZID=UTC:20271124T150000
DTSTAMP:20260421T193749
CREATED:20251017T015738Z
LAST-MODIFIED:20251120T193136Z
UID:10002309-1827063900-1827068400@sjjcouncil.org
SUMMARY:Civic Engagement Workshop
DESCRIPTION:
URL:https://sjjcouncil.org/event/civic-engagement-workshop-2/2027-11-24/
ATTACH;FMTTYPE=image/png:https://sjjcouncil.org/wp-content/uploads/2025/10/Civic-Engagement-Workshop-2025-scaled.png
END:VEVENT
BEGIN:VEVENT
DTSTART;TZID=UTC:20271125T154500
DTEND;TZID=UTC:20271125T174500
DTSTAMP:20260421T193749
CREATED:20251017T015654Z
LAST-MODIFIED:20251120T193415Z
UID:10000706-1827157500-1827164700@sjjcouncil.org
SUMMARY:Civic Engagement Workshop
DESCRIPTION:
URL:https://sjjcouncil.org/event/civic-engagement-workshop/2027-11-25/
ATTACH;FMTTYPE=image/png:https://sjjcouncil.org/wp-content/uploads/2025/10/Civic-Engagement-Workshop-2025-scaled.png
END:VEVENT
BEGIN:VEVENT
DTSTART;TZID=UTC:20271129T154500
DTEND;TZID=UTC:20271129T174500
DTSTAMP:20260421T193749
CREATED:20251017T015654Z
LAST-MODIFIED:20251120T193415Z
UID:10000707-1827503100-1827510300@sjjcouncil.org
SUMMARY:Civic Engagement Workshop
DESCRIPTION:
URL:https://sjjcouncil.org/event/civic-engagement-workshop/2027-11-29/
ATTACH;FMTTYPE=image/png:https://sjjcouncil.org/wp-content/uploads/2025/10/Civic-Engagement-Workshop-2025-scaled.png
END:VEVENT
BEGIN:VEVENT
DTSTART;TZID=UTC:20271130T154500
DTEND;TZID=UTC:20271130T174500
DTSTAMP:20260421T193749
CREATED:20251017T015654Z
LAST-MODIFIED:20251120T193415Z
UID:10000708-1827589500-1827596700@sjjcouncil.org
SUMMARY:Civic Engagement Workshop
DESCRIPTION:
URL:https://sjjcouncil.org/event/civic-engagement-workshop/2027-11-30/
ATTACH;FMTTYPE=image/png:https://sjjcouncil.org/wp-content/uploads/2025/10/Civic-Engagement-Workshop-2025-scaled.png
END:VEVENT
END:VCALENDAR