BEGIN:VCALENDAR
VERSION:2.0
PRODID:-//CCSJJC - ECPv6.15.20//NONSGML v1.0//EN
CALSCALE:GREGORIAN
METHOD:PUBLISH
X-ORIGINAL-URL:https://sjjcouncil.org
X-WR-CALDESC:Events for CCSJJC
REFRESH-INTERVAL;VALUE=DURATION:PT1H
X-Robots-Tag:noindex
X-PUBLISHED-TTL:PT1H
BEGIN:VTIMEZONE
TZID:UTC
BEGIN:STANDARD
TZOFFSETFROM:+0000
TZOFFSETTO:+0000
TZNAME:UTC
DTSTART:20270101T000000
END:STANDARD
END:VTIMEZONE
BEGIN:VEVENT
DTSTART;TZID=UTC:20281107T154500
DTEND;TZID=UTC:20281107T174500
DTSTAMP:20260423T035902
CREATED:20251017T015654Z
LAST-MODIFIED:20251120T193415Z
UID:10000855-1857224700-1857231900@sjjcouncil.org
SUMMARY:Civic Engagement Workshop
DESCRIPTION:
URL:https://sjjcouncil.org/event/civic-engagement-workshop/2028-11-07/
ATTACH;FMTTYPE=image/png:https://sjjcouncil.org/wp-content/uploads/2025/10/Civic-Engagement-Workshop-2025-scaled.png
END:VEVENT
BEGIN:VEVENT
DTSTART;TZID=UTC:20281108T134500
DTEND;TZID=UTC:20281108T150000
DTSTAMP:20260423T035902
CREATED:20251017T015738Z
LAST-MODIFIED:20251120T193136Z
UID:10002459-1857303900-1857308400@sjjcouncil.org
SUMMARY:Civic Engagement Workshop
DESCRIPTION:
URL:https://sjjcouncil.org/event/civic-engagement-workshop-2/2028-11-08/
ATTACH;FMTTYPE=image/png:https://sjjcouncil.org/wp-content/uploads/2025/10/Civic-Engagement-Workshop-2025-scaled.png
END:VEVENT
BEGIN:VEVENT
DTSTART;TZID=UTC:20281109T154500
DTEND;TZID=UTC:20281109T174500
DTSTAMP:20260423T035902
CREATED:20251017T015654Z
LAST-MODIFIED:20251120T193415Z
UID:10000856-1857397500-1857404700@sjjcouncil.org
SUMMARY:Civic Engagement Workshop
DESCRIPTION:
URL:https://sjjcouncil.org/event/civic-engagement-workshop/2028-11-09/
ATTACH;FMTTYPE=image/png:https://sjjcouncil.org/wp-content/uploads/2025/10/Civic-Engagement-Workshop-2025-scaled.png
END:VEVENT
BEGIN:VEVENT
DTSTART;TZID=UTC:20281113T154500
DTEND;TZID=UTC:20281113T174500
DTSTAMP:20260423T035902
CREATED:20251017T015654Z
LAST-MODIFIED:20251120T193415Z
UID:10000857-1857743100-1857750300@sjjcouncil.org
SUMMARY:Civic Engagement Workshop
DESCRIPTION:
URL:https://sjjcouncil.org/event/civic-engagement-workshop/2028-11-13/
ATTACH;FMTTYPE=image/png:https://sjjcouncil.org/wp-content/uploads/2025/10/Civic-Engagement-Workshop-2025-scaled.png
END:VEVENT
BEGIN:VEVENT
DTSTART;TZID=UTC:20281114T154500
DTEND;TZID=UTC:20281114T174500
DTSTAMP:20260423T035902
CREATED:20251017T015654Z
LAST-MODIFIED:20251120T193415Z
UID:10000858-1857829500-1857836700@sjjcouncil.org
SUMMARY:Civic Engagement Workshop
DESCRIPTION:
URL:https://sjjcouncil.org/event/civic-engagement-workshop/2028-11-14/
ATTACH;FMTTYPE=image/png:https://sjjcouncil.org/wp-content/uploads/2025/10/Civic-Engagement-Workshop-2025-scaled.png
END:VEVENT
BEGIN:VEVENT
DTSTART;TZID=UTC:20281115T134500
DTEND;TZID=UTC:20281115T150000
DTSTAMP:20260423T035902
CREATED:20251017T015738Z
LAST-MODIFIED:20251120T193136Z
UID:10002462-1857908700-1857913200@sjjcouncil.org
SUMMARY:Civic Engagement Workshop
DESCRIPTION:
URL:https://sjjcouncil.org/event/civic-engagement-workshop-2/2028-11-15/
ATTACH;FMTTYPE=image/png:https://sjjcouncil.org/wp-content/uploads/2025/10/Civic-Engagement-Workshop-2025-scaled.png
END:VEVENT
BEGIN:VEVENT
DTSTART;TZID=UTC:20281116T154500
DTEND;TZID=UTC:20281116T174500
DTSTAMP:20260423T035902
CREATED:20251017T015654Z
LAST-MODIFIED:20251120T193415Z
UID:10000859-1858002300-1858009500@sjjcouncil.org
SUMMARY:Civic Engagement Workshop
DESCRIPTION:
URL:https://sjjcouncil.org/event/civic-engagement-workshop/2028-11-16/
ATTACH;FMTTYPE=image/png:https://sjjcouncil.org/wp-content/uploads/2025/10/Civic-Engagement-Workshop-2025-scaled.png
END:VEVENT
BEGIN:VEVENT
DTSTART;TZID=UTC:20281120T154500
DTEND;TZID=UTC:20281120T174500
DTSTAMP:20260423T035902
CREATED:20251017T015654Z
LAST-MODIFIED:20251120T193415Z
UID:10000860-1858347900-1858355100@sjjcouncil.org
SUMMARY:Civic Engagement Workshop
DESCRIPTION:
URL:https://sjjcouncil.org/event/civic-engagement-workshop/2028-11-20/
ATTACH;FMTTYPE=image/png:https://sjjcouncil.org/wp-content/uploads/2025/10/Civic-Engagement-Workshop-2025-scaled.png
END:VEVENT
BEGIN:VEVENT
DTSTART;TZID=UTC:20281121T154500
DTEND;TZID=UTC:20281121T174500
DTSTAMP:20260423T035902
CREATED:20251017T015654Z
LAST-MODIFIED:20251120T193415Z
UID:10000861-1858434300-1858441500@sjjcouncil.org
SUMMARY:Civic Engagement Workshop
DESCRIPTION:
URL:https://sjjcouncil.org/event/civic-engagement-workshop/2028-11-21/
ATTACH;FMTTYPE=image/png:https://sjjcouncil.org/wp-content/uploads/2025/10/Civic-Engagement-Workshop-2025-scaled.png
END:VEVENT
BEGIN:VEVENT
DTSTART;TZID=UTC:20281122T134500
DTEND;TZID=UTC:20281122T150000
DTSTAMP:20260423T035902
CREATED:20251017T015738Z
LAST-MODIFIED:20251120T193136Z
UID:10002465-1858513500-1858518000@sjjcouncil.org
SUMMARY:Civic Engagement Workshop
DESCRIPTION:
URL:https://sjjcouncil.org/event/civic-engagement-workshop-2/2028-11-22/
ATTACH;FMTTYPE=image/png:https://sjjcouncil.org/wp-content/uploads/2025/10/Civic-Engagement-Workshop-2025-scaled.png
END:VEVENT
BEGIN:VEVENT
DTSTART;TZID=UTC:20281123T154500
DTEND;TZID=UTC:20281123T174500
DTSTAMP:20260423T035902
CREATED:20251017T015654Z
LAST-MODIFIED:20251120T193415Z
UID:10000862-1858607100-1858614300@sjjcouncil.org
SUMMARY:Civic Engagement Workshop
DESCRIPTION:
URL:https://sjjcouncil.org/event/civic-engagement-workshop/2028-11-23/
ATTACH;FMTTYPE=image/png:https://sjjcouncil.org/wp-content/uploads/2025/10/Civic-Engagement-Workshop-2025-scaled.png
END:VEVENT
BEGIN:VEVENT
DTSTART;TZID=UTC:20281127T154500
DTEND;TZID=UTC:20281127T174500
DTSTAMP:20260423T035902
CREATED:20251017T015654Z
LAST-MODIFIED:20251120T193415Z
UID:10000863-1858952700-1858959900@sjjcouncil.org
SUMMARY:Civic Engagement Workshop
DESCRIPTION:
URL:https://sjjcouncil.org/event/civic-engagement-workshop/2028-11-27/
ATTACH;FMTTYPE=image/png:https://sjjcouncil.org/wp-content/uploads/2025/10/Civic-Engagement-Workshop-2025-scaled.png
END:VEVENT
BEGIN:VEVENT
DTSTART;TZID=UTC:20281128T154500
DTEND;TZID=UTC:20281128T174500
DTSTAMP:20260423T035902
CREATED:20251017T015654Z
LAST-MODIFIED:20251120T193415Z
UID:10000864-1859039100-1859046300@sjjcouncil.org
SUMMARY:Civic Engagement Workshop
DESCRIPTION:
URL:https://sjjcouncil.org/event/civic-engagement-workshop/2028-11-28/
ATTACH;FMTTYPE=image/png:https://sjjcouncil.org/wp-content/uploads/2025/10/Civic-Engagement-Workshop-2025-scaled.png
END:VEVENT
BEGIN:VEVENT
DTSTART;TZID=UTC:20281129T134500
DTEND;TZID=UTC:20281129T150000
DTSTAMP:20260423T035902
CREATED:20251017T015738Z
LAST-MODIFIED:20251120T193136Z
UID:10002468-1859118300-1859122800@sjjcouncil.org
SUMMARY:Civic Engagement Workshop
DESCRIPTION:
URL:https://sjjcouncil.org/event/civic-engagement-workshop-2/2028-11-29/
ATTACH;FMTTYPE=image/png:https://sjjcouncil.org/wp-content/uploads/2025/10/Civic-Engagement-Workshop-2025-scaled.png
END:VEVENT
BEGIN:VEVENT
DTSTART;TZID=UTC:20281130T154500
DTEND;TZID=UTC:20281130T174500
DTSTAMP:20260423T035902
CREATED:20251017T015654Z
LAST-MODIFIED:20251120T193415Z
UID:10000865-1859211900-1859219100@sjjcouncil.org
SUMMARY:Civic Engagement Workshop
DESCRIPTION:
URL:https://sjjcouncil.org/event/civic-engagement-workshop/2028-11-30/
ATTACH;FMTTYPE=image/png:https://sjjcouncil.org/wp-content/uploads/2025/10/Civic-Engagement-Workshop-2025-scaled.png
END:VEVENT
BEGIN:VEVENT
DTSTART;TZID=UTC:20281204T154500
DTEND;TZID=UTC:20281204T174500
DTSTAMP:20260423T035902
CREATED:20251017T015654Z
LAST-MODIFIED:20251120T193415Z
UID:10000866-1859557500-1859564700@sjjcouncil.org
SUMMARY:Civic Engagement Workshop
DESCRIPTION:
URL:https://sjjcouncil.org/event/civic-engagement-workshop/2028-12-04/
ATTACH;FMTTYPE=image/png:https://sjjcouncil.org/wp-content/uploads/2025/10/Civic-Engagement-Workshop-2025-scaled.png
END:VEVENT
BEGIN:VEVENT
DTSTART;TZID=UTC:20281205T154500
DTEND;TZID=UTC:20281205T174500
DTSTAMP:20260423T035902
CREATED:20251017T015654Z
LAST-MODIFIED:20251120T193415Z
UID:10000867-1859643900-1859651100@sjjcouncil.org
SUMMARY:Civic Engagement Workshop
DESCRIPTION:
URL:https://sjjcouncil.org/event/civic-engagement-workshop/2028-12-05/
ATTACH;FMTTYPE=image/png:https://sjjcouncil.org/wp-content/uploads/2025/10/Civic-Engagement-Workshop-2025-scaled.png
END:VEVENT
BEGIN:VEVENT
DTSTART;TZID=UTC:20281206T134500
DTEND;TZID=UTC:20281206T150000
DTSTAMP:20260423T035902
CREATED:20251017T015738Z
LAST-MODIFIED:20251120T193136Z
UID:10002471-1859723100-1859727600@sjjcouncil.org
SUMMARY:Civic Engagement Workshop
DESCRIPTION:
URL:https://sjjcouncil.org/event/civic-engagement-workshop-2/2028-12-06/
ATTACH;FMTTYPE=image/png:https://sjjcouncil.org/wp-content/uploads/2025/10/Civic-Engagement-Workshop-2025-scaled.png
END:VEVENT
BEGIN:VEVENT
DTSTART;TZID=UTC:20281207T154500
DTEND;TZID=UTC:20281207T174500
DTSTAMP:20260423T035902
CREATED:20251017T015654Z
LAST-MODIFIED:20251120T193415Z
UID:10000868-1859816700-1859823900@sjjcouncil.org
SUMMARY:Civic Engagement Workshop
DESCRIPTION:
URL:https://sjjcouncil.org/event/civic-engagement-workshop/2028-12-07/
ATTACH;FMTTYPE=image/png:https://sjjcouncil.org/wp-content/uploads/2025/10/Civic-Engagement-Workshop-2025-scaled.png
END:VEVENT
BEGIN:VEVENT
DTSTART;TZID=UTC:20281211T154500
DTEND;TZID=UTC:20281211T174500
DTSTAMP:20260423T035902
CREATED:20251017T015654Z
LAST-MODIFIED:20251120T193415Z
UID:10000869-1860162300-1860169500@sjjcouncil.org
SUMMARY:Civic Engagement Workshop
DESCRIPTION:
URL:https://sjjcouncil.org/event/civic-engagement-workshop/2028-12-11/
ATTACH;FMTTYPE=image/png:https://sjjcouncil.org/wp-content/uploads/2025/10/Civic-Engagement-Workshop-2025-scaled.png
END:VEVENT
BEGIN:VEVENT
DTSTART;TZID=UTC:20281212T154500
DTEND;TZID=UTC:20281212T174500
DTSTAMP:20260423T035902
CREATED:20251017T015654Z
LAST-MODIFIED:20251120T193415Z
UID:10000870-1860248700-1860255900@sjjcouncil.org
SUMMARY:Civic Engagement Workshop
DESCRIPTION:
URL:https://sjjcouncil.org/event/civic-engagement-workshop/2028-12-12/
ATTACH;FMTTYPE=image/png:https://sjjcouncil.org/wp-content/uploads/2025/10/Civic-Engagement-Workshop-2025-scaled.png
END:VEVENT
BEGIN:VEVENT
DTSTART;TZID=UTC:20281213T134500
DTEND;TZID=UTC:20281213T150000
DTSTAMP:20260423T035902
CREATED:20251017T015738Z
LAST-MODIFIED:20251120T193136Z
UID:10002474-1860327900-1860332400@sjjcouncil.org
SUMMARY:Civic Engagement Workshop
DESCRIPTION:
URL:https://sjjcouncil.org/event/civic-engagement-workshop-2/2028-12-13/
ATTACH;FMTTYPE=image/png:https://sjjcouncil.org/wp-content/uploads/2025/10/Civic-Engagement-Workshop-2025-scaled.png
END:VEVENT
BEGIN:VEVENT
DTSTART;TZID=UTC:20281214T154500
DTEND;TZID=UTC:20281214T174500
DTSTAMP:20260423T035902
CREATED:20251017T015654Z
LAST-MODIFIED:20251120T193415Z
UID:10000871-1860421500-1860428700@sjjcouncil.org
SUMMARY:Civic Engagement Workshop
DESCRIPTION:
URL:https://sjjcouncil.org/event/civic-engagement-workshop/2028-12-14/
ATTACH;FMTTYPE=image/png:https://sjjcouncil.org/wp-content/uploads/2025/10/Civic-Engagement-Workshop-2025-scaled.png
END:VEVENT
BEGIN:VEVENT
DTSTART;TZID=UTC:20281218T154500
DTEND;TZID=UTC:20281218T174500
DTSTAMP:20260423T035902
CREATED:20251017T015654Z
LAST-MODIFIED:20251120T193415Z
UID:10000872-1860767100-1860774300@sjjcouncil.org
SUMMARY:Civic Engagement Workshop
DESCRIPTION:
URL:https://sjjcouncil.org/event/civic-engagement-workshop/2028-12-18/
ATTACH;FMTTYPE=image/png:https://sjjcouncil.org/wp-content/uploads/2025/10/Civic-Engagement-Workshop-2025-scaled.png
END:VEVENT
BEGIN:VEVENT
DTSTART;TZID=UTC:20281219T154500
DTEND;TZID=UTC:20281219T174500
DTSTAMP:20260423T035902
CREATED:20251017T015654Z
LAST-MODIFIED:20251120T193415Z
UID:10000873-1860853500-1860860700@sjjcouncil.org
SUMMARY:Civic Engagement Workshop
DESCRIPTION:
URL:https://sjjcouncil.org/event/civic-engagement-workshop/2028-12-19/
ATTACH;FMTTYPE=image/png:https://sjjcouncil.org/wp-content/uploads/2025/10/Civic-Engagement-Workshop-2025-scaled.png
END:VEVENT
BEGIN:VEVENT
DTSTART;TZID=UTC:20281220T134500
DTEND;TZID=UTC:20281220T150000
DTSTAMP:20260423T035902
CREATED:20251017T015738Z
LAST-MODIFIED:20251120T193136Z
UID:10002477-1860932700-1860937200@sjjcouncil.org
SUMMARY:Civic Engagement Workshop
DESCRIPTION:
URL:https://sjjcouncil.org/event/civic-engagement-workshop-2/2028-12-20/
ATTACH;FMTTYPE=image/png:https://sjjcouncil.org/wp-content/uploads/2025/10/Civic-Engagement-Workshop-2025-scaled.png
END:VEVENT
BEGIN:VEVENT
DTSTART;TZID=UTC:20281221T154500
DTEND;TZID=UTC:20281221T174500
DTSTAMP:20260423T035902
CREATED:20251017T015654Z
LAST-MODIFIED:20251120T193415Z
UID:10000874-1861026300-1861033500@sjjcouncil.org
SUMMARY:Civic Engagement Workshop
DESCRIPTION:
URL:https://sjjcouncil.org/event/civic-engagement-workshop/2028-12-21/
ATTACH;FMTTYPE=image/png:https://sjjcouncil.org/wp-content/uploads/2025/10/Civic-Engagement-Workshop-2025-scaled.png
END:VEVENT
BEGIN:VEVENT
DTSTART;TZID=UTC:20281225T154500
DTEND;TZID=UTC:20281225T174500
DTSTAMP:20260423T035902
CREATED:20251017T015654Z
LAST-MODIFIED:20251120T193415Z
UID:10000875-1861371900-1861379100@sjjcouncil.org
SUMMARY:Civic Engagement Workshop
DESCRIPTION:
URL:https://sjjcouncil.org/event/civic-engagement-workshop/2028-12-25/
ATTACH;FMTTYPE=image/png:https://sjjcouncil.org/wp-content/uploads/2025/10/Civic-Engagement-Workshop-2025-scaled.png
END:VEVENT
BEGIN:VEVENT
DTSTART;TZID=UTC:20281226T154500
DTEND;TZID=UTC:20281226T174500
DTSTAMP:20260423T035902
CREATED:20251017T015654Z
LAST-MODIFIED:20251120T193415Z
UID:10000876-1861458300-1861465500@sjjcouncil.org
SUMMARY:Civic Engagement Workshop
DESCRIPTION:
URL:https://sjjcouncil.org/event/civic-engagement-workshop/2028-12-26/
ATTACH;FMTTYPE=image/png:https://sjjcouncil.org/wp-content/uploads/2025/10/Civic-Engagement-Workshop-2025-scaled.png
END:VEVENT
BEGIN:VEVENT
DTSTART;TZID=UTC:20281227T134500
DTEND;TZID=UTC:20281227T150000
DTSTAMP:20260423T035902
CREATED:20251017T015738Z
LAST-MODIFIED:20251120T193136Z
UID:10002480-1861537500-1861542000@sjjcouncil.org
SUMMARY:Civic Engagement Workshop
DESCRIPTION:
URL:https://sjjcouncil.org/event/civic-engagement-workshop-2/2028-12-27/
ATTACH;FMTTYPE=image/png:https://sjjcouncil.org/wp-content/uploads/2025/10/Civic-Engagement-Workshop-2025-scaled.png
END:VEVENT
END:VCALENDAR