BEGIN:VCALENDAR
VERSION:2.0
PRODID:-//CCSJJC - ECPv6.15.20//NONSGML v1.0//EN
CALSCALE:GREGORIAN
METHOD:PUBLISH
X-WR-CALNAME:CCSJJC
X-ORIGINAL-URL:https://sjjcouncil.org
X-WR-CALDESC:Events for CCSJJC
REFRESH-INTERVAL;VALUE=DURATION:PT1H
X-Robots-Tag:noindex
X-PUBLISHED-TTL:PT1H
BEGIN:VTIMEZONE
TZID:UTC
BEGIN:STANDARD
TZOFFSETFROM:+0000
TZOFFSETTO:+0000
TZNAME:UTC
DTSTART:20270101T000000
END:STANDARD
END:VTIMEZONE
BEGIN:VEVENT
DTSTART;TZID=UTC:20280612T154500
DTEND;TZID=UTC:20280612T174500
DTSTAMP:20260422T173719
CREATED:20251017T015654Z
LAST-MODIFIED:20251120T193415Z
UID:10000791-1844437500-1844444700@sjjcouncil.org
SUMMARY:Civic Engagement Workshop
DESCRIPTION:
URL:https://sjjcouncil.org/event/civic-engagement-workshop/2028-06-12/
ATTACH;FMTTYPE=image/png:https://sjjcouncil.org/wp-content/uploads/2025/10/Civic-Engagement-Workshop-2025-scaled.png
END:VEVENT
BEGIN:VEVENT
DTSTART;TZID=UTC:20280613T154500
DTEND;TZID=UTC:20280613T174500
DTSTAMP:20260422T173719
CREATED:20251017T015654Z
LAST-MODIFIED:20251120T193415Z
UID:10000792-1844523900-1844531100@sjjcouncil.org
SUMMARY:Civic Engagement Workshop
DESCRIPTION:
URL:https://sjjcouncil.org/event/civic-engagement-workshop/2028-06-13/
ATTACH;FMTTYPE=image/png:https://sjjcouncil.org/wp-content/uploads/2025/10/Civic-Engagement-Workshop-2025-scaled.png
END:VEVENT
BEGIN:VEVENT
DTSTART;TZID=UTC:20280614T134500
DTEND;TZID=UTC:20280614T150000
DTSTAMP:20260422T173719
CREATED:20251017T015738Z
LAST-MODIFIED:20251120T193136Z
UID:10002396-1844603100-1844607600@sjjcouncil.org
SUMMARY:Civic Engagement Workshop
DESCRIPTION:
URL:https://sjjcouncil.org/event/civic-engagement-workshop-2/2028-06-14/
ATTACH;FMTTYPE=image/png:https://sjjcouncil.org/wp-content/uploads/2025/10/Civic-Engagement-Workshop-2025-scaled.png
END:VEVENT
BEGIN:VEVENT
DTSTART;TZID=UTC:20280615T154500
DTEND;TZID=UTC:20280615T174500
DTSTAMP:20260422T173719
CREATED:20251017T015654Z
LAST-MODIFIED:20251120T193415Z
UID:10000793-1844696700-1844703900@sjjcouncil.org
SUMMARY:Civic Engagement Workshop
DESCRIPTION:
URL:https://sjjcouncil.org/event/civic-engagement-workshop/2028-06-15/
ATTACH;FMTTYPE=image/png:https://sjjcouncil.org/wp-content/uploads/2025/10/Civic-Engagement-Workshop-2025-scaled.png
END:VEVENT
BEGIN:VEVENT
DTSTART;TZID=UTC:20280619T154500
DTEND;TZID=UTC:20280619T174500
DTSTAMP:20260422T173719
CREATED:20251017T015654Z
LAST-MODIFIED:20251120T193415Z
UID:10000794-1845042300-1845049500@sjjcouncil.org
SUMMARY:Civic Engagement Workshop
DESCRIPTION:
URL:https://sjjcouncil.org/event/civic-engagement-workshop/2028-06-19/
ATTACH;FMTTYPE=image/png:https://sjjcouncil.org/wp-content/uploads/2025/10/Civic-Engagement-Workshop-2025-scaled.png
END:VEVENT
BEGIN:VEVENT
DTSTART;TZID=UTC:20280620T154500
DTEND;TZID=UTC:20280620T174500
DTSTAMP:20260422T173719
CREATED:20251017T015654Z
LAST-MODIFIED:20251120T193415Z
UID:10000795-1845128700-1845135900@sjjcouncil.org
SUMMARY:Civic Engagement Workshop
DESCRIPTION:
URL:https://sjjcouncil.org/event/civic-engagement-workshop/2028-06-20/
ATTACH;FMTTYPE=image/png:https://sjjcouncil.org/wp-content/uploads/2025/10/Civic-Engagement-Workshop-2025-scaled.png
END:VEVENT
BEGIN:VEVENT
DTSTART;TZID=UTC:20280621T134500
DTEND;TZID=UTC:20280621T150000
DTSTAMP:20260422T173719
CREATED:20251017T015738Z
LAST-MODIFIED:20251120T193136Z
UID:10002399-1845207900-1845212400@sjjcouncil.org
SUMMARY:Civic Engagement Workshop
DESCRIPTION:
URL:https://sjjcouncil.org/event/civic-engagement-workshop-2/2028-06-21/
ATTACH;FMTTYPE=image/png:https://sjjcouncil.org/wp-content/uploads/2025/10/Civic-Engagement-Workshop-2025-scaled.png
END:VEVENT
BEGIN:VEVENT
DTSTART;TZID=UTC:20280622T154500
DTEND;TZID=UTC:20280622T174500
DTSTAMP:20260422T173719
CREATED:20251017T015654Z
LAST-MODIFIED:20251120T193415Z
UID:10000796-1845301500-1845308700@sjjcouncil.org
SUMMARY:Civic Engagement Workshop
DESCRIPTION:
URL:https://sjjcouncil.org/event/civic-engagement-workshop/2028-06-22/
ATTACH;FMTTYPE=image/png:https://sjjcouncil.org/wp-content/uploads/2025/10/Civic-Engagement-Workshop-2025-scaled.png
END:VEVENT
BEGIN:VEVENT
DTSTART;TZID=UTC:20280626T154500
DTEND;TZID=UTC:20280626T174500
DTSTAMP:20260422T173719
CREATED:20251017T015654Z
LAST-MODIFIED:20251120T193415Z
UID:10000797-1845647100-1845654300@sjjcouncil.org
SUMMARY:Civic Engagement Workshop
DESCRIPTION:
URL:https://sjjcouncil.org/event/civic-engagement-workshop/2028-06-26/
ATTACH;FMTTYPE=image/png:https://sjjcouncil.org/wp-content/uploads/2025/10/Civic-Engagement-Workshop-2025-scaled.png
END:VEVENT
BEGIN:VEVENT
DTSTART;TZID=UTC:20280627T154500
DTEND;TZID=UTC:20280627T174500
DTSTAMP:20260422T173719
CREATED:20251017T015654Z
LAST-MODIFIED:20251120T193415Z
UID:10000798-1845733500-1845740700@sjjcouncil.org
SUMMARY:Civic Engagement Workshop
DESCRIPTION:
URL:https://sjjcouncil.org/event/civic-engagement-workshop/2028-06-27/
ATTACH;FMTTYPE=image/png:https://sjjcouncil.org/wp-content/uploads/2025/10/Civic-Engagement-Workshop-2025-scaled.png
END:VEVENT
BEGIN:VEVENT
DTSTART;TZID=UTC:20280628T134500
DTEND;TZID=UTC:20280628T150000
DTSTAMP:20260422T173719
CREATED:20251017T015738Z
LAST-MODIFIED:20251120T193136Z
UID:10002402-1845812700-1845817200@sjjcouncil.org
SUMMARY:Civic Engagement Workshop
DESCRIPTION:
URL:https://sjjcouncil.org/event/civic-engagement-workshop-2/2028-06-28/
ATTACH;FMTTYPE=image/png:https://sjjcouncil.org/wp-content/uploads/2025/10/Civic-Engagement-Workshop-2025-scaled.png
END:VEVENT
BEGIN:VEVENT
DTSTART;TZID=UTC:20280629T154500
DTEND;TZID=UTC:20280629T174500
DTSTAMP:20260422T173719
CREATED:20251017T015654Z
LAST-MODIFIED:20251120T193415Z
UID:10000799-1845906300-1845913500@sjjcouncil.org
SUMMARY:Civic Engagement Workshop
DESCRIPTION:
URL:https://sjjcouncil.org/event/civic-engagement-workshop/2028-06-29/
ATTACH;FMTTYPE=image/png:https://sjjcouncil.org/wp-content/uploads/2025/10/Civic-Engagement-Workshop-2025-scaled.png
END:VEVENT
BEGIN:VEVENT
DTSTART;TZID=UTC:20280703T154500
DTEND;TZID=UTC:20280703T174500
DTSTAMP:20260422T173719
CREATED:20251017T015654Z
LAST-MODIFIED:20251120T193415Z
UID:10000800-1846251900-1846259100@sjjcouncil.org
SUMMARY:Civic Engagement Workshop
DESCRIPTION:
URL:https://sjjcouncil.org/event/civic-engagement-workshop/2028-07-03/
ATTACH;FMTTYPE=image/png:https://sjjcouncil.org/wp-content/uploads/2025/10/Civic-Engagement-Workshop-2025-scaled.png
END:VEVENT
BEGIN:VEVENT
DTSTART;TZID=UTC:20280704T154500
DTEND;TZID=UTC:20280704T174500
DTSTAMP:20260422T173719
CREATED:20251017T015654Z
LAST-MODIFIED:20251120T193415Z
UID:10000801-1846338300-1846345500@sjjcouncil.org
SUMMARY:Civic Engagement Workshop
DESCRIPTION:
URL:https://sjjcouncil.org/event/civic-engagement-workshop/2028-07-04/
ATTACH;FMTTYPE=image/png:https://sjjcouncil.org/wp-content/uploads/2025/10/Civic-Engagement-Workshop-2025-scaled.png
END:VEVENT
BEGIN:VEVENT
DTSTART;TZID=UTC:20280705T134500
DTEND;TZID=UTC:20280705T150000
DTSTAMP:20260422T173719
CREATED:20251017T015738Z
LAST-MODIFIED:20251120T193136Z
UID:10002405-1846417500-1846422000@sjjcouncil.org
SUMMARY:Civic Engagement Workshop
DESCRIPTION:
URL:https://sjjcouncil.org/event/civic-engagement-workshop-2/2028-07-05/
ATTACH;FMTTYPE=image/png:https://sjjcouncil.org/wp-content/uploads/2025/10/Civic-Engagement-Workshop-2025-scaled.png
END:VEVENT
BEGIN:VEVENT
DTSTART;TZID=UTC:20280706T154500
DTEND;TZID=UTC:20280706T174500
DTSTAMP:20260422T173719
CREATED:20251017T015654Z
LAST-MODIFIED:20251120T193415Z
UID:10000802-1846511100-1846518300@sjjcouncil.org
SUMMARY:Civic Engagement Workshop
DESCRIPTION:
URL:https://sjjcouncil.org/event/civic-engagement-workshop/2028-07-06/
ATTACH;FMTTYPE=image/png:https://sjjcouncil.org/wp-content/uploads/2025/10/Civic-Engagement-Workshop-2025-scaled.png
END:VEVENT
BEGIN:VEVENT
DTSTART;TZID=UTC:20280710T154500
DTEND;TZID=UTC:20280710T174500
DTSTAMP:20260422T173719
CREATED:20251017T015654Z
LAST-MODIFIED:20251120T193415Z
UID:10000803-1846856700-1846863900@sjjcouncil.org
SUMMARY:Civic Engagement Workshop
DESCRIPTION:
URL:https://sjjcouncil.org/event/civic-engagement-workshop/2028-07-10/
ATTACH;FMTTYPE=image/png:https://sjjcouncil.org/wp-content/uploads/2025/10/Civic-Engagement-Workshop-2025-scaled.png
END:VEVENT
BEGIN:VEVENT
DTSTART;TZID=UTC:20280711T154500
DTEND;TZID=UTC:20280711T174500
DTSTAMP:20260422T173719
CREATED:20251017T015654Z
LAST-MODIFIED:20251120T193415Z
UID:10000804-1846943100-1846950300@sjjcouncil.org
SUMMARY:Civic Engagement Workshop
DESCRIPTION:
URL:https://sjjcouncil.org/event/civic-engagement-workshop/2028-07-11/
ATTACH;FMTTYPE=image/png:https://sjjcouncil.org/wp-content/uploads/2025/10/Civic-Engagement-Workshop-2025-scaled.png
END:VEVENT
BEGIN:VEVENT
DTSTART;TZID=UTC:20280712T134500
DTEND;TZID=UTC:20280712T150000
DTSTAMP:20260422T173719
CREATED:20251017T015738Z
LAST-MODIFIED:20251120T193136Z
UID:10002408-1847022300-1847026800@sjjcouncil.org
SUMMARY:Civic Engagement Workshop
DESCRIPTION:
URL:https://sjjcouncil.org/event/civic-engagement-workshop-2/2028-07-12/
ATTACH;FMTTYPE=image/png:https://sjjcouncil.org/wp-content/uploads/2025/10/Civic-Engagement-Workshop-2025-scaled.png
END:VEVENT
BEGIN:VEVENT
DTSTART;TZID=UTC:20280713T154500
DTEND;TZID=UTC:20280713T174500
DTSTAMP:20260422T173719
CREATED:20251017T015654Z
LAST-MODIFIED:20251120T193415Z
UID:10000805-1847115900-1847123100@sjjcouncil.org
SUMMARY:Civic Engagement Workshop
DESCRIPTION:
URL:https://sjjcouncil.org/event/civic-engagement-workshop/2028-07-13/
ATTACH;FMTTYPE=image/png:https://sjjcouncil.org/wp-content/uploads/2025/10/Civic-Engagement-Workshop-2025-scaled.png
END:VEVENT
BEGIN:VEVENT
DTSTART;TZID=UTC:20280717T154500
DTEND;TZID=UTC:20280717T174500
DTSTAMP:20260422T173719
CREATED:20251017T015654Z
LAST-MODIFIED:20251120T193415Z
UID:10000806-1847461500-1847468700@sjjcouncil.org
SUMMARY:Civic Engagement Workshop
DESCRIPTION:
URL:https://sjjcouncil.org/event/civic-engagement-workshop/2028-07-17/
ATTACH;FMTTYPE=image/png:https://sjjcouncil.org/wp-content/uploads/2025/10/Civic-Engagement-Workshop-2025-scaled.png
END:VEVENT
BEGIN:VEVENT
DTSTART;TZID=UTC:20280718T154500
DTEND;TZID=UTC:20280718T174500
DTSTAMP:20260422T173719
CREATED:20251017T015654Z
LAST-MODIFIED:20251120T193415Z
UID:10000807-1847547900-1847555100@sjjcouncil.org
SUMMARY:Civic Engagement Workshop
DESCRIPTION:
URL:https://sjjcouncil.org/event/civic-engagement-workshop/2028-07-18/
ATTACH;FMTTYPE=image/png:https://sjjcouncil.org/wp-content/uploads/2025/10/Civic-Engagement-Workshop-2025-scaled.png
END:VEVENT
BEGIN:VEVENT
DTSTART;TZID=UTC:20280719T134500
DTEND;TZID=UTC:20280719T150000
DTSTAMP:20260422T173719
CREATED:20251017T015738Z
LAST-MODIFIED:20251120T193136Z
UID:10002411-1847627100-1847631600@sjjcouncil.org
SUMMARY:Civic Engagement Workshop
DESCRIPTION:
URL:https://sjjcouncil.org/event/civic-engagement-workshop-2/2028-07-19/
ATTACH;FMTTYPE=image/png:https://sjjcouncil.org/wp-content/uploads/2025/10/Civic-Engagement-Workshop-2025-scaled.png
END:VEVENT
BEGIN:VEVENT
DTSTART;TZID=UTC:20280720T154500
DTEND;TZID=UTC:20280720T174500
DTSTAMP:20260422T173719
CREATED:20251017T015654Z
LAST-MODIFIED:20251120T193415Z
UID:10000808-1847720700-1847727900@sjjcouncil.org
SUMMARY:Civic Engagement Workshop
DESCRIPTION:
URL:https://sjjcouncil.org/event/civic-engagement-workshop/2028-07-20/
ATTACH;FMTTYPE=image/png:https://sjjcouncil.org/wp-content/uploads/2025/10/Civic-Engagement-Workshop-2025-scaled.png
END:VEVENT
BEGIN:VEVENT
DTSTART;TZID=UTC:20280724T154500
DTEND;TZID=UTC:20280724T174500
DTSTAMP:20260422T173719
CREATED:20251017T015654Z
LAST-MODIFIED:20251120T193415Z
UID:10000809-1848066300-1848073500@sjjcouncil.org
SUMMARY:Civic Engagement Workshop
DESCRIPTION:
URL:https://sjjcouncil.org/event/civic-engagement-workshop/2028-07-24/
ATTACH;FMTTYPE=image/png:https://sjjcouncil.org/wp-content/uploads/2025/10/Civic-Engagement-Workshop-2025-scaled.png
END:VEVENT
BEGIN:VEVENT
DTSTART;TZID=UTC:20280725T154500
DTEND;TZID=UTC:20280725T174500
DTSTAMP:20260422T173719
CREATED:20251017T015654Z
LAST-MODIFIED:20251120T193415Z
UID:10000810-1848152700-1848159900@sjjcouncil.org
SUMMARY:Civic Engagement Workshop
DESCRIPTION:
URL:https://sjjcouncil.org/event/civic-engagement-workshop/2028-07-25/
ATTACH;FMTTYPE=image/png:https://sjjcouncil.org/wp-content/uploads/2025/10/Civic-Engagement-Workshop-2025-scaled.png
END:VEVENT
BEGIN:VEVENT
DTSTART;TZID=UTC:20280726T134500
DTEND;TZID=UTC:20280726T150000
DTSTAMP:20260422T173719
CREATED:20251017T015738Z
LAST-MODIFIED:20251120T193136Z
UID:10002414-1848231900-1848236400@sjjcouncil.org
SUMMARY:Civic Engagement Workshop
DESCRIPTION:
URL:https://sjjcouncil.org/event/civic-engagement-workshop-2/2028-07-26/
ATTACH;FMTTYPE=image/png:https://sjjcouncil.org/wp-content/uploads/2025/10/Civic-Engagement-Workshop-2025-scaled.png
END:VEVENT
BEGIN:VEVENT
DTSTART;TZID=UTC:20280727T154500
DTEND;TZID=UTC:20280727T174500
DTSTAMP:20260422T173719
CREATED:20251017T015654Z
LAST-MODIFIED:20251120T193415Z
UID:10000811-1848325500-1848332700@sjjcouncil.org
SUMMARY:Civic Engagement Workshop
DESCRIPTION:
URL:https://sjjcouncil.org/event/civic-engagement-workshop/2028-07-27/
ATTACH;FMTTYPE=image/png:https://sjjcouncil.org/wp-content/uploads/2025/10/Civic-Engagement-Workshop-2025-scaled.png
END:VEVENT
BEGIN:VEVENT
DTSTART;TZID=UTC:20280731T154500
DTEND;TZID=UTC:20280731T174500
DTSTAMP:20260422T173719
CREATED:20251017T015654Z
LAST-MODIFIED:20251120T193415Z
UID:10000812-1848671100-1848678300@sjjcouncil.org
SUMMARY:Civic Engagement Workshop
DESCRIPTION:
URL:https://sjjcouncil.org/event/civic-engagement-workshop/2028-07-31/
ATTACH;FMTTYPE=image/png:https://sjjcouncil.org/wp-content/uploads/2025/10/Civic-Engagement-Workshop-2025-scaled.png
END:VEVENT
BEGIN:VEVENT
DTSTART;TZID=UTC:20280801T154500
DTEND;TZID=UTC:20280801T174500
DTSTAMP:20260422T173719
CREATED:20251017T015654Z
LAST-MODIFIED:20251120T193415Z
UID:10000813-1848757500-1848764700@sjjcouncil.org
SUMMARY:Civic Engagement Workshop
DESCRIPTION:
URL:https://sjjcouncil.org/event/civic-engagement-workshop/2028-08-01/
ATTACH;FMTTYPE=image/png:https://sjjcouncil.org/wp-content/uploads/2025/10/Civic-Engagement-Workshop-2025-scaled.png
END:VEVENT
END:VCALENDAR