BEGIN:VCALENDAR
VERSION:2.0
PRODID:-//CCSJJC - ECPv6.15.20//NONSGML v1.0//EN
CALSCALE:GREGORIAN
METHOD:PUBLISH
X-WR-CALNAME:CCSJJC
X-ORIGINAL-URL:https://sjjcouncil.org
X-WR-CALDESC:Events for CCSJJC
REFRESH-INTERVAL;VALUE=DURATION:PT1H
X-Robots-Tag:noindex
X-PUBLISHED-TTL:PT1H
BEGIN:VTIMEZONE
TZID:UTC
BEGIN:STANDARD
TZOFFSETFROM:+0000
TZOFFSETTO:+0000
TZNAME:UTC
DTSTART:20260101T000000
END:STANDARD
END:VTIMEZONE
BEGIN:VEVENT
DTSTART;TZID=UTC:20270721T134500
DTEND;TZID=UTC:20270721T150000
DTSTAMP:20260422T171901
CREATED:20251017T015738Z
LAST-MODIFIED:20251120T193136Z
UID:10002255-1816177500-1816182000@sjjcouncil.org
SUMMARY:Civic Engagement Workshop
DESCRIPTION:
URL:https://sjjcouncil.org/event/civic-engagement-workshop-2/2027-07-21/
ATTACH;FMTTYPE=image/png:https://sjjcouncil.org/wp-content/uploads/2025/10/Civic-Engagement-Workshop-2025-scaled.png
END:VEVENT
BEGIN:VEVENT
DTSTART;TZID=UTC:20270722T154500
DTEND;TZID=UTC:20270722T174500
DTSTAMP:20260422T171901
CREATED:20251017T015654Z
LAST-MODIFIED:20251120T193415Z
UID:10000652-1816271100-1816278300@sjjcouncil.org
SUMMARY:Civic Engagement Workshop
DESCRIPTION:
URL:https://sjjcouncil.org/event/civic-engagement-workshop/2027-07-22/
ATTACH;FMTTYPE=image/png:https://sjjcouncil.org/wp-content/uploads/2025/10/Civic-Engagement-Workshop-2025-scaled.png
END:VEVENT
BEGIN:VEVENT
DTSTART;TZID=UTC:20270726T154500
DTEND;TZID=UTC:20270726T174500
DTSTAMP:20260422T171901
CREATED:20251017T015654Z
LAST-MODIFIED:20251120T193415Z
UID:10000653-1816616700-1816623900@sjjcouncil.org
SUMMARY:Civic Engagement Workshop
DESCRIPTION:
URL:https://sjjcouncil.org/event/civic-engagement-workshop/2027-07-26/
ATTACH;FMTTYPE=image/png:https://sjjcouncil.org/wp-content/uploads/2025/10/Civic-Engagement-Workshop-2025-scaled.png
END:VEVENT
BEGIN:VEVENT
DTSTART;TZID=UTC:20270727T154500
DTEND;TZID=UTC:20270727T174500
DTSTAMP:20260422T171901
CREATED:20251017T015654Z
LAST-MODIFIED:20251120T193415Z
UID:10000654-1816703100-1816710300@sjjcouncil.org
SUMMARY:Civic Engagement Workshop
DESCRIPTION:
URL:https://sjjcouncil.org/event/civic-engagement-workshop/2027-07-27/
ATTACH;FMTTYPE=image/png:https://sjjcouncil.org/wp-content/uploads/2025/10/Civic-Engagement-Workshop-2025-scaled.png
END:VEVENT
BEGIN:VEVENT
DTSTART;TZID=UTC:20270728T134500
DTEND;TZID=UTC:20270728T150000
DTSTAMP:20260422T171901
CREATED:20251017T015738Z
LAST-MODIFIED:20251120T193136Z
UID:10002258-1816782300-1816786800@sjjcouncil.org
SUMMARY:Civic Engagement Workshop
DESCRIPTION:
URL:https://sjjcouncil.org/event/civic-engagement-workshop-2/2027-07-28/
ATTACH;FMTTYPE=image/png:https://sjjcouncil.org/wp-content/uploads/2025/10/Civic-Engagement-Workshop-2025-scaled.png
END:VEVENT
BEGIN:VEVENT
DTSTART;TZID=UTC:20270729T154500
DTEND;TZID=UTC:20270729T174500
DTSTAMP:20260422T171901
CREATED:20251017T015654Z
LAST-MODIFIED:20251120T193415Z
UID:10000655-1816875900-1816883100@sjjcouncil.org
SUMMARY:Civic Engagement Workshop
DESCRIPTION:
URL:https://sjjcouncil.org/event/civic-engagement-workshop/2027-07-29/
ATTACH;FMTTYPE=image/png:https://sjjcouncil.org/wp-content/uploads/2025/10/Civic-Engagement-Workshop-2025-scaled.png
END:VEVENT
BEGIN:VEVENT
DTSTART;TZID=UTC:20270802T154500
DTEND;TZID=UTC:20270802T174500
DTSTAMP:20260422T171901
CREATED:20251017T015654Z
LAST-MODIFIED:20251120T193415Z
UID:10000656-1817221500-1817228700@sjjcouncil.org
SUMMARY:Civic Engagement Workshop
DESCRIPTION:
URL:https://sjjcouncil.org/event/civic-engagement-workshop/2027-08-02/
ATTACH;FMTTYPE=image/png:https://sjjcouncil.org/wp-content/uploads/2025/10/Civic-Engagement-Workshop-2025-scaled.png
END:VEVENT
BEGIN:VEVENT
DTSTART;TZID=UTC:20270803T154500
DTEND;TZID=UTC:20270803T174500
DTSTAMP:20260422T171901
CREATED:20251017T015654Z
LAST-MODIFIED:20251120T193415Z
UID:10000657-1817307900-1817315100@sjjcouncil.org
SUMMARY:Civic Engagement Workshop
DESCRIPTION:
URL:https://sjjcouncil.org/event/civic-engagement-workshop/2027-08-03/
ATTACH;FMTTYPE=image/png:https://sjjcouncil.org/wp-content/uploads/2025/10/Civic-Engagement-Workshop-2025-scaled.png
END:VEVENT
BEGIN:VEVENT
DTSTART;TZID=UTC:20270804T134500
DTEND;TZID=UTC:20270804T150000
DTSTAMP:20260422T171901
CREATED:20251017T015738Z
LAST-MODIFIED:20251120T193136Z
UID:10002261-1817387100-1817391600@sjjcouncil.org
SUMMARY:Civic Engagement Workshop
DESCRIPTION:
URL:https://sjjcouncil.org/event/civic-engagement-workshop-2/2027-08-04/
ATTACH;FMTTYPE=image/png:https://sjjcouncil.org/wp-content/uploads/2025/10/Civic-Engagement-Workshop-2025-scaled.png
END:VEVENT
BEGIN:VEVENT
DTSTART;TZID=UTC:20270805T154500
DTEND;TZID=UTC:20270805T174500
DTSTAMP:20260422T171901
CREATED:20251017T015654Z
LAST-MODIFIED:20251120T193415Z
UID:10000658-1817480700-1817487900@sjjcouncil.org
SUMMARY:Civic Engagement Workshop
DESCRIPTION:
URL:https://sjjcouncil.org/event/civic-engagement-workshop/2027-08-05/
ATTACH;FMTTYPE=image/png:https://sjjcouncil.org/wp-content/uploads/2025/10/Civic-Engagement-Workshop-2025-scaled.png
END:VEVENT
BEGIN:VEVENT
DTSTART;TZID=UTC:20270809T154500
DTEND;TZID=UTC:20270809T174500
DTSTAMP:20260422T171901
CREATED:20251017T015654Z
LAST-MODIFIED:20251120T193415Z
UID:10000659-1817826300-1817833500@sjjcouncil.org
SUMMARY:Civic Engagement Workshop
DESCRIPTION:
URL:https://sjjcouncil.org/event/civic-engagement-workshop/2027-08-09/
ATTACH;FMTTYPE=image/png:https://sjjcouncil.org/wp-content/uploads/2025/10/Civic-Engagement-Workshop-2025-scaled.png
END:VEVENT
BEGIN:VEVENT
DTSTART;TZID=UTC:20270810T154500
DTEND;TZID=UTC:20270810T174500
DTSTAMP:20260422T171901
CREATED:20251017T015654Z
LAST-MODIFIED:20251120T193415Z
UID:10000660-1817912700-1817919900@sjjcouncil.org
SUMMARY:Civic Engagement Workshop
DESCRIPTION:
URL:https://sjjcouncil.org/event/civic-engagement-workshop/2027-08-10/
ATTACH;FMTTYPE=image/png:https://sjjcouncil.org/wp-content/uploads/2025/10/Civic-Engagement-Workshop-2025-scaled.png
END:VEVENT
BEGIN:VEVENT
DTSTART;TZID=UTC:20270811T134500
DTEND;TZID=UTC:20270811T150000
DTSTAMP:20260422T171901
CREATED:20251017T015738Z
LAST-MODIFIED:20251120T193136Z
UID:10002264-1817991900-1817996400@sjjcouncil.org
SUMMARY:Civic Engagement Workshop
DESCRIPTION:
URL:https://sjjcouncil.org/event/civic-engagement-workshop-2/2027-08-11/
ATTACH;FMTTYPE=image/png:https://sjjcouncil.org/wp-content/uploads/2025/10/Civic-Engagement-Workshop-2025-scaled.png
END:VEVENT
BEGIN:VEVENT
DTSTART;TZID=UTC:20270812T154500
DTEND;TZID=UTC:20270812T174500
DTSTAMP:20260422T171901
CREATED:20251017T015654Z
LAST-MODIFIED:20251120T193415Z
UID:10000661-1818085500-1818092700@sjjcouncil.org
SUMMARY:Civic Engagement Workshop
DESCRIPTION:
URL:https://sjjcouncil.org/event/civic-engagement-workshop/2027-08-12/
ATTACH;FMTTYPE=image/png:https://sjjcouncil.org/wp-content/uploads/2025/10/Civic-Engagement-Workshop-2025-scaled.png
END:VEVENT
BEGIN:VEVENT
DTSTART;TZID=UTC:20270816T154500
DTEND;TZID=UTC:20270816T174500
DTSTAMP:20260422T171901
CREATED:20251017T015654Z
LAST-MODIFIED:20251120T193415Z
UID:10000662-1818431100-1818438300@sjjcouncil.org
SUMMARY:Civic Engagement Workshop
DESCRIPTION:
URL:https://sjjcouncil.org/event/civic-engagement-workshop/2027-08-16/
ATTACH;FMTTYPE=image/png:https://sjjcouncil.org/wp-content/uploads/2025/10/Civic-Engagement-Workshop-2025-scaled.png
END:VEVENT
BEGIN:VEVENT
DTSTART;TZID=UTC:20270817T154500
DTEND;TZID=UTC:20270817T174500
DTSTAMP:20260422T171901
CREATED:20251017T015654Z
LAST-MODIFIED:20251120T193415Z
UID:10000663-1818517500-1818524700@sjjcouncil.org
SUMMARY:Civic Engagement Workshop
DESCRIPTION:
URL:https://sjjcouncil.org/event/civic-engagement-workshop/2027-08-17/
ATTACH;FMTTYPE=image/png:https://sjjcouncil.org/wp-content/uploads/2025/10/Civic-Engagement-Workshop-2025-scaled.png
END:VEVENT
BEGIN:VEVENT
DTSTART;TZID=UTC:20270818T134500
DTEND;TZID=UTC:20270818T150000
DTSTAMP:20260422T171901
CREATED:20251017T015738Z
LAST-MODIFIED:20251120T193136Z
UID:10002267-1818596700-1818601200@sjjcouncil.org
SUMMARY:Civic Engagement Workshop
DESCRIPTION:
URL:https://sjjcouncil.org/event/civic-engagement-workshop-2/2027-08-18/
ATTACH;FMTTYPE=image/png:https://sjjcouncil.org/wp-content/uploads/2025/10/Civic-Engagement-Workshop-2025-scaled.png
END:VEVENT
BEGIN:VEVENT
DTSTART;TZID=UTC:20270819T154500
DTEND;TZID=UTC:20270819T174500
DTSTAMP:20260422T171901
CREATED:20251017T015654Z
LAST-MODIFIED:20251120T193415Z
UID:10000664-1818690300-1818697500@sjjcouncil.org
SUMMARY:Civic Engagement Workshop
DESCRIPTION:
URL:https://sjjcouncil.org/event/civic-engagement-workshop/2027-08-19/
ATTACH;FMTTYPE=image/png:https://sjjcouncil.org/wp-content/uploads/2025/10/Civic-Engagement-Workshop-2025-scaled.png
END:VEVENT
BEGIN:VEVENT
DTSTART;TZID=UTC:20270823T154500
DTEND;TZID=UTC:20270823T174500
DTSTAMP:20260422T171901
CREATED:20251017T015654Z
LAST-MODIFIED:20251120T193415Z
UID:10000665-1819035900-1819043100@sjjcouncil.org
SUMMARY:Civic Engagement Workshop
DESCRIPTION:
URL:https://sjjcouncil.org/event/civic-engagement-workshop/2027-08-23/
ATTACH;FMTTYPE=image/png:https://sjjcouncil.org/wp-content/uploads/2025/10/Civic-Engagement-Workshop-2025-scaled.png
END:VEVENT
BEGIN:VEVENT
DTSTART;TZID=UTC:20270824T154500
DTEND;TZID=UTC:20270824T174500
DTSTAMP:20260422T171901
CREATED:20251017T015654Z
LAST-MODIFIED:20251120T193415Z
UID:10000666-1819122300-1819129500@sjjcouncil.org
SUMMARY:Civic Engagement Workshop
DESCRIPTION:
URL:https://sjjcouncil.org/event/civic-engagement-workshop/2027-08-24/
ATTACH;FMTTYPE=image/png:https://sjjcouncil.org/wp-content/uploads/2025/10/Civic-Engagement-Workshop-2025-scaled.png
END:VEVENT
BEGIN:VEVENT
DTSTART;TZID=UTC:20270825T134500
DTEND;TZID=UTC:20270825T150000
DTSTAMP:20260422T171901
CREATED:20251017T015738Z
LAST-MODIFIED:20251120T193136Z
UID:10002270-1819201500-1819206000@sjjcouncil.org
SUMMARY:Civic Engagement Workshop
DESCRIPTION:
URL:https://sjjcouncil.org/event/civic-engagement-workshop-2/2027-08-25/
ATTACH;FMTTYPE=image/png:https://sjjcouncil.org/wp-content/uploads/2025/10/Civic-Engagement-Workshop-2025-scaled.png
END:VEVENT
BEGIN:VEVENT
DTSTART;TZID=UTC:20270826T154500
DTEND;TZID=UTC:20270826T174500
DTSTAMP:20260422T171901
CREATED:20251017T015654Z
LAST-MODIFIED:20251120T193415Z
UID:10000667-1819295100-1819302300@sjjcouncil.org
SUMMARY:Civic Engagement Workshop
DESCRIPTION:
URL:https://sjjcouncil.org/event/civic-engagement-workshop/2027-08-26/
ATTACH;FMTTYPE=image/png:https://sjjcouncil.org/wp-content/uploads/2025/10/Civic-Engagement-Workshop-2025-scaled.png
END:VEVENT
BEGIN:VEVENT
DTSTART;TZID=UTC:20270830T154500
DTEND;TZID=UTC:20270830T174500
DTSTAMP:20260422T171901
CREATED:20251017T015654Z
LAST-MODIFIED:20251120T193415Z
UID:10000668-1819640700-1819647900@sjjcouncil.org
SUMMARY:Civic Engagement Workshop
DESCRIPTION:
URL:https://sjjcouncil.org/event/civic-engagement-workshop/2027-08-30/
ATTACH;FMTTYPE=image/png:https://sjjcouncil.org/wp-content/uploads/2025/10/Civic-Engagement-Workshop-2025-scaled.png
END:VEVENT
BEGIN:VEVENT
DTSTART;TZID=UTC:20270831T154500
DTEND;TZID=UTC:20270831T174500
DTSTAMP:20260422T171901
CREATED:20251017T015654Z
LAST-MODIFIED:20251120T193415Z
UID:10000669-1819727100-1819734300@sjjcouncil.org
SUMMARY:Civic Engagement Workshop
DESCRIPTION:
URL:https://sjjcouncil.org/event/civic-engagement-workshop/2027-08-31/
ATTACH;FMTTYPE=image/png:https://sjjcouncil.org/wp-content/uploads/2025/10/Civic-Engagement-Workshop-2025-scaled.png
END:VEVENT
BEGIN:VEVENT
DTSTART;TZID=UTC:20270901T134500
DTEND;TZID=UTC:20270901T150000
DTSTAMP:20260422T171901
CREATED:20251017T015738Z
LAST-MODIFIED:20251120T193136Z
UID:10002273-1819806300-1819810800@sjjcouncil.org
SUMMARY:Civic Engagement Workshop
DESCRIPTION:
URL:https://sjjcouncil.org/event/civic-engagement-workshop-2/2027-09-01/
ATTACH;FMTTYPE=image/png:https://sjjcouncil.org/wp-content/uploads/2025/10/Civic-Engagement-Workshop-2025-scaled.png
END:VEVENT
BEGIN:VEVENT
DTSTART;TZID=UTC:20270902T154500
DTEND;TZID=UTC:20270902T174500
DTSTAMP:20260422T171901
CREATED:20251017T015654Z
LAST-MODIFIED:20251120T193415Z
UID:10000670-1819899900-1819907100@sjjcouncil.org
SUMMARY:Civic Engagement Workshop
DESCRIPTION:
URL:https://sjjcouncil.org/event/civic-engagement-workshop/2027-09-02/
ATTACH;FMTTYPE=image/png:https://sjjcouncil.org/wp-content/uploads/2025/10/Civic-Engagement-Workshop-2025-scaled.png
END:VEVENT
BEGIN:VEVENT
DTSTART;TZID=UTC:20270906T154500
DTEND;TZID=UTC:20270906T174500
DTSTAMP:20260422T171901
CREATED:20251017T015654Z
LAST-MODIFIED:20251120T193415Z
UID:10000671-1820245500-1820252700@sjjcouncil.org
SUMMARY:Civic Engagement Workshop
DESCRIPTION:
URL:https://sjjcouncil.org/event/civic-engagement-workshop/2027-09-06/
ATTACH;FMTTYPE=image/png:https://sjjcouncil.org/wp-content/uploads/2025/10/Civic-Engagement-Workshop-2025-scaled.png
END:VEVENT
BEGIN:VEVENT
DTSTART;TZID=UTC:20270907T154500
DTEND;TZID=UTC:20270907T174500
DTSTAMP:20260422T171901
CREATED:20251017T015654Z
LAST-MODIFIED:20251120T193415Z
UID:10000672-1820331900-1820339100@sjjcouncil.org
SUMMARY:Civic Engagement Workshop
DESCRIPTION:
URL:https://sjjcouncil.org/event/civic-engagement-workshop/2027-09-07/
ATTACH;FMTTYPE=image/png:https://sjjcouncil.org/wp-content/uploads/2025/10/Civic-Engagement-Workshop-2025-scaled.png
END:VEVENT
BEGIN:VEVENT
DTSTART;TZID=UTC:20270908T134500
DTEND;TZID=UTC:20270908T150000
DTSTAMP:20260422T171901
CREATED:20251017T015738Z
LAST-MODIFIED:20251120T193136Z
UID:10002276-1820411100-1820415600@sjjcouncil.org
SUMMARY:Civic Engagement Workshop
DESCRIPTION:
URL:https://sjjcouncil.org/event/civic-engagement-workshop-2/2027-09-08/
ATTACH;FMTTYPE=image/png:https://sjjcouncil.org/wp-content/uploads/2025/10/Civic-Engagement-Workshop-2025-scaled.png
END:VEVENT
BEGIN:VEVENT
DTSTART;TZID=UTC:20270909T154500
DTEND;TZID=UTC:20270909T174500
DTSTAMP:20260422T171901
CREATED:20251017T015654Z
LAST-MODIFIED:20251120T193415Z
UID:10000673-1820504700-1820511900@sjjcouncil.org
SUMMARY:Civic Engagement Workshop
DESCRIPTION:
URL:https://sjjcouncil.org/event/civic-engagement-workshop/2027-09-09/
ATTACH;FMTTYPE=image/png:https://sjjcouncil.org/wp-content/uploads/2025/10/Civic-Engagement-Workshop-2025-scaled.png
END:VEVENT
END:VCALENDAR