BEGIN:VCALENDAR
VERSION:2.0
PRODID:-//CCSJJC - ECPv6.15.20//NONSGML v1.0//EN
CALSCALE:GREGORIAN
METHOD:PUBLISH
X-WR-CALNAME:CCSJJC
X-ORIGINAL-URL:https://sjjcouncil.org
X-WR-CALDESC:Events for CCSJJC
REFRESH-INTERVAL;VALUE=DURATION:PT1H
X-Robots-Tag:noindex
X-PUBLISHED-TTL:PT1H
BEGIN:VTIMEZONE
TZID:UTC
BEGIN:STANDARD
TZOFFSETFROM:+0000
TZOFFSETTO:+0000
TZNAME:UTC
DTSTART:20270101T000000
END:STANDARD
END:VTIMEZONE
BEGIN:VEVENT
DTSTART;TZID=UTC:20280113T154500
DTEND;TZID=UTC:20280113T174500
DTSTAMP:20260422T180035
CREATED:20251017T015654Z
LAST-MODIFIED:20251120T193415Z
UID:10000727-1831391100-1831398300@sjjcouncil.org
SUMMARY:Civic Engagement Workshop
DESCRIPTION:
URL:https://sjjcouncil.org/event/civic-engagement-workshop/2028-01-13/
ATTACH;FMTTYPE=image/png:https://sjjcouncil.org/wp-content/uploads/2025/10/Civic-Engagement-Workshop-2025-scaled.png
END:VEVENT
BEGIN:VEVENT
DTSTART;TZID=UTC:20280117T154500
DTEND;TZID=UTC:20280117T174500
DTSTAMP:20260422T180035
CREATED:20251017T015654Z
LAST-MODIFIED:20251120T193415Z
UID:10000728-1831736700-1831743900@sjjcouncil.org
SUMMARY:Civic Engagement Workshop
DESCRIPTION:
URL:https://sjjcouncil.org/event/civic-engagement-workshop/2028-01-17/
ATTACH;FMTTYPE=image/png:https://sjjcouncil.org/wp-content/uploads/2025/10/Civic-Engagement-Workshop-2025-scaled.png
END:VEVENT
BEGIN:VEVENT
DTSTART;TZID=UTC:20280118T154500
DTEND;TZID=UTC:20280118T174500
DTSTAMP:20260422T180035
CREATED:20251017T015654Z
LAST-MODIFIED:20251120T193415Z
UID:10000729-1831823100-1831830300@sjjcouncil.org
SUMMARY:Civic Engagement Workshop
DESCRIPTION:
URL:https://sjjcouncil.org/event/civic-engagement-workshop/2028-01-18/
ATTACH;FMTTYPE=image/png:https://sjjcouncil.org/wp-content/uploads/2025/10/Civic-Engagement-Workshop-2025-scaled.png
END:VEVENT
BEGIN:VEVENT
DTSTART;TZID=UTC:20280119T134500
DTEND;TZID=UTC:20280119T150000
DTSTAMP:20260422T180035
CREATED:20251017T015738Z
LAST-MODIFIED:20251120T193136Z
UID:10002333-1831902300-1831906800@sjjcouncil.org
SUMMARY:Civic Engagement Workshop
DESCRIPTION:
URL:https://sjjcouncil.org/event/civic-engagement-workshop-2/2028-01-19/
ATTACH;FMTTYPE=image/png:https://sjjcouncil.org/wp-content/uploads/2025/10/Civic-Engagement-Workshop-2025-scaled.png
END:VEVENT
BEGIN:VEVENT
DTSTART;TZID=UTC:20280120T154500
DTEND;TZID=UTC:20280120T174500
DTSTAMP:20260422T180035
CREATED:20251017T015654Z
LAST-MODIFIED:20251120T193415Z
UID:10000730-1831995900-1832003100@sjjcouncil.org
SUMMARY:Civic Engagement Workshop
DESCRIPTION:
URL:https://sjjcouncil.org/event/civic-engagement-workshop/2028-01-20/
ATTACH;FMTTYPE=image/png:https://sjjcouncil.org/wp-content/uploads/2025/10/Civic-Engagement-Workshop-2025-scaled.png
END:VEVENT
BEGIN:VEVENT
DTSTART;TZID=UTC:20280124T154500
DTEND;TZID=UTC:20280124T174500
DTSTAMP:20260422T180035
CREATED:20251017T015654Z
LAST-MODIFIED:20251120T193415Z
UID:10000731-1832341500-1832348700@sjjcouncil.org
SUMMARY:Civic Engagement Workshop
DESCRIPTION:
URL:https://sjjcouncil.org/event/civic-engagement-workshop/2028-01-24/
ATTACH;FMTTYPE=image/png:https://sjjcouncil.org/wp-content/uploads/2025/10/Civic-Engagement-Workshop-2025-scaled.png
END:VEVENT
BEGIN:VEVENT
DTSTART;TZID=UTC:20280125T154500
DTEND;TZID=UTC:20280125T174500
DTSTAMP:20260422T180035
CREATED:20251017T015654Z
LAST-MODIFIED:20251120T193415Z
UID:10000732-1832427900-1832435100@sjjcouncil.org
SUMMARY:Civic Engagement Workshop
DESCRIPTION:
URL:https://sjjcouncil.org/event/civic-engagement-workshop/2028-01-25/
ATTACH;FMTTYPE=image/png:https://sjjcouncil.org/wp-content/uploads/2025/10/Civic-Engagement-Workshop-2025-scaled.png
END:VEVENT
BEGIN:VEVENT
DTSTART;TZID=UTC:20280126T134500
DTEND;TZID=UTC:20280126T150000
DTSTAMP:20260422T180035
CREATED:20251017T015738Z
LAST-MODIFIED:20251120T193136Z
UID:10002336-1832507100-1832511600@sjjcouncil.org
SUMMARY:Civic Engagement Workshop
DESCRIPTION:
URL:https://sjjcouncil.org/event/civic-engagement-workshop-2/2028-01-26/
ATTACH;FMTTYPE=image/png:https://sjjcouncil.org/wp-content/uploads/2025/10/Civic-Engagement-Workshop-2025-scaled.png
END:VEVENT
BEGIN:VEVENT
DTSTART;TZID=UTC:20280127T154500
DTEND;TZID=UTC:20280127T174500
DTSTAMP:20260422T180036
CREATED:20251017T015654Z
LAST-MODIFIED:20251120T193415Z
UID:10000733-1832600700-1832607900@sjjcouncil.org
SUMMARY:Civic Engagement Workshop
DESCRIPTION:
URL:https://sjjcouncil.org/event/civic-engagement-workshop/2028-01-27/
ATTACH;FMTTYPE=image/png:https://sjjcouncil.org/wp-content/uploads/2025/10/Civic-Engagement-Workshop-2025-scaled.png
END:VEVENT
BEGIN:VEVENT
DTSTART;TZID=UTC:20280131T154500
DTEND;TZID=UTC:20280131T174500
DTSTAMP:20260422T180036
CREATED:20251017T015654Z
LAST-MODIFIED:20251120T193415Z
UID:10000734-1832946300-1832953500@sjjcouncil.org
SUMMARY:Civic Engagement Workshop
DESCRIPTION:
URL:https://sjjcouncil.org/event/civic-engagement-workshop/2028-01-31/
ATTACH;FMTTYPE=image/png:https://sjjcouncil.org/wp-content/uploads/2025/10/Civic-Engagement-Workshop-2025-scaled.png
END:VEVENT
BEGIN:VEVENT
DTSTART;TZID=UTC:20280201T154500
DTEND;TZID=UTC:20280201T174500
DTSTAMP:20260422T180036
CREATED:20251017T015654Z
LAST-MODIFIED:20251120T193415Z
UID:10000735-1833032700-1833039900@sjjcouncil.org
SUMMARY:Civic Engagement Workshop
DESCRIPTION:
URL:https://sjjcouncil.org/event/civic-engagement-workshop/2028-02-01/
ATTACH;FMTTYPE=image/png:https://sjjcouncil.org/wp-content/uploads/2025/10/Civic-Engagement-Workshop-2025-scaled.png
END:VEVENT
BEGIN:VEVENT
DTSTART;TZID=UTC:20280202T134500
DTEND;TZID=UTC:20280202T150000
DTSTAMP:20260422T180036
CREATED:20251017T015738Z
LAST-MODIFIED:20251120T193136Z
UID:10002339-1833111900-1833116400@sjjcouncil.org
SUMMARY:Civic Engagement Workshop
DESCRIPTION:
URL:https://sjjcouncil.org/event/civic-engagement-workshop-2/2028-02-02/
ATTACH;FMTTYPE=image/png:https://sjjcouncil.org/wp-content/uploads/2025/10/Civic-Engagement-Workshop-2025-scaled.png
END:VEVENT
BEGIN:VEVENT
DTSTART;TZID=UTC:20280203T154500
DTEND;TZID=UTC:20280203T174500
DTSTAMP:20260422T180036
CREATED:20251017T015654Z
LAST-MODIFIED:20251120T193415Z
UID:10000736-1833205500-1833212700@sjjcouncil.org
SUMMARY:Civic Engagement Workshop
DESCRIPTION:
URL:https://sjjcouncil.org/event/civic-engagement-workshop/2028-02-03/
ATTACH;FMTTYPE=image/png:https://sjjcouncil.org/wp-content/uploads/2025/10/Civic-Engagement-Workshop-2025-scaled.png
END:VEVENT
BEGIN:VEVENT
DTSTART;TZID=UTC:20280207T154500
DTEND;TZID=UTC:20280207T174500
DTSTAMP:20260422T180036
CREATED:20251017T015654Z
LAST-MODIFIED:20251120T193415Z
UID:10000737-1833551100-1833558300@sjjcouncil.org
SUMMARY:Civic Engagement Workshop
DESCRIPTION:
URL:https://sjjcouncil.org/event/civic-engagement-workshop/2028-02-07/
ATTACH;FMTTYPE=image/png:https://sjjcouncil.org/wp-content/uploads/2025/10/Civic-Engagement-Workshop-2025-scaled.png
END:VEVENT
BEGIN:VEVENT
DTSTART;TZID=UTC:20280208T154500
DTEND;TZID=UTC:20280208T174500
DTSTAMP:20260422T180036
CREATED:20251017T015654Z
LAST-MODIFIED:20251120T193415Z
UID:10000738-1833637500-1833644700@sjjcouncil.org
SUMMARY:Civic Engagement Workshop
DESCRIPTION:
URL:https://sjjcouncil.org/event/civic-engagement-workshop/2028-02-08/
ATTACH;FMTTYPE=image/png:https://sjjcouncil.org/wp-content/uploads/2025/10/Civic-Engagement-Workshop-2025-scaled.png
END:VEVENT
BEGIN:VEVENT
DTSTART;TZID=UTC:20280209T134500
DTEND;TZID=UTC:20280209T150000
DTSTAMP:20260422T180036
CREATED:20251017T015738Z
LAST-MODIFIED:20251120T193136Z
UID:10002342-1833716700-1833721200@sjjcouncil.org
SUMMARY:Civic Engagement Workshop
DESCRIPTION:
URL:https://sjjcouncil.org/event/civic-engagement-workshop-2/2028-02-09/
ATTACH;FMTTYPE=image/png:https://sjjcouncil.org/wp-content/uploads/2025/10/Civic-Engagement-Workshop-2025-scaled.png
END:VEVENT
BEGIN:VEVENT
DTSTART;TZID=UTC:20280210T154500
DTEND;TZID=UTC:20280210T174500
DTSTAMP:20260422T180036
CREATED:20251017T015654Z
LAST-MODIFIED:20251120T193415Z
UID:10000739-1833810300-1833817500@sjjcouncil.org
SUMMARY:Civic Engagement Workshop
DESCRIPTION:
URL:https://sjjcouncil.org/event/civic-engagement-workshop/2028-02-10/
ATTACH;FMTTYPE=image/png:https://sjjcouncil.org/wp-content/uploads/2025/10/Civic-Engagement-Workshop-2025-scaled.png
END:VEVENT
BEGIN:VEVENT
DTSTART;TZID=UTC:20280214T154500
DTEND;TZID=UTC:20280214T174500
DTSTAMP:20260422T180036
CREATED:20251017T015654Z
LAST-MODIFIED:20251120T193415Z
UID:10000740-1834155900-1834163100@sjjcouncil.org
SUMMARY:Civic Engagement Workshop
DESCRIPTION:
URL:https://sjjcouncil.org/event/civic-engagement-workshop/2028-02-14/
ATTACH;FMTTYPE=image/png:https://sjjcouncil.org/wp-content/uploads/2025/10/Civic-Engagement-Workshop-2025-scaled.png
END:VEVENT
BEGIN:VEVENT
DTSTART;TZID=UTC:20280215T154500
DTEND;TZID=UTC:20280215T174500
DTSTAMP:20260422T180036
CREATED:20251017T015654Z
LAST-MODIFIED:20251120T193415Z
UID:10000741-1834242300-1834249500@sjjcouncil.org
SUMMARY:Civic Engagement Workshop
DESCRIPTION:
URL:https://sjjcouncil.org/event/civic-engagement-workshop/2028-02-15/
ATTACH;FMTTYPE=image/png:https://sjjcouncil.org/wp-content/uploads/2025/10/Civic-Engagement-Workshop-2025-scaled.png
END:VEVENT
BEGIN:VEVENT
DTSTART;TZID=UTC:20280216T134500
DTEND;TZID=UTC:20280216T150000
DTSTAMP:20260422T180036
CREATED:20251017T015738Z
LAST-MODIFIED:20251120T193136Z
UID:10002345-1834321500-1834326000@sjjcouncil.org
SUMMARY:Civic Engagement Workshop
DESCRIPTION:
URL:https://sjjcouncil.org/event/civic-engagement-workshop-2/2028-02-16/
ATTACH;FMTTYPE=image/png:https://sjjcouncil.org/wp-content/uploads/2025/10/Civic-Engagement-Workshop-2025-scaled.png
END:VEVENT
BEGIN:VEVENT
DTSTART;TZID=UTC:20280217T154500
DTEND;TZID=UTC:20280217T174500
DTSTAMP:20260422T180036
CREATED:20251017T015654Z
LAST-MODIFIED:20251120T193415Z
UID:10000742-1834415100-1834422300@sjjcouncil.org
SUMMARY:Civic Engagement Workshop
DESCRIPTION:
URL:https://sjjcouncil.org/event/civic-engagement-workshop/2028-02-17/
ATTACH;FMTTYPE=image/png:https://sjjcouncil.org/wp-content/uploads/2025/10/Civic-Engagement-Workshop-2025-scaled.png
END:VEVENT
BEGIN:VEVENT
DTSTART;TZID=UTC:20280221T154500
DTEND;TZID=UTC:20280221T174500
DTSTAMP:20260422T180036
CREATED:20251017T015654Z
LAST-MODIFIED:20251120T193415Z
UID:10000743-1834760700-1834767900@sjjcouncil.org
SUMMARY:Civic Engagement Workshop
DESCRIPTION:
URL:https://sjjcouncil.org/event/civic-engagement-workshop/2028-02-21/
ATTACH;FMTTYPE=image/png:https://sjjcouncil.org/wp-content/uploads/2025/10/Civic-Engagement-Workshop-2025-scaled.png
END:VEVENT
BEGIN:VEVENT
DTSTART;TZID=UTC:20280222T154500
DTEND;TZID=UTC:20280222T174500
DTSTAMP:20260422T180036
CREATED:20251017T015654Z
LAST-MODIFIED:20251120T193415Z
UID:10000744-1834847100-1834854300@sjjcouncil.org
SUMMARY:Civic Engagement Workshop
DESCRIPTION:
URL:https://sjjcouncil.org/event/civic-engagement-workshop/2028-02-22/
ATTACH;FMTTYPE=image/png:https://sjjcouncil.org/wp-content/uploads/2025/10/Civic-Engagement-Workshop-2025-scaled.png
END:VEVENT
BEGIN:VEVENT
DTSTART;TZID=UTC:20280223T134500
DTEND;TZID=UTC:20280223T150000
DTSTAMP:20260422T180036
CREATED:20251017T015738Z
LAST-MODIFIED:20251120T193136Z
UID:10002348-1834926300-1834930800@sjjcouncil.org
SUMMARY:Civic Engagement Workshop
DESCRIPTION:
URL:https://sjjcouncil.org/event/civic-engagement-workshop-2/2028-02-23/
ATTACH;FMTTYPE=image/png:https://sjjcouncil.org/wp-content/uploads/2025/10/Civic-Engagement-Workshop-2025-scaled.png
END:VEVENT
BEGIN:VEVENT
DTSTART;TZID=UTC:20280224T154500
DTEND;TZID=UTC:20280224T174500
DTSTAMP:20260422T180036
CREATED:20251017T015654Z
LAST-MODIFIED:20251120T193415Z
UID:10000745-1835019900-1835027100@sjjcouncil.org
SUMMARY:Civic Engagement Workshop
DESCRIPTION:
URL:https://sjjcouncil.org/event/civic-engagement-workshop/2028-02-24/
ATTACH;FMTTYPE=image/png:https://sjjcouncil.org/wp-content/uploads/2025/10/Civic-Engagement-Workshop-2025-scaled.png
END:VEVENT
BEGIN:VEVENT
DTSTART;TZID=UTC:20280228T154500
DTEND;TZID=UTC:20280228T174500
DTSTAMP:20260422T180036
CREATED:20251017T015654Z
LAST-MODIFIED:20251120T193415Z
UID:10000746-1835365500-1835372700@sjjcouncil.org
SUMMARY:Civic Engagement Workshop
DESCRIPTION:
URL:https://sjjcouncil.org/event/civic-engagement-workshop/2028-02-28/
ATTACH;FMTTYPE=image/png:https://sjjcouncil.org/wp-content/uploads/2025/10/Civic-Engagement-Workshop-2025-scaled.png
END:VEVENT
BEGIN:VEVENT
DTSTART;TZID=UTC:20280229T154500
DTEND;TZID=UTC:20280229T174500
DTSTAMP:20260422T180036
CREATED:20251017T015654Z
LAST-MODIFIED:20251120T193415Z
UID:10000747-1835451900-1835459100@sjjcouncil.org
SUMMARY:Civic Engagement Workshop
DESCRIPTION:
URL:https://sjjcouncil.org/event/civic-engagement-workshop/2028-02-29/
ATTACH;FMTTYPE=image/png:https://sjjcouncil.org/wp-content/uploads/2025/10/Civic-Engagement-Workshop-2025-scaled.png
END:VEVENT
BEGIN:VEVENT
DTSTART;TZID=UTC:20280301T134500
DTEND;TZID=UTC:20280301T150000
DTSTAMP:20260422T180036
CREATED:20251017T015738Z
LAST-MODIFIED:20251120T193136Z
UID:10002351-1835531100-1835535600@sjjcouncil.org
SUMMARY:Civic Engagement Workshop
DESCRIPTION:
URL:https://sjjcouncil.org/event/civic-engagement-workshop-2/2028-03-01/
ATTACH;FMTTYPE=image/png:https://sjjcouncil.org/wp-content/uploads/2025/10/Civic-Engagement-Workshop-2025-scaled.png
END:VEVENT
BEGIN:VEVENT
DTSTART;TZID=UTC:20280302T154500
DTEND;TZID=UTC:20280302T174500
DTSTAMP:20260422T180036
CREATED:20251017T015654Z
LAST-MODIFIED:20251120T193415Z
UID:10000748-1835624700-1835631900@sjjcouncil.org
SUMMARY:Civic Engagement Workshop
DESCRIPTION:
URL:https://sjjcouncil.org/event/civic-engagement-workshop/2028-03-02/
ATTACH;FMTTYPE=image/png:https://sjjcouncil.org/wp-content/uploads/2025/10/Civic-Engagement-Workshop-2025-scaled.png
END:VEVENT
BEGIN:VEVENT
DTSTART;TZID=UTC:20280306T154500
DTEND;TZID=UTC:20280306T174500
DTSTAMP:20260422T180036
CREATED:20251017T015654Z
LAST-MODIFIED:20251120T193415Z
UID:10000749-1835970300-1835977500@sjjcouncil.org
SUMMARY:Civic Engagement Workshop
DESCRIPTION:
URL:https://sjjcouncil.org/event/civic-engagement-workshop/2028-03-06/
ATTACH;FMTTYPE=image/png:https://sjjcouncil.org/wp-content/uploads/2025/10/Civic-Engagement-Workshop-2025-scaled.png
END:VEVENT
END:VCALENDAR