BEGIN:VCALENDAR
VERSION:2.0
PRODID:-//CCSJJC - ECPv6.15.20//NONSGML v1.0//EN
CALSCALE:GREGORIAN
METHOD:PUBLISH
X-WR-CALNAME:CCSJJC
X-ORIGINAL-URL:https://sjjcouncil.org
X-WR-CALDESC:Events for CCSJJC
REFRESH-INTERVAL;VALUE=DURATION:PT1H
X-Robots-Tag:noindex
X-PUBLISHED-TTL:PT1H
BEGIN:VTIMEZONE
TZID:UTC
BEGIN:STANDARD
TZOFFSETFROM:+0000
TZOFFSETTO:+0000
TZNAME:UTC
DTSTART:20260101T000000
END:STANDARD
END:VTIMEZONE
BEGIN:VEVENT
DTSTART;TZID=UTC:20271123T154500
DTEND;TZID=UTC:20271123T174500
DTSTAMP:20260421T195124
CREATED:20251017T015654Z
LAST-MODIFIED:20251120T193415Z
UID:10000705-1826984700-1826991900@sjjcouncil.org
SUMMARY:Civic Engagement Workshop
DESCRIPTION:
URL:https://sjjcouncil.org/event/civic-engagement-workshop/2027-11-23/
LOCATION:IL
ATTACH;FMTTYPE=image/png:https://sjjcouncil.org/wp-content/uploads/2025/10/Civic-Engagement-Workshop-2025-scaled.png
END:VEVENT
BEGIN:VEVENT
DTSTART;TZID=UTC:20271124T134500
DTEND;TZID=UTC:20271124T150000
DTSTAMP:20260421T195124
CREATED:20251017T015738Z
LAST-MODIFIED:20251120T193136Z
UID:10002309-1827063900-1827068400@sjjcouncil.org
SUMMARY:Civic Engagement Workshop
DESCRIPTION:
URL:https://sjjcouncil.org/event/civic-engagement-workshop-2/2027-11-24/
LOCATION:IL
ATTACH;FMTTYPE=image/png:https://sjjcouncil.org/wp-content/uploads/2025/10/Civic-Engagement-Workshop-2025-scaled.png
END:VEVENT
BEGIN:VEVENT
DTSTART;TZID=UTC:20271125T154500
DTEND;TZID=UTC:20271125T174500
DTSTAMP:20260421T195124
CREATED:20251017T015654Z
LAST-MODIFIED:20251120T193415Z
UID:10000706-1827157500-1827164700@sjjcouncil.org
SUMMARY:Civic Engagement Workshop
DESCRIPTION:
URL:https://sjjcouncil.org/event/civic-engagement-workshop/2027-11-25/
LOCATION:IL
ATTACH;FMTTYPE=image/png:https://sjjcouncil.org/wp-content/uploads/2025/10/Civic-Engagement-Workshop-2025-scaled.png
END:VEVENT
BEGIN:VEVENT
DTSTART;TZID=UTC:20271129T154500
DTEND;TZID=UTC:20271129T174500
DTSTAMP:20260421T195124
CREATED:20251017T015654Z
LAST-MODIFIED:20251120T193415Z
UID:10000707-1827503100-1827510300@sjjcouncil.org
SUMMARY:Civic Engagement Workshop
DESCRIPTION:
URL:https://sjjcouncil.org/event/civic-engagement-workshop/2027-11-29/
LOCATION:IL
ATTACH;FMTTYPE=image/png:https://sjjcouncil.org/wp-content/uploads/2025/10/Civic-Engagement-Workshop-2025-scaled.png
END:VEVENT
BEGIN:VEVENT
DTSTART;TZID=UTC:20271130T154500
DTEND;TZID=UTC:20271130T174500
DTSTAMP:20260421T195124
CREATED:20251017T015654Z
LAST-MODIFIED:20251120T193415Z
UID:10000708-1827589500-1827596700@sjjcouncil.org
SUMMARY:Civic Engagement Workshop
DESCRIPTION:
URL:https://sjjcouncil.org/event/civic-engagement-workshop/2027-11-30/
LOCATION:IL
ATTACH;FMTTYPE=image/png:https://sjjcouncil.org/wp-content/uploads/2025/10/Civic-Engagement-Workshop-2025-scaled.png
END:VEVENT
BEGIN:VEVENT
DTSTART;TZID=UTC:20271201T134500
DTEND;TZID=UTC:20271201T150000
DTSTAMP:20260421T195124
CREATED:20251017T015738Z
LAST-MODIFIED:20251120T193136Z
UID:10002312-1827668700-1827673200@sjjcouncil.org
SUMMARY:Civic Engagement Workshop
DESCRIPTION:
URL:https://sjjcouncil.org/event/civic-engagement-workshop-2/2027-12-01/
LOCATION:IL
ATTACH;FMTTYPE=image/png:https://sjjcouncil.org/wp-content/uploads/2025/10/Civic-Engagement-Workshop-2025-scaled.png
END:VEVENT
BEGIN:VEVENT
DTSTART;TZID=UTC:20271202T154500
DTEND;TZID=UTC:20271202T174500
DTSTAMP:20260421T195124
CREATED:20251017T015654Z
LAST-MODIFIED:20251120T193415Z
UID:10000709-1827762300-1827769500@sjjcouncil.org
SUMMARY:Civic Engagement Workshop
DESCRIPTION:
URL:https://sjjcouncil.org/event/civic-engagement-workshop/2027-12-02/
LOCATION:IL
ATTACH;FMTTYPE=image/png:https://sjjcouncil.org/wp-content/uploads/2025/10/Civic-Engagement-Workshop-2025-scaled.png
END:VEVENT
BEGIN:VEVENT
DTSTART;TZID=UTC:20271206T154500
DTEND;TZID=UTC:20271206T174500
DTSTAMP:20260421T195124
CREATED:20251017T015654Z
LAST-MODIFIED:20251120T193415Z
UID:10000710-1828107900-1828115100@sjjcouncil.org
SUMMARY:Civic Engagement Workshop
DESCRIPTION:
URL:https://sjjcouncil.org/event/civic-engagement-workshop/2027-12-06/
LOCATION:IL
ATTACH;FMTTYPE=image/png:https://sjjcouncil.org/wp-content/uploads/2025/10/Civic-Engagement-Workshop-2025-scaled.png
END:VEVENT
BEGIN:VEVENT
DTSTART;TZID=UTC:20271207T154500
DTEND;TZID=UTC:20271207T174500
DTSTAMP:20260421T195124
CREATED:20251017T015654Z
LAST-MODIFIED:20251120T193415Z
UID:10000711-1828194300-1828201500@sjjcouncil.org
SUMMARY:Civic Engagement Workshop
DESCRIPTION:
URL:https://sjjcouncil.org/event/civic-engagement-workshop/2027-12-07/
LOCATION:IL
ATTACH;FMTTYPE=image/png:https://sjjcouncil.org/wp-content/uploads/2025/10/Civic-Engagement-Workshop-2025-scaled.png
END:VEVENT
BEGIN:VEVENT
DTSTART;TZID=UTC:20271208T134500
DTEND;TZID=UTC:20271208T150000
DTSTAMP:20260421T195124
CREATED:20251017T015738Z
LAST-MODIFIED:20251120T193136Z
UID:10002315-1828273500-1828278000@sjjcouncil.org
SUMMARY:Civic Engagement Workshop
DESCRIPTION:
URL:https://sjjcouncil.org/event/civic-engagement-workshop-2/2027-12-08/
LOCATION:IL
ATTACH;FMTTYPE=image/png:https://sjjcouncil.org/wp-content/uploads/2025/10/Civic-Engagement-Workshop-2025-scaled.png
END:VEVENT
BEGIN:VEVENT
DTSTART;TZID=UTC:20271209T154500
DTEND;TZID=UTC:20271209T174500
DTSTAMP:20260421T195124
CREATED:20251017T015654Z
LAST-MODIFIED:20251120T193415Z
UID:10000712-1828367100-1828374300@sjjcouncil.org
SUMMARY:Civic Engagement Workshop
DESCRIPTION:
URL:https://sjjcouncil.org/event/civic-engagement-workshop/2027-12-09/
LOCATION:IL
ATTACH;FMTTYPE=image/png:https://sjjcouncil.org/wp-content/uploads/2025/10/Civic-Engagement-Workshop-2025-scaled.png
END:VEVENT
BEGIN:VEVENT
DTSTART;TZID=UTC:20271213T154500
DTEND;TZID=UTC:20271213T174500
DTSTAMP:20260421T195124
CREATED:20251017T015654Z
LAST-MODIFIED:20251120T193415Z
UID:10000713-1828712700-1828719900@sjjcouncil.org
SUMMARY:Civic Engagement Workshop
DESCRIPTION:
URL:https://sjjcouncil.org/event/civic-engagement-workshop/2027-12-13/
LOCATION:IL
ATTACH;FMTTYPE=image/png:https://sjjcouncil.org/wp-content/uploads/2025/10/Civic-Engagement-Workshop-2025-scaled.png
END:VEVENT
BEGIN:VEVENT
DTSTART;TZID=UTC:20271214T154500
DTEND;TZID=UTC:20271214T174500
DTSTAMP:20260421T195124
CREATED:20251017T015654Z
LAST-MODIFIED:20251120T193415Z
UID:10000714-1828799100-1828806300@sjjcouncil.org
SUMMARY:Civic Engagement Workshop
DESCRIPTION:
URL:https://sjjcouncil.org/event/civic-engagement-workshop/2027-12-14/
LOCATION:IL
ATTACH;FMTTYPE=image/png:https://sjjcouncil.org/wp-content/uploads/2025/10/Civic-Engagement-Workshop-2025-scaled.png
END:VEVENT
BEGIN:VEVENT
DTSTART;TZID=UTC:20271215T134500
DTEND;TZID=UTC:20271215T150000
DTSTAMP:20260421T195124
CREATED:20251017T015738Z
LAST-MODIFIED:20251120T193136Z
UID:10002318-1828878300-1828882800@sjjcouncil.org
SUMMARY:Civic Engagement Workshop
DESCRIPTION:
URL:https://sjjcouncil.org/event/civic-engagement-workshop-2/2027-12-15/
LOCATION:IL
ATTACH;FMTTYPE=image/png:https://sjjcouncil.org/wp-content/uploads/2025/10/Civic-Engagement-Workshop-2025-scaled.png
END:VEVENT
BEGIN:VEVENT
DTSTART;TZID=UTC:20271216T154500
DTEND;TZID=UTC:20271216T174500
DTSTAMP:20260421T195124
CREATED:20251017T015654Z
LAST-MODIFIED:20251120T193415Z
UID:10000715-1828971900-1828979100@sjjcouncil.org
SUMMARY:Civic Engagement Workshop
DESCRIPTION:
URL:https://sjjcouncil.org/event/civic-engagement-workshop/2027-12-16/
LOCATION:IL
ATTACH;FMTTYPE=image/png:https://sjjcouncil.org/wp-content/uploads/2025/10/Civic-Engagement-Workshop-2025-scaled.png
END:VEVENT
BEGIN:VEVENT
DTSTART;TZID=UTC:20271220T154500
DTEND;TZID=UTC:20271220T174500
DTSTAMP:20260421T195124
CREATED:20251017T015654Z
LAST-MODIFIED:20251120T193415Z
UID:10000716-1829317500-1829324700@sjjcouncil.org
SUMMARY:Civic Engagement Workshop
DESCRIPTION:
URL:https://sjjcouncil.org/event/civic-engagement-workshop/2027-12-20/
LOCATION:IL
ATTACH;FMTTYPE=image/png:https://sjjcouncil.org/wp-content/uploads/2025/10/Civic-Engagement-Workshop-2025-scaled.png
END:VEVENT
BEGIN:VEVENT
DTSTART;TZID=UTC:20271221T154500
DTEND;TZID=UTC:20271221T174500
DTSTAMP:20260421T195124
CREATED:20251017T015654Z
LAST-MODIFIED:20251120T193415Z
UID:10000717-1829403900-1829411100@sjjcouncil.org
SUMMARY:Civic Engagement Workshop
DESCRIPTION:
URL:https://sjjcouncil.org/event/civic-engagement-workshop/2027-12-21/
LOCATION:IL
ATTACH;FMTTYPE=image/png:https://sjjcouncil.org/wp-content/uploads/2025/10/Civic-Engagement-Workshop-2025-scaled.png
END:VEVENT
BEGIN:VEVENT
DTSTART;TZID=UTC:20271222T134500
DTEND;TZID=UTC:20271222T150000
DTSTAMP:20260421T195124
CREATED:20251017T015738Z
LAST-MODIFIED:20251120T193136Z
UID:10002321-1829483100-1829487600@sjjcouncil.org
SUMMARY:Civic Engagement Workshop
DESCRIPTION:
URL:https://sjjcouncil.org/event/civic-engagement-workshop-2/2027-12-22/
LOCATION:IL
ATTACH;FMTTYPE=image/png:https://sjjcouncil.org/wp-content/uploads/2025/10/Civic-Engagement-Workshop-2025-scaled.png
END:VEVENT
BEGIN:VEVENT
DTSTART;TZID=UTC:20271223T154500
DTEND;TZID=UTC:20271223T174500
DTSTAMP:20260421T195124
CREATED:20251017T015654Z
LAST-MODIFIED:20251120T193415Z
UID:10000718-1829576700-1829583900@sjjcouncil.org
SUMMARY:Civic Engagement Workshop
DESCRIPTION:
URL:https://sjjcouncil.org/event/civic-engagement-workshop/2027-12-23/
LOCATION:IL
ATTACH;FMTTYPE=image/png:https://sjjcouncil.org/wp-content/uploads/2025/10/Civic-Engagement-Workshop-2025-scaled.png
END:VEVENT
BEGIN:VEVENT
DTSTART;TZID=UTC:20271227T154500
DTEND;TZID=UTC:20271227T174500
DTSTAMP:20260421T195124
CREATED:20251017T015654Z
LAST-MODIFIED:20251120T193415Z
UID:10000719-1829922300-1829929500@sjjcouncil.org
SUMMARY:Civic Engagement Workshop
DESCRIPTION:
URL:https://sjjcouncil.org/event/civic-engagement-workshop/2027-12-27/
LOCATION:IL
ATTACH;FMTTYPE=image/png:https://sjjcouncil.org/wp-content/uploads/2025/10/Civic-Engagement-Workshop-2025-scaled.png
END:VEVENT
BEGIN:VEVENT
DTSTART;TZID=UTC:20271228T154500
DTEND;TZID=UTC:20271228T174500
DTSTAMP:20260421T195124
CREATED:20251017T015654Z
LAST-MODIFIED:20251120T193415Z
UID:10000720-1830008700-1830015900@sjjcouncil.org
SUMMARY:Civic Engagement Workshop
DESCRIPTION:
URL:https://sjjcouncil.org/event/civic-engagement-workshop/2027-12-28/
LOCATION:IL
ATTACH;FMTTYPE=image/png:https://sjjcouncil.org/wp-content/uploads/2025/10/Civic-Engagement-Workshop-2025-scaled.png
END:VEVENT
BEGIN:VEVENT
DTSTART;TZID=UTC:20271229T134500
DTEND;TZID=UTC:20271229T150000
DTSTAMP:20260421T195124
CREATED:20251017T015738Z
LAST-MODIFIED:20251120T193136Z
UID:10002324-1830087900-1830092400@sjjcouncil.org
SUMMARY:Civic Engagement Workshop
DESCRIPTION:
URL:https://sjjcouncil.org/event/civic-engagement-workshop-2/2027-12-29/
LOCATION:IL
ATTACH;FMTTYPE=image/png:https://sjjcouncil.org/wp-content/uploads/2025/10/Civic-Engagement-Workshop-2025-scaled.png
END:VEVENT
BEGIN:VEVENT
DTSTART;TZID=UTC:20271230T154500
DTEND;TZID=UTC:20271230T174500
DTSTAMP:20260421T195124
CREATED:20251017T015654Z
LAST-MODIFIED:20251120T193415Z
UID:10000721-1830181500-1830188700@sjjcouncil.org
SUMMARY:Civic Engagement Workshop
DESCRIPTION:
URL:https://sjjcouncil.org/event/civic-engagement-workshop/2027-12-30/
LOCATION:IL
ATTACH;FMTTYPE=image/png:https://sjjcouncil.org/wp-content/uploads/2025/10/Civic-Engagement-Workshop-2025-scaled.png
END:VEVENT
BEGIN:VEVENT
DTSTART;TZID=UTC:20280103T154500
DTEND;TZID=UTC:20280103T174500
DTSTAMP:20260421T195124
CREATED:20251017T015654Z
LAST-MODIFIED:20251120T193415Z
UID:10000722-1830527100-1830534300@sjjcouncil.org
SUMMARY:Civic Engagement Workshop
DESCRIPTION:
URL:https://sjjcouncil.org/event/civic-engagement-workshop/2028-01-03/
LOCATION:IL
ATTACH;FMTTYPE=image/png:https://sjjcouncil.org/wp-content/uploads/2025/10/Civic-Engagement-Workshop-2025-scaled.png
END:VEVENT
BEGIN:VEVENT
DTSTART;TZID=UTC:20280104T154500
DTEND;TZID=UTC:20280104T174500
DTSTAMP:20260421T195124
CREATED:20251017T015654Z
LAST-MODIFIED:20251120T193415Z
UID:10000723-1830613500-1830620700@sjjcouncil.org
SUMMARY:Civic Engagement Workshop
DESCRIPTION:
URL:https://sjjcouncil.org/event/civic-engagement-workshop/2028-01-04/
LOCATION:IL
ATTACH;FMTTYPE=image/png:https://sjjcouncil.org/wp-content/uploads/2025/10/Civic-Engagement-Workshop-2025-scaled.png
END:VEVENT
BEGIN:VEVENT
DTSTART;TZID=UTC:20280105T134500
DTEND;TZID=UTC:20280105T150000
DTSTAMP:20260421T195124
CREATED:20251017T015738Z
LAST-MODIFIED:20251120T193136Z
UID:10002327-1830692700-1830697200@sjjcouncil.org
SUMMARY:Civic Engagement Workshop
DESCRIPTION:
URL:https://sjjcouncil.org/event/civic-engagement-workshop-2/2028-01-05/
LOCATION:IL
ATTACH;FMTTYPE=image/png:https://sjjcouncil.org/wp-content/uploads/2025/10/Civic-Engagement-Workshop-2025-scaled.png
END:VEVENT
BEGIN:VEVENT
DTSTART;TZID=UTC:20280106T154500
DTEND;TZID=UTC:20280106T174500
DTSTAMP:20260421T195124
CREATED:20251017T015654Z
LAST-MODIFIED:20251120T193415Z
UID:10000724-1830786300-1830793500@sjjcouncil.org
SUMMARY:Civic Engagement Workshop
DESCRIPTION:
URL:https://sjjcouncil.org/event/civic-engagement-workshop/2028-01-06/
LOCATION:IL
ATTACH;FMTTYPE=image/png:https://sjjcouncil.org/wp-content/uploads/2025/10/Civic-Engagement-Workshop-2025-scaled.png
END:VEVENT
BEGIN:VEVENT
DTSTART;TZID=UTC:20280110T154500
DTEND;TZID=UTC:20280110T174500
DTSTAMP:20260421T195124
CREATED:20251017T015654Z
LAST-MODIFIED:20251120T193415Z
UID:10000725-1831131900-1831139100@sjjcouncil.org
SUMMARY:Civic Engagement Workshop
DESCRIPTION:
URL:https://sjjcouncil.org/event/civic-engagement-workshop/2028-01-10/
LOCATION:IL
ATTACH;FMTTYPE=image/png:https://sjjcouncil.org/wp-content/uploads/2025/10/Civic-Engagement-Workshop-2025-scaled.png
END:VEVENT
BEGIN:VEVENT
DTSTART;TZID=UTC:20280111T154500
DTEND;TZID=UTC:20280111T174500
DTSTAMP:20260421T195124
CREATED:20251017T015654Z
LAST-MODIFIED:20251120T193415Z
UID:10000726-1831218300-1831225500@sjjcouncil.org
SUMMARY:Civic Engagement Workshop
DESCRIPTION:
URL:https://sjjcouncil.org/event/civic-engagement-workshop/2028-01-11/
LOCATION:IL
ATTACH;FMTTYPE=image/png:https://sjjcouncil.org/wp-content/uploads/2025/10/Civic-Engagement-Workshop-2025-scaled.png
END:VEVENT
BEGIN:VEVENT
DTSTART;TZID=UTC:20280112T134500
DTEND;TZID=UTC:20280112T150000
DTSTAMP:20260421T195124
CREATED:20251017T015738Z
LAST-MODIFIED:20251120T193136Z
UID:10002330-1831297500-1831302000@sjjcouncil.org
SUMMARY:Civic Engagement Workshop
DESCRIPTION:
URL:https://sjjcouncil.org/event/civic-engagement-workshop-2/2028-01-12/
LOCATION:IL
ATTACH;FMTTYPE=image/png:https://sjjcouncil.org/wp-content/uploads/2025/10/Civic-Engagement-Workshop-2025-scaled.png
END:VEVENT
END:VCALENDAR