BEGIN:VCALENDAR
VERSION:2.0
PRODID:-//CCSJJC - ECPv6.15.20//NONSGML v1.0//EN
CALSCALE:GREGORIAN
METHOD:PUBLISH
X-WR-CALNAME:CCSJJC
X-ORIGINAL-URL:https://sjjcouncil.org
X-WR-CALDESC:Events for CCSJJC
REFRESH-INTERVAL;VALUE=DURATION:PT1H
X-Robots-Tag:noindex
X-PUBLISHED-TTL:PT1H
BEGIN:VTIMEZONE
TZID:UTC
BEGIN:STANDARD
TZOFFSETFROM:+0000
TZOFFSETTO:+0000
TZNAME:UTC
DTSTART:20260101T000000
END:STANDARD
END:VTIMEZONE
BEGIN:VEVENT
DTSTART;TZID=UTC:20270427T154500
DTEND;TZID=UTC:20270427T174500
DTSTAMP:20260421T134244
CREATED:20251017T015654Z
LAST-MODIFIED:20251120T193415Z
UID:10000615-1808840700-1808847900@sjjcouncil.org
SUMMARY:Civic Engagement Workshop
DESCRIPTION:
URL:https://sjjcouncil.org/event/civic-engagement-workshop/2027-04-27/
ATTACH;FMTTYPE=image/png:https://sjjcouncil.org/wp-content/uploads/2025/10/Civic-Engagement-Workshop-2025-scaled.png
END:VEVENT
BEGIN:VEVENT
DTSTART;TZID=UTC:20270428T134500
DTEND;TZID=UTC:20270428T150000
DTSTAMP:20260421T134244
CREATED:20251017T015738Z
LAST-MODIFIED:20251120T193136Z
UID:10002219-1808919900-1808924400@sjjcouncil.org
SUMMARY:Civic Engagement Workshop
DESCRIPTION:
URL:https://sjjcouncil.org/event/civic-engagement-workshop-2/2027-04-28/
ATTACH;FMTTYPE=image/png:https://sjjcouncil.org/wp-content/uploads/2025/10/Civic-Engagement-Workshop-2025-scaled.png
END:VEVENT
BEGIN:VEVENT
DTSTART;TZID=UTC:20270429T154500
DTEND;TZID=UTC:20270429T174500
DTSTAMP:20260421T134244
CREATED:20251017T015654Z
LAST-MODIFIED:20251120T193415Z
UID:10000616-1809013500-1809020700@sjjcouncil.org
SUMMARY:Civic Engagement Workshop
DESCRIPTION:
URL:https://sjjcouncil.org/event/civic-engagement-workshop/2027-04-29/
ATTACH;FMTTYPE=image/png:https://sjjcouncil.org/wp-content/uploads/2025/10/Civic-Engagement-Workshop-2025-scaled.png
END:VEVENT
BEGIN:VEVENT
DTSTART;TZID=UTC:20270503T154500
DTEND;TZID=UTC:20270503T174500
DTSTAMP:20260421T134244
CREATED:20251017T015654Z
LAST-MODIFIED:20251120T193415Z
UID:10000617-1809359100-1809366300@sjjcouncil.org
SUMMARY:Civic Engagement Workshop
DESCRIPTION:
URL:https://sjjcouncil.org/event/civic-engagement-workshop/2027-05-03/
ATTACH;FMTTYPE=image/png:https://sjjcouncil.org/wp-content/uploads/2025/10/Civic-Engagement-Workshop-2025-scaled.png
END:VEVENT
BEGIN:VEVENT
DTSTART;TZID=UTC:20270504T154500
DTEND;TZID=UTC:20270504T174500
DTSTAMP:20260421T134244
CREATED:20251017T015654Z
LAST-MODIFIED:20251120T193415Z
UID:10000618-1809445500-1809452700@sjjcouncil.org
SUMMARY:Civic Engagement Workshop
DESCRIPTION:
URL:https://sjjcouncil.org/event/civic-engagement-workshop/2027-05-04/
ATTACH;FMTTYPE=image/png:https://sjjcouncil.org/wp-content/uploads/2025/10/Civic-Engagement-Workshop-2025-scaled.png
END:VEVENT
BEGIN:VEVENT
DTSTART;TZID=UTC:20270505T134500
DTEND;TZID=UTC:20270505T150000
DTSTAMP:20260421T134244
CREATED:20251017T015738Z
LAST-MODIFIED:20251120T193136Z
UID:10002222-1809524700-1809529200@sjjcouncil.org
SUMMARY:Civic Engagement Workshop
DESCRIPTION:
URL:https://sjjcouncil.org/event/civic-engagement-workshop-2/2027-05-05/
ATTACH;FMTTYPE=image/png:https://sjjcouncil.org/wp-content/uploads/2025/10/Civic-Engagement-Workshop-2025-scaled.png
END:VEVENT
BEGIN:VEVENT
DTSTART;TZID=UTC:20270506T154500
DTEND;TZID=UTC:20270506T174500
DTSTAMP:20260421T134244
CREATED:20251017T015654Z
LAST-MODIFIED:20251120T193415Z
UID:10000619-1809618300-1809625500@sjjcouncil.org
SUMMARY:Civic Engagement Workshop
DESCRIPTION:
URL:https://sjjcouncil.org/event/civic-engagement-workshop/2027-05-06/
ATTACH;FMTTYPE=image/png:https://sjjcouncil.org/wp-content/uploads/2025/10/Civic-Engagement-Workshop-2025-scaled.png
END:VEVENT
BEGIN:VEVENT
DTSTART;TZID=UTC:20270510T154500
DTEND;TZID=UTC:20270510T174500
DTSTAMP:20260421T134244
CREATED:20251017T015654Z
LAST-MODIFIED:20251120T193415Z
UID:10000620-1809963900-1809971100@sjjcouncil.org
SUMMARY:Civic Engagement Workshop
DESCRIPTION:
URL:https://sjjcouncil.org/event/civic-engagement-workshop/2027-05-10/
ATTACH;FMTTYPE=image/png:https://sjjcouncil.org/wp-content/uploads/2025/10/Civic-Engagement-Workshop-2025-scaled.png
END:VEVENT
BEGIN:VEVENT
DTSTART;TZID=UTC:20270511T154500
DTEND;TZID=UTC:20270511T174500
DTSTAMP:20260421T134244
CREATED:20251017T015654Z
LAST-MODIFIED:20251120T193415Z
UID:10000621-1810050300-1810057500@sjjcouncil.org
SUMMARY:Civic Engagement Workshop
DESCRIPTION:
URL:https://sjjcouncil.org/event/civic-engagement-workshop/2027-05-11/
ATTACH;FMTTYPE=image/png:https://sjjcouncil.org/wp-content/uploads/2025/10/Civic-Engagement-Workshop-2025-scaled.png
END:VEVENT
BEGIN:VEVENT
DTSTART;TZID=UTC:20270512T134500
DTEND;TZID=UTC:20270512T150000
DTSTAMP:20260421T134244
CREATED:20251017T015738Z
LAST-MODIFIED:20251120T193136Z
UID:10002225-1810129500-1810134000@sjjcouncil.org
SUMMARY:Civic Engagement Workshop
DESCRIPTION:
URL:https://sjjcouncil.org/event/civic-engagement-workshop-2/2027-05-12/
ATTACH;FMTTYPE=image/png:https://sjjcouncil.org/wp-content/uploads/2025/10/Civic-Engagement-Workshop-2025-scaled.png
END:VEVENT
BEGIN:VEVENT
DTSTART;TZID=UTC:20270513T154500
DTEND;TZID=UTC:20270513T174500
DTSTAMP:20260421T134244
CREATED:20251017T015654Z
LAST-MODIFIED:20251120T193415Z
UID:10000622-1810223100-1810230300@sjjcouncil.org
SUMMARY:Civic Engagement Workshop
DESCRIPTION:
URL:https://sjjcouncil.org/event/civic-engagement-workshop/2027-05-13/
ATTACH;FMTTYPE=image/png:https://sjjcouncil.org/wp-content/uploads/2025/10/Civic-Engagement-Workshop-2025-scaled.png
END:VEVENT
BEGIN:VEVENT
DTSTART;TZID=UTC:20270517T154500
DTEND;TZID=UTC:20270517T174500
DTSTAMP:20260421T134244
CREATED:20251017T015654Z
LAST-MODIFIED:20251120T193415Z
UID:10000623-1810568700-1810575900@sjjcouncil.org
SUMMARY:Civic Engagement Workshop
DESCRIPTION:
URL:https://sjjcouncil.org/event/civic-engagement-workshop/2027-05-17/
ATTACH;FMTTYPE=image/png:https://sjjcouncil.org/wp-content/uploads/2025/10/Civic-Engagement-Workshop-2025-scaled.png
END:VEVENT
BEGIN:VEVENT
DTSTART;TZID=UTC:20270518T154500
DTEND;TZID=UTC:20270518T174500
DTSTAMP:20260421T134244
CREATED:20251017T015654Z
LAST-MODIFIED:20251120T193415Z
UID:10000624-1810655100-1810662300@sjjcouncil.org
SUMMARY:Civic Engagement Workshop
DESCRIPTION:
URL:https://sjjcouncil.org/event/civic-engagement-workshop/2027-05-18/
ATTACH;FMTTYPE=image/png:https://sjjcouncil.org/wp-content/uploads/2025/10/Civic-Engagement-Workshop-2025-scaled.png
END:VEVENT
BEGIN:VEVENT
DTSTART;TZID=UTC:20270519T134500
DTEND;TZID=UTC:20270519T150000
DTSTAMP:20260421T134244
CREATED:20251017T015738Z
LAST-MODIFIED:20251120T193136Z
UID:10002228-1810734300-1810738800@sjjcouncil.org
SUMMARY:Civic Engagement Workshop
DESCRIPTION:
URL:https://sjjcouncil.org/event/civic-engagement-workshop-2/2027-05-19/
ATTACH;FMTTYPE=image/png:https://sjjcouncil.org/wp-content/uploads/2025/10/Civic-Engagement-Workshop-2025-scaled.png
END:VEVENT
BEGIN:VEVENT
DTSTART;TZID=UTC:20270520T154500
DTEND;TZID=UTC:20270520T174500
DTSTAMP:20260421T134244
CREATED:20251017T015654Z
LAST-MODIFIED:20251120T193415Z
UID:10000625-1810827900-1810835100@sjjcouncil.org
SUMMARY:Civic Engagement Workshop
DESCRIPTION:
URL:https://sjjcouncil.org/event/civic-engagement-workshop/2027-05-20/
ATTACH;FMTTYPE=image/png:https://sjjcouncil.org/wp-content/uploads/2025/10/Civic-Engagement-Workshop-2025-scaled.png
END:VEVENT
BEGIN:VEVENT
DTSTART;TZID=UTC:20270524T154500
DTEND;TZID=UTC:20270524T174500
DTSTAMP:20260421T134244
CREATED:20251017T015654Z
LAST-MODIFIED:20251120T193415Z
UID:10000626-1811173500-1811180700@sjjcouncil.org
SUMMARY:Civic Engagement Workshop
DESCRIPTION:
URL:https://sjjcouncil.org/event/civic-engagement-workshop/2027-05-24/
ATTACH;FMTTYPE=image/png:https://sjjcouncil.org/wp-content/uploads/2025/10/Civic-Engagement-Workshop-2025-scaled.png
END:VEVENT
BEGIN:VEVENT
DTSTART;TZID=UTC:20270525T154500
DTEND;TZID=UTC:20270525T174500
DTSTAMP:20260421T134244
CREATED:20251017T015654Z
LAST-MODIFIED:20251120T193415Z
UID:10000627-1811259900-1811267100@sjjcouncil.org
SUMMARY:Civic Engagement Workshop
DESCRIPTION:
URL:https://sjjcouncil.org/event/civic-engagement-workshop/2027-05-25/
ATTACH;FMTTYPE=image/png:https://sjjcouncil.org/wp-content/uploads/2025/10/Civic-Engagement-Workshop-2025-scaled.png
END:VEVENT
BEGIN:VEVENT
DTSTART;TZID=UTC:20270526T134500
DTEND;TZID=UTC:20270526T150000
DTSTAMP:20260421T134244
CREATED:20251017T015738Z
LAST-MODIFIED:20251120T193136Z
UID:10002231-1811339100-1811343600@sjjcouncil.org
SUMMARY:Civic Engagement Workshop
DESCRIPTION:
URL:https://sjjcouncil.org/event/civic-engagement-workshop-2/2027-05-26/
ATTACH;FMTTYPE=image/png:https://sjjcouncil.org/wp-content/uploads/2025/10/Civic-Engagement-Workshop-2025-scaled.png
END:VEVENT
BEGIN:VEVENT
DTSTART;TZID=UTC:20270527T154500
DTEND;TZID=UTC:20270527T174500
DTSTAMP:20260421T134244
CREATED:20251017T015654Z
LAST-MODIFIED:20251120T193415Z
UID:10000628-1811432700-1811439900@sjjcouncil.org
SUMMARY:Civic Engagement Workshop
DESCRIPTION:
URL:https://sjjcouncil.org/event/civic-engagement-workshop/2027-05-27/
ATTACH;FMTTYPE=image/png:https://sjjcouncil.org/wp-content/uploads/2025/10/Civic-Engagement-Workshop-2025-scaled.png
END:VEVENT
BEGIN:VEVENT
DTSTART;TZID=UTC:20270531T154500
DTEND;TZID=UTC:20270531T174500
DTSTAMP:20260421T134244
CREATED:20251017T015654Z
LAST-MODIFIED:20251120T193415Z
UID:10000629-1811778300-1811785500@sjjcouncil.org
SUMMARY:Civic Engagement Workshop
DESCRIPTION:
URL:https://sjjcouncil.org/event/civic-engagement-workshop/2027-05-31/
ATTACH;FMTTYPE=image/png:https://sjjcouncil.org/wp-content/uploads/2025/10/Civic-Engagement-Workshop-2025-scaled.png
END:VEVENT
BEGIN:VEVENT
DTSTART;TZID=UTC:20270601T154500
DTEND;TZID=UTC:20270601T174500
DTSTAMP:20260421T134244
CREATED:20251017T015654Z
LAST-MODIFIED:20251120T193415Z
UID:10000630-1811864700-1811871900@sjjcouncil.org
SUMMARY:Civic Engagement Workshop
DESCRIPTION:
URL:https://sjjcouncil.org/event/civic-engagement-workshop/2027-06-01/
ATTACH;FMTTYPE=image/png:https://sjjcouncil.org/wp-content/uploads/2025/10/Civic-Engagement-Workshop-2025-scaled.png
END:VEVENT
BEGIN:VEVENT
DTSTART;TZID=UTC:20270602T134500
DTEND;TZID=UTC:20270602T150000
DTSTAMP:20260421T134244
CREATED:20251017T015738Z
LAST-MODIFIED:20251120T193136Z
UID:10002234-1811943900-1811948400@sjjcouncil.org
SUMMARY:Civic Engagement Workshop
DESCRIPTION:
URL:https://sjjcouncil.org/event/civic-engagement-workshop-2/2027-06-02/
ATTACH;FMTTYPE=image/png:https://sjjcouncil.org/wp-content/uploads/2025/10/Civic-Engagement-Workshop-2025-scaled.png
END:VEVENT
BEGIN:VEVENT
DTSTART;TZID=UTC:20270603T154500
DTEND;TZID=UTC:20270603T174500
DTSTAMP:20260421T134244
CREATED:20251017T015654Z
LAST-MODIFIED:20251120T193415Z
UID:10000631-1812037500-1812044700@sjjcouncil.org
SUMMARY:Civic Engagement Workshop
DESCRIPTION:
URL:https://sjjcouncil.org/event/civic-engagement-workshop/2027-06-03/
ATTACH;FMTTYPE=image/png:https://sjjcouncil.org/wp-content/uploads/2025/10/Civic-Engagement-Workshop-2025-scaled.png
END:VEVENT
BEGIN:VEVENT
DTSTART;TZID=UTC:20270607T154500
DTEND;TZID=UTC:20270607T174500
DTSTAMP:20260421T134244
CREATED:20251017T015654Z
LAST-MODIFIED:20251120T193415Z
UID:10000632-1812383100-1812390300@sjjcouncil.org
SUMMARY:Civic Engagement Workshop
DESCRIPTION:
URL:https://sjjcouncil.org/event/civic-engagement-workshop/2027-06-07/
ATTACH;FMTTYPE=image/png:https://sjjcouncil.org/wp-content/uploads/2025/10/Civic-Engagement-Workshop-2025-scaled.png
END:VEVENT
BEGIN:VEVENT
DTSTART;TZID=UTC:20270608T154500
DTEND;TZID=UTC:20270608T174500
DTSTAMP:20260421T134244
CREATED:20251017T015654Z
LAST-MODIFIED:20251120T193415Z
UID:10000633-1812469500-1812476700@sjjcouncil.org
SUMMARY:Civic Engagement Workshop
DESCRIPTION:
URL:https://sjjcouncil.org/event/civic-engagement-workshop/2027-06-08/
ATTACH;FMTTYPE=image/png:https://sjjcouncil.org/wp-content/uploads/2025/10/Civic-Engagement-Workshop-2025-scaled.png
END:VEVENT
BEGIN:VEVENT
DTSTART;TZID=UTC:20270609T134500
DTEND;TZID=UTC:20270609T150000
DTSTAMP:20260421T134244
CREATED:20251017T015738Z
LAST-MODIFIED:20251120T193136Z
UID:10002237-1812548700-1812553200@sjjcouncil.org
SUMMARY:Civic Engagement Workshop
DESCRIPTION:
URL:https://sjjcouncil.org/event/civic-engagement-workshop-2/2027-06-09/
ATTACH;FMTTYPE=image/png:https://sjjcouncil.org/wp-content/uploads/2025/10/Civic-Engagement-Workshop-2025-scaled.png
END:VEVENT
BEGIN:VEVENT
DTSTART;TZID=UTC:20270610T154500
DTEND;TZID=UTC:20270610T174500
DTSTAMP:20260421T134244
CREATED:20251017T015654Z
LAST-MODIFIED:20251120T193415Z
UID:10000634-1812642300-1812649500@sjjcouncil.org
SUMMARY:Civic Engagement Workshop
DESCRIPTION:
URL:https://sjjcouncil.org/event/civic-engagement-workshop/2027-06-10/
ATTACH;FMTTYPE=image/png:https://sjjcouncil.org/wp-content/uploads/2025/10/Civic-Engagement-Workshop-2025-scaled.png
END:VEVENT
BEGIN:VEVENT
DTSTART;TZID=UTC:20270614T154500
DTEND;TZID=UTC:20270614T174500
DTSTAMP:20260421T134244
CREATED:20251017T015654Z
LAST-MODIFIED:20251120T193415Z
UID:10000635-1812987900-1812995100@sjjcouncil.org
SUMMARY:Civic Engagement Workshop
DESCRIPTION:
URL:https://sjjcouncil.org/event/civic-engagement-workshop/2027-06-14/
ATTACH;FMTTYPE=image/png:https://sjjcouncil.org/wp-content/uploads/2025/10/Civic-Engagement-Workshop-2025-scaled.png
END:VEVENT
BEGIN:VEVENT
DTSTART;TZID=UTC:20270615T154500
DTEND;TZID=UTC:20270615T174500
DTSTAMP:20260421T134244
CREATED:20251017T015654Z
LAST-MODIFIED:20251120T193415Z
UID:10000636-1813074300-1813081500@sjjcouncil.org
SUMMARY:Civic Engagement Workshop
DESCRIPTION:
URL:https://sjjcouncil.org/event/civic-engagement-workshop/2027-06-15/
ATTACH;FMTTYPE=image/png:https://sjjcouncil.org/wp-content/uploads/2025/10/Civic-Engagement-Workshop-2025-scaled.png
END:VEVENT
BEGIN:VEVENT
DTSTART;TZID=UTC:20270616T134500
DTEND;TZID=UTC:20270616T150000
DTSTAMP:20260421T134244
CREATED:20251017T015738Z
LAST-MODIFIED:20251120T193136Z
UID:10002240-1813153500-1813158000@sjjcouncil.org
SUMMARY:Civic Engagement Workshop
DESCRIPTION:
URL:https://sjjcouncil.org/event/civic-engagement-workshop-2/2027-06-16/
ATTACH;FMTTYPE=image/png:https://sjjcouncil.org/wp-content/uploads/2025/10/Civic-Engagement-Workshop-2025-scaled.png
END:VEVENT
END:VCALENDAR