BEGIN:VCALENDAR
VERSION:2.0
PRODID:-//CCSJJC - ECPv6.15.20//NONSGML v1.0//EN
CALSCALE:GREGORIAN
METHOD:PUBLISH
X-WR-CALNAME:CCSJJC
X-ORIGINAL-URL:https://sjjcouncil.org
X-WR-CALDESC:Events for CCSJJC
REFRESH-INTERVAL;VALUE=DURATION:PT1H
X-Robots-Tag:noindex
X-PUBLISHED-TTL:PT1H
BEGIN:VTIMEZONE
TZID:UTC
BEGIN:STANDARD
TZOFFSETFROM:+0000
TZOFFSETTO:+0000
TZNAME:UTC
DTSTART:20260101T000000
END:STANDARD
END:VTIMEZONE
BEGIN:VEVENT
DTSTART;TZID=UTC:20270607T154500
DTEND;TZID=UTC:20270607T174500
DTSTAMP:20260421T162127
CREATED:20251017T015654Z
LAST-MODIFIED:20251120T193415Z
UID:10000632-1812383100-1812390300@sjjcouncil.org
SUMMARY:Civic Engagement Workshop
DESCRIPTION:
URL:https://sjjcouncil.org/event/civic-engagement-workshop/2027-06-07/
ATTACH;FMTTYPE=image/png:https://sjjcouncil.org/wp-content/uploads/2025/10/Civic-Engagement-Workshop-2025-scaled.png
END:VEVENT
BEGIN:VEVENT
DTSTART;TZID=UTC:20270608T154500
DTEND;TZID=UTC:20270608T174500
DTSTAMP:20260421T162127
CREATED:20251017T015654Z
LAST-MODIFIED:20251120T193415Z
UID:10000633-1812469500-1812476700@sjjcouncil.org
SUMMARY:Civic Engagement Workshop
DESCRIPTION:
URL:https://sjjcouncil.org/event/civic-engagement-workshop/2027-06-08/
ATTACH;FMTTYPE=image/png:https://sjjcouncil.org/wp-content/uploads/2025/10/Civic-Engagement-Workshop-2025-scaled.png
END:VEVENT
BEGIN:VEVENT
DTSTART;TZID=UTC:20270609T134500
DTEND;TZID=UTC:20270609T150000
DTSTAMP:20260421T162127
CREATED:20251017T015738Z
LAST-MODIFIED:20251120T193136Z
UID:10002237-1812548700-1812553200@sjjcouncil.org
SUMMARY:Civic Engagement Workshop
DESCRIPTION:
URL:https://sjjcouncil.org/event/civic-engagement-workshop-2/2027-06-09/
ATTACH;FMTTYPE=image/png:https://sjjcouncil.org/wp-content/uploads/2025/10/Civic-Engagement-Workshop-2025-scaled.png
END:VEVENT
BEGIN:VEVENT
DTSTART;TZID=UTC:20270610T154500
DTEND;TZID=UTC:20270610T174500
DTSTAMP:20260421T162127
CREATED:20251017T015654Z
LAST-MODIFIED:20251120T193415Z
UID:10000634-1812642300-1812649500@sjjcouncil.org
SUMMARY:Civic Engagement Workshop
DESCRIPTION:
URL:https://sjjcouncil.org/event/civic-engagement-workshop/2027-06-10/
ATTACH;FMTTYPE=image/png:https://sjjcouncil.org/wp-content/uploads/2025/10/Civic-Engagement-Workshop-2025-scaled.png
END:VEVENT
BEGIN:VEVENT
DTSTART;TZID=UTC:20270614T154500
DTEND;TZID=UTC:20270614T174500
DTSTAMP:20260421T162127
CREATED:20251017T015654Z
LAST-MODIFIED:20251120T193415Z
UID:10000635-1812987900-1812995100@sjjcouncil.org
SUMMARY:Civic Engagement Workshop
DESCRIPTION:
URL:https://sjjcouncil.org/event/civic-engagement-workshop/2027-06-14/
ATTACH;FMTTYPE=image/png:https://sjjcouncil.org/wp-content/uploads/2025/10/Civic-Engagement-Workshop-2025-scaled.png
END:VEVENT
BEGIN:VEVENT
DTSTART;TZID=UTC:20270615T154500
DTEND;TZID=UTC:20270615T174500
DTSTAMP:20260421T162127
CREATED:20251017T015654Z
LAST-MODIFIED:20251120T193415Z
UID:10000636-1813074300-1813081500@sjjcouncil.org
SUMMARY:Civic Engagement Workshop
DESCRIPTION:
URL:https://sjjcouncil.org/event/civic-engagement-workshop/2027-06-15/
ATTACH;FMTTYPE=image/png:https://sjjcouncil.org/wp-content/uploads/2025/10/Civic-Engagement-Workshop-2025-scaled.png
END:VEVENT
BEGIN:VEVENT
DTSTART;TZID=UTC:20270616T134500
DTEND;TZID=UTC:20270616T150000
DTSTAMP:20260421T162127
CREATED:20251017T015738Z
LAST-MODIFIED:20251120T193136Z
UID:10002240-1813153500-1813158000@sjjcouncil.org
SUMMARY:Civic Engagement Workshop
DESCRIPTION:
URL:https://sjjcouncil.org/event/civic-engagement-workshop-2/2027-06-16/
ATTACH;FMTTYPE=image/png:https://sjjcouncil.org/wp-content/uploads/2025/10/Civic-Engagement-Workshop-2025-scaled.png
END:VEVENT
BEGIN:VEVENT
DTSTART;TZID=UTC:20270617T154500
DTEND;TZID=UTC:20270617T174500
DTSTAMP:20260421T162127
CREATED:20251017T015654Z
LAST-MODIFIED:20251120T193415Z
UID:10000637-1813247100-1813254300@sjjcouncil.org
SUMMARY:Civic Engagement Workshop
DESCRIPTION:
URL:https://sjjcouncil.org/event/civic-engagement-workshop/2027-06-17/
ATTACH;FMTTYPE=image/png:https://sjjcouncil.org/wp-content/uploads/2025/10/Civic-Engagement-Workshop-2025-scaled.png
END:VEVENT
BEGIN:VEVENT
DTSTART;TZID=UTC:20270621T154500
DTEND;TZID=UTC:20270621T174500
DTSTAMP:20260421T162127
CREATED:20251017T015654Z
LAST-MODIFIED:20251120T193415Z
UID:10000638-1813592700-1813599900@sjjcouncil.org
SUMMARY:Civic Engagement Workshop
DESCRIPTION:
URL:https://sjjcouncil.org/event/civic-engagement-workshop/2027-06-21/
ATTACH;FMTTYPE=image/png:https://sjjcouncil.org/wp-content/uploads/2025/10/Civic-Engagement-Workshop-2025-scaled.png
END:VEVENT
BEGIN:VEVENT
DTSTART;TZID=UTC:20270622T154500
DTEND;TZID=UTC:20270622T174500
DTSTAMP:20260421T162127
CREATED:20251017T015654Z
LAST-MODIFIED:20251120T193415Z
UID:10000639-1813679100-1813686300@sjjcouncil.org
SUMMARY:Civic Engagement Workshop
DESCRIPTION:
URL:https://sjjcouncil.org/event/civic-engagement-workshop/2027-06-22/
ATTACH;FMTTYPE=image/png:https://sjjcouncil.org/wp-content/uploads/2025/10/Civic-Engagement-Workshop-2025-scaled.png
END:VEVENT
BEGIN:VEVENT
DTSTART;TZID=UTC:20270623T134500
DTEND;TZID=UTC:20270623T150000
DTSTAMP:20260421T162127
CREATED:20251017T015738Z
LAST-MODIFIED:20251120T193136Z
UID:10002243-1813758300-1813762800@sjjcouncil.org
SUMMARY:Civic Engagement Workshop
DESCRIPTION:
URL:https://sjjcouncil.org/event/civic-engagement-workshop-2/2027-06-23/
ATTACH;FMTTYPE=image/png:https://sjjcouncil.org/wp-content/uploads/2025/10/Civic-Engagement-Workshop-2025-scaled.png
END:VEVENT
BEGIN:VEVENT
DTSTART;TZID=UTC:20270624T154500
DTEND;TZID=UTC:20270624T174500
DTSTAMP:20260421T162127
CREATED:20251017T015654Z
LAST-MODIFIED:20251120T193415Z
UID:10000640-1813851900-1813859100@sjjcouncil.org
SUMMARY:Civic Engagement Workshop
DESCRIPTION:
URL:https://sjjcouncil.org/event/civic-engagement-workshop/2027-06-24/
ATTACH;FMTTYPE=image/png:https://sjjcouncil.org/wp-content/uploads/2025/10/Civic-Engagement-Workshop-2025-scaled.png
END:VEVENT
BEGIN:VEVENT
DTSTART;TZID=UTC:20270628T154500
DTEND;TZID=UTC:20270628T174500
DTSTAMP:20260421T162127
CREATED:20251017T015654Z
LAST-MODIFIED:20251120T193415Z
UID:10000641-1814197500-1814204700@sjjcouncil.org
SUMMARY:Civic Engagement Workshop
DESCRIPTION:
URL:https://sjjcouncil.org/event/civic-engagement-workshop/2027-06-28/
ATTACH;FMTTYPE=image/png:https://sjjcouncil.org/wp-content/uploads/2025/10/Civic-Engagement-Workshop-2025-scaled.png
END:VEVENT
BEGIN:VEVENT
DTSTART;TZID=UTC:20270629T154500
DTEND;TZID=UTC:20270629T174500
DTSTAMP:20260421T162127
CREATED:20251017T015654Z
LAST-MODIFIED:20251120T193415Z
UID:10000642-1814283900-1814291100@sjjcouncil.org
SUMMARY:Civic Engagement Workshop
DESCRIPTION:
URL:https://sjjcouncil.org/event/civic-engagement-workshop/2027-06-29/
ATTACH;FMTTYPE=image/png:https://sjjcouncil.org/wp-content/uploads/2025/10/Civic-Engagement-Workshop-2025-scaled.png
END:VEVENT
BEGIN:VEVENT
DTSTART;TZID=UTC:20270630T134500
DTEND;TZID=UTC:20270630T150000
DTSTAMP:20260421T162127
CREATED:20251017T015738Z
LAST-MODIFIED:20251120T193136Z
UID:10002246-1814363100-1814367600@sjjcouncil.org
SUMMARY:Civic Engagement Workshop
DESCRIPTION:
URL:https://sjjcouncil.org/event/civic-engagement-workshop-2/2027-06-30/
ATTACH;FMTTYPE=image/png:https://sjjcouncil.org/wp-content/uploads/2025/10/Civic-Engagement-Workshop-2025-scaled.png
END:VEVENT
BEGIN:VEVENT
DTSTART;TZID=UTC:20270701T154500
DTEND;TZID=UTC:20270701T174500
DTSTAMP:20260421T162127
CREATED:20251017T015654Z
LAST-MODIFIED:20251120T193415Z
UID:10000643-1814456700-1814463900@sjjcouncil.org
SUMMARY:Civic Engagement Workshop
DESCRIPTION:
URL:https://sjjcouncil.org/event/civic-engagement-workshop/2027-07-01/
ATTACH;FMTTYPE=image/png:https://sjjcouncil.org/wp-content/uploads/2025/10/Civic-Engagement-Workshop-2025-scaled.png
END:VEVENT
BEGIN:VEVENT
DTSTART;TZID=UTC:20270705T154500
DTEND;TZID=UTC:20270705T174500
DTSTAMP:20260421T162127
CREATED:20251017T015654Z
LAST-MODIFIED:20251120T193415Z
UID:10000644-1814802300-1814809500@sjjcouncil.org
SUMMARY:Civic Engagement Workshop
DESCRIPTION:
URL:https://sjjcouncil.org/event/civic-engagement-workshop/2027-07-05/
ATTACH;FMTTYPE=image/png:https://sjjcouncil.org/wp-content/uploads/2025/10/Civic-Engagement-Workshop-2025-scaled.png
END:VEVENT
BEGIN:VEVENT
DTSTART;TZID=UTC:20270706T154500
DTEND;TZID=UTC:20270706T174500
DTSTAMP:20260421T162127
CREATED:20251017T015654Z
LAST-MODIFIED:20251120T193415Z
UID:10000645-1814888700-1814895900@sjjcouncil.org
SUMMARY:Civic Engagement Workshop
DESCRIPTION:
URL:https://sjjcouncil.org/event/civic-engagement-workshop/2027-07-06/
ATTACH;FMTTYPE=image/png:https://sjjcouncil.org/wp-content/uploads/2025/10/Civic-Engagement-Workshop-2025-scaled.png
END:VEVENT
BEGIN:VEVENT
DTSTART;TZID=UTC:20270707T134500
DTEND;TZID=UTC:20270707T150000
DTSTAMP:20260421T162127
CREATED:20251017T015738Z
LAST-MODIFIED:20251120T193136Z
UID:10002249-1814967900-1814972400@sjjcouncil.org
SUMMARY:Civic Engagement Workshop
DESCRIPTION:
URL:https://sjjcouncil.org/event/civic-engagement-workshop-2/2027-07-07/
ATTACH;FMTTYPE=image/png:https://sjjcouncil.org/wp-content/uploads/2025/10/Civic-Engagement-Workshop-2025-scaled.png
END:VEVENT
BEGIN:VEVENT
DTSTART;TZID=UTC:20270708T154500
DTEND;TZID=UTC:20270708T174500
DTSTAMP:20260421T162127
CREATED:20251017T015654Z
LAST-MODIFIED:20251120T193415Z
UID:10000646-1815061500-1815068700@sjjcouncil.org
SUMMARY:Civic Engagement Workshop
DESCRIPTION:
URL:https://sjjcouncil.org/event/civic-engagement-workshop/2027-07-08/
ATTACH;FMTTYPE=image/png:https://sjjcouncil.org/wp-content/uploads/2025/10/Civic-Engagement-Workshop-2025-scaled.png
END:VEVENT
BEGIN:VEVENT
DTSTART;TZID=UTC:20270712T154500
DTEND;TZID=UTC:20270712T174500
DTSTAMP:20260421T162127
CREATED:20251017T015654Z
LAST-MODIFIED:20251120T193415Z
UID:10000647-1815407100-1815414300@sjjcouncil.org
SUMMARY:Civic Engagement Workshop
DESCRIPTION:
URL:https://sjjcouncil.org/event/civic-engagement-workshop/2027-07-12/
ATTACH;FMTTYPE=image/png:https://sjjcouncil.org/wp-content/uploads/2025/10/Civic-Engagement-Workshop-2025-scaled.png
END:VEVENT
BEGIN:VEVENT
DTSTART;TZID=UTC:20270713T154500
DTEND;TZID=UTC:20270713T174500
DTSTAMP:20260421T162127
CREATED:20251017T015654Z
LAST-MODIFIED:20251120T193415Z
UID:10000648-1815493500-1815500700@sjjcouncil.org
SUMMARY:Civic Engagement Workshop
DESCRIPTION:
URL:https://sjjcouncil.org/event/civic-engagement-workshop/2027-07-13/
ATTACH;FMTTYPE=image/png:https://sjjcouncil.org/wp-content/uploads/2025/10/Civic-Engagement-Workshop-2025-scaled.png
END:VEVENT
BEGIN:VEVENT
DTSTART;TZID=UTC:20270714T134500
DTEND;TZID=UTC:20270714T150000
DTSTAMP:20260421T162127
CREATED:20251017T015738Z
LAST-MODIFIED:20251120T193136Z
UID:10002252-1815572700-1815577200@sjjcouncil.org
SUMMARY:Civic Engagement Workshop
DESCRIPTION:
URL:https://sjjcouncil.org/event/civic-engagement-workshop-2/2027-07-14/
ATTACH;FMTTYPE=image/png:https://sjjcouncil.org/wp-content/uploads/2025/10/Civic-Engagement-Workshop-2025-scaled.png
END:VEVENT
BEGIN:VEVENT
DTSTART;TZID=UTC:20270715T154500
DTEND;TZID=UTC:20270715T174500
DTSTAMP:20260421T162127
CREATED:20251017T015654Z
LAST-MODIFIED:20251120T193415Z
UID:10000649-1815666300-1815673500@sjjcouncil.org
SUMMARY:Civic Engagement Workshop
DESCRIPTION:
URL:https://sjjcouncil.org/event/civic-engagement-workshop/2027-07-15/
ATTACH;FMTTYPE=image/png:https://sjjcouncil.org/wp-content/uploads/2025/10/Civic-Engagement-Workshop-2025-scaled.png
END:VEVENT
BEGIN:VEVENT
DTSTART;TZID=UTC:20270719T154500
DTEND;TZID=UTC:20270719T174500
DTSTAMP:20260421T162127
CREATED:20251017T015654Z
LAST-MODIFIED:20251120T193415Z
UID:10000650-1816011900-1816019100@sjjcouncil.org
SUMMARY:Civic Engagement Workshop
DESCRIPTION:
URL:https://sjjcouncil.org/event/civic-engagement-workshop/2027-07-19/
ATTACH;FMTTYPE=image/png:https://sjjcouncil.org/wp-content/uploads/2025/10/Civic-Engagement-Workshop-2025-scaled.png
END:VEVENT
BEGIN:VEVENT
DTSTART;TZID=UTC:20270720T154500
DTEND;TZID=UTC:20270720T174500
DTSTAMP:20260421T162127
CREATED:20251017T015654Z
LAST-MODIFIED:20251120T193415Z
UID:10000651-1816098300-1816105500@sjjcouncil.org
SUMMARY:Civic Engagement Workshop
DESCRIPTION:
URL:https://sjjcouncil.org/event/civic-engagement-workshop/2027-07-20/
ATTACH;FMTTYPE=image/png:https://sjjcouncil.org/wp-content/uploads/2025/10/Civic-Engagement-Workshop-2025-scaled.png
END:VEVENT
BEGIN:VEVENT
DTSTART;TZID=UTC:20270721T134500
DTEND;TZID=UTC:20270721T150000
DTSTAMP:20260421T162127
CREATED:20251017T015738Z
LAST-MODIFIED:20251120T193136Z
UID:10002255-1816177500-1816182000@sjjcouncil.org
SUMMARY:Civic Engagement Workshop
DESCRIPTION:
URL:https://sjjcouncil.org/event/civic-engagement-workshop-2/2027-07-21/
ATTACH;FMTTYPE=image/png:https://sjjcouncil.org/wp-content/uploads/2025/10/Civic-Engagement-Workshop-2025-scaled.png
END:VEVENT
BEGIN:VEVENT
DTSTART;TZID=UTC:20270722T154500
DTEND;TZID=UTC:20270722T174500
DTSTAMP:20260421T162127
CREATED:20251017T015654Z
LAST-MODIFIED:20251120T193415Z
UID:10000652-1816271100-1816278300@sjjcouncil.org
SUMMARY:Civic Engagement Workshop
DESCRIPTION:
URL:https://sjjcouncil.org/event/civic-engagement-workshop/2027-07-22/
ATTACH;FMTTYPE=image/png:https://sjjcouncil.org/wp-content/uploads/2025/10/Civic-Engagement-Workshop-2025-scaled.png
END:VEVENT
BEGIN:VEVENT
DTSTART;TZID=UTC:20270726T154500
DTEND;TZID=UTC:20270726T174500
DTSTAMP:20260421T162127
CREATED:20251017T015654Z
LAST-MODIFIED:20251120T193415Z
UID:10000653-1816616700-1816623900@sjjcouncil.org
SUMMARY:Civic Engagement Workshop
DESCRIPTION:
URL:https://sjjcouncil.org/event/civic-engagement-workshop/2027-07-26/
ATTACH;FMTTYPE=image/png:https://sjjcouncil.org/wp-content/uploads/2025/10/Civic-Engagement-Workshop-2025-scaled.png
END:VEVENT
BEGIN:VEVENT
DTSTART;TZID=UTC:20270727T154500
DTEND;TZID=UTC:20270727T174500
DTSTAMP:20260421T162127
CREATED:20251017T015654Z
LAST-MODIFIED:20251120T193415Z
UID:10000654-1816703100-1816710300@sjjcouncil.org
SUMMARY:Civic Engagement Workshop
DESCRIPTION:
URL:https://sjjcouncil.org/event/civic-engagement-workshop/2027-07-27/
ATTACH;FMTTYPE=image/png:https://sjjcouncil.org/wp-content/uploads/2025/10/Civic-Engagement-Workshop-2025-scaled.png
END:VEVENT
END:VCALENDAR