BEGIN:VCALENDAR
VERSION:2.0
PRODID:-//CCSJJC - ECPv6.15.20//NONSGML v1.0//EN
CALSCALE:GREGORIAN
METHOD:PUBLISH
X-ORIGINAL-URL:https://sjjcouncil.org
X-WR-CALDESC:Events for CCSJJC
REFRESH-INTERVAL;VALUE=DURATION:PT1H
X-Robots-Tag:noindex
X-PUBLISHED-TTL:PT1H
BEGIN:VTIMEZONE
TZID:UTC
BEGIN:STANDARD
TZOFFSETFROM:+0000
TZOFFSETTO:+0000
TZNAME:UTC
DTSTART:20280101T000000
END:STANDARD
END:VTIMEZONE
BEGIN:VEVENT
DTSTART;TZID=UTC:20290903T154500
DTEND;TZID=UTC:20290903T174500
DTSTAMP:20260423T181941
CREATED:20251017T015654Z
LAST-MODIFIED:20251120T193415Z
UID:10000983-1883144700-1883151900@sjjcouncil.org
SUMMARY:Civic Engagement Workshop
DESCRIPTION:
URL:https://sjjcouncil.org/event/civic-engagement-workshop/2029-09-03/
LOCATION:IL
ATTACH;FMTTYPE=image/png:https://sjjcouncil.org/wp-content/uploads/2025/10/Civic-Engagement-Workshop-2025-scaled.png
END:VEVENT
BEGIN:VEVENT
DTSTART;TZID=UTC:20290904T154500
DTEND;TZID=UTC:20290904T174500
DTSTAMP:20260423T181941
CREATED:20251017T015654Z
LAST-MODIFIED:20251120T193415Z
UID:10000984-1883231100-1883238300@sjjcouncil.org
SUMMARY:Civic Engagement Workshop
DESCRIPTION:
URL:https://sjjcouncil.org/event/civic-engagement-workshop/2029-09-04/
LOCATION:IL
ATTACH;FMTTYPE=image/png:https://sjjcouncil.org/wp-content/uploads/2025/10/Civic-Engagement-Workshop-2025-scaled.png
END:VEVENT
BEGIN:VEVENT
DTSTART;TZID=UTC:20290905T134500
DTEND;TZID=UTC:20290905T150000
DTSTAMP:20260423T181941
CREATED:20251017T015738Z
LAST-MODIFIED:20251120T193136Z
UID:10002588-1883310300-1883314800@sjjcouncil.org
SUMMARY:Civic Engagement Workshop
DESCRIPTION:
URL:https://sjjcouncil.org/event/civic-engagement-workshop-2/2029-09-05/
LOCATION:IL
ATTACH;FMTTYPE=image/png:https://sjjcouncil.org/wp-content/uploads/2025/10/Civic-Engagement-Workshop-2025-scaled.png
END:VEVENT
BEGIN:VEVENT
DTSTART;TZID=UTC:20290906T154500
DTEND;TZID=UTC:20290906T174500
DTSTAMP:20260423T181941
CREATED:20251017T015654Z
LAST-MODIFIED:20251120T193415Z
UID:10000985-1883403900-1883411100@sjjcouncil.org
SUMMARY:Civic Engagement Workshop
DESCRIPTION:
URL:https://sjjcouncil.org/event/civic-engagement-workshop/2029-09-06/
LOCATION:IL
ATTACH;FMTTYPE=image/png:https://sjjcouncil.org/wp-content/uploads/2025/10/Civic-Engagement-Workshop-2025-scaled.png
END:VEVENT
BEGIN:VEVENT
DTSTART;TZID=UTC:20290910T154500
DTEND;TZID=UTC:20290910T174500
DTSTAMP:20260423T181941
CREATED:20251017T015654Z
LAST-MODIFIED:20251120T193415Z
UID:10000986-1883749500-1883756700@sjjcouncil.org
SUMMARY:Civic Engagement Workshop
DESCRIPTION:
URL:https://sjjcouncil.org/event/civic-engagement-workshop/2029-09-10/
LOCATION:IL
ATTACH;FMTTYPE=image/png:https://sjjcouncil.org/wp-content/uploads/2025/10/Civic-Engagement-Workshop-2025-scaled.png
END:VEVENT
BEGIN:VEVENT
DTSTART;TZID=UTC:20290911T154500
DTEND;TZID=UTC:20290911T174500
DTSTAMP:20260423T181941
CREATED:20251017T015654Z
LAST-MODIFIED:20251120T193415Z
UID:10000987-1883835900-1883843100@sjjcouncil.org
SUMMARY:Civic Engagement Workshop
DESCRIPTION:
URL:https://sjjcouncil.org/event/civic-engagement-workshop/2029-09-11/
LOCATION:IL
ATTACH;FMTTYPE=image/png:https://sjjcouncil.org/wp-content/uploads/2025/10/Civic-Engagement-Workshop-2025-scaled.png
END:VEVENT
BEGIN:VEVENT
DTSTART;TZID=UTC:20290912T134500
DTEND;TZID=UTC:20290912T150000
DTSTAMP:20260423T181941
CREATED:20251017T015738Z
LAST-MODIFIED:20251120T193136Z
UID:10002591-1883915100-1883919600@sjjcouncil.org
SUMMARY:Civic Engagement Workshop
DESCRIPTION:
URL:https://sjjcouncil.org/event/civic-engagement-workshop-2/2029-09-12/
LOCATION:IL
ATTACH;FMTTYPE=image/png:https://sjjcouncil.org/wp-content/uploads/2025/10/Civic-Engagement-Workshop-2025-scaled.png
END:VEVENT
BEGIN:VEVENT
DTSTART;TZID=UTC:20290913T154500
DTEND;TZID=UTC:20290913T174500
DTSTAMP:20260423T181941
CREATED:20251017T015654Z
LAST-MODIFIED:20251120T193415Z
UID:10000988-1884008700-1884015900@sjjcouncil.org
SUMMARY:Civic Engagement Workshop
DESCRIPTION:
URL:https://sjjcouncil.org/event/civic-engagement-workshop/2029-09-13/
LOCATION:IL
ATTACH;FMTTYPE=image/png:https://sjjcouncil.org/wp-content/uploads/2025/10/Civic-Engagement-Workshop-2025-scaled.png
END:VEVENT
BEGIN:VEVENT
DTSTART;TZID=UTC:20290917T154500
DTEND;TZID=UTC:20290917T174500
DTSTAMP:20260423T181941
CREATED:20251017T015654Z
LAST-MODIFIED:20251120T193415Z
UID:10000989-1884354300-1884361500@sjjcouncil.org
SUMMARY:Civic Engagement Workshop
DESCRIPTION:
URL:https://sjjcouncil.org/event/civic-engagement-workshop/2029-09-17/
LOCATION:IL
ATTACH;FMTTYPE=image/png:https://sjjcouncil.org/wp-content/uploads/2025/10/Civic-Engagement-Workshop-2025-scaled.png
END:VEVENT
BEGIN:VEVENT
DTSTART;TZID=UTC:20290918T154500
DTEND;TZID=UTC:20290918T174500
DTSTAMP:20260423T181941
CREATED:20251017T015654Z
LAST-MODIFIED:20251120T193415Z
UID:10000990-1884440700-1884447900@sjjcouncil.org
SUMMARY:Civic Engagement Workshop
DESCRIPTION:
URL:https://sjjcouncil.org/event/civic-engagement-workshop/2029-09-18/
LOCATION:IL
ATTACH;FMTTYPE=image/png:https://sjjcouncil.org/wp-content/uploads/2025/10/Civic-Engagement-Workshop-2025-scaled.png
END:VEVENT
BEGIN:VEVENT
DTSTART;TZID=UTC:20290919T134500
DTEND;TZID=UTC:20290919T150000
DTSTAMP:20260423T181941
CREATED:20251017T015738Z
LAST-MODIFIED:20251120T193136Z
UID:10002594-1884519900-1884524400@sjjcouncil.org
SUMMARY:Civic Engagement Workshop
DESCRIPTION:
URL:https://sjjcouncil.org/event/civic-engagement-workshop-2/2029-09-19/
LOCATION:IL
ATTACH;FMTTYPE=image/png:https://sjjcouncil.org/wp-content/uploads/2025/10/Civic-Engagement-Workshop-2025-scaled.png
END:VEVENT
BEGIN:VEVENT
DTSTART;TZID=UTC:20290920T154500
DTEND;TZID=UTC:20290920T174500
DTSTAMP:20260423T181941
CREATED:20251017T015654Z
LAST-MODIFIED:20251120T193415Z
UID:10000991-1884613500-1884620700@sjjcouncil.org
SUMMARY:Civic Engagement Workshop
DESCRIPTION:
URL:https://sjjcouncil.org/event/civic-engagement-workshop/2029-09-20/
LOCATION:IL
ATTACH;FMTTYPE=image/png:https://sjjcouncil.org/wp-content/uploads/2025/10/Civic-Engagement-Workshop-2025-scaled.png
END:VEVENT
BEGIN:VEVENT
DTSTART;TZID=UTC:20290924T154500
DTEND;TZID=UTC:20290924T174500
DTSTAMP:20260423T181941
CREATED:20251017T015654Z
LAST-MODIFIED:20251120T193415Z
UID:10000992-1884959100-1884966300@sjjcouncil.org
SUMMARY:Civic Engagement Workshop
DESCRIPTION:
URL:https://sjjcouncil.org/event/civic-engagement-workshop/2029-09-24/
LOCATION:IL
ATTACH;FMTTYPE=image/png:https://sjjcouncil.org/wp-content/uploads/2025/10/Civic-Engagement-Workshop-2025-scaled.png
END:VEVENT
BEGIN:VEVENT
DTSTART;TZID=UTC:20290925T154500
DTEND;TZID=UTC:20290925T174500
DTSTAMP:20260423T181941
CREATED:20251017T015654Z
LAST-MODIFIED:20251120T193415Z
UID:10000993-1885045500-1885052700@sjjcouncil.org
SUMMARY:Civic Engagement Workshop
DESCRIPTION:
URL:https://sjjcouncil.org/event/civic-engagement-workshop/2029-09-25/
LOCATION:IL
ATTACH;FMTTYPE=image/png:https://sjjcouncil.org/wp-content/uploads/2025/10/Civic-Engagement-Workshop-2025-scaled.png
END:VEVENT
BEGIN:VEVENT
DTSTART;TZID=UTC:20290926T134500
DTEND;TZID=UTC:20290926T150000
DTSTAMP:20260423T181941
CREATED:20251017T015738Z
LAST-MODIFIED:20251120T193136Z
UID:10002597-1885124700-1885129200@sjjcouncil.org
SUMMARY:Civic Engagement Workshop
DESCRIPTION:
URL:https://sjjcouncil.org/event/civic-engagement-workshop-2/2029-09-26/
LOCATION:IL
ATTACH;FMTTYPE=image/png:https://sjjcouncil.org/wp-content/uploads/2025/10/Civic-Engagement-Workshop-2025-scaled.png
END:VEVENT
BEGIN:VEVENT
DTSTART;TZID=UTC:20290927T154500
DTEND;TZID=UTC:20290927T174500
DTSTAMP:20260423T181941
CREATED:20251017T015654Z
LAST-MODIFIED:20251120T193415Z
UID:10000994-1885218300-1885225500@sjjcouncil.org
SUMMARY:Civic Engagement Workshop
DESCRIPTION:
URL:https://sjjcouncil.org/event/civic-engagement-workshop/2029-09-27/
LOCATION:IL
ATTACH;FMTTYPE=image/png:https://sjjcouncil.org/wp-content/uploads/2025/10/Civic-Engagement-Workshop-2025-scaled.png
END:VEVENT
BEGIN:VEVENT
DTSTART;TZID=UTC:20291001T154500
DTEND;TZID=UTC:20291001T174500
DTSTAMP:20260423T181941
CREATED:20251017T015654Z
LAST-MODIFIED:20251120T193415Z
UID:10000995-1885563900-1885571100@sjjcouncil.org
SUMMARY:Civic Engagement Workshop
DESCRIPTION:
URL:https://sjjcouncil.org/event/civic-engagement-workshop/2029-10-01/
LOCATION:IL
ATTACH;FMTTYPE=image/png:https://sjjcouncil.org/wp-content/uploads/2025/10/Civic-Engagement-Workshop-2025-scaled.png
END:VEVENT
BEGIN:VEVENT
DTSTART;TZID=UTC:20291002T154500
DTEND;TZID=UTC:20291002T174500
DTSTAMP:20260423T181941
CREATED:20251017T015654Z
LAST-MODIFIED:20251120T193415Z
UID:10000996-1885650300-1885657500@sjjcouncil.org
SUMMARY:Civic Engagement Workshop
DESCRIPTION:
URL:https://sjjcouncil.org/event/civic-engagement-workshop/2029-10-02/
LOCATION:IL
ATTACH;FMTTYPE=image/png:https://sjjcouncil.org/wp-content/uploads/2025/10/Civic-Engagement-Workshop-2025-scaled.png
END:VEVENT
BEGIN:VEVENT
DTSTART;TZID=UTC:20291003T134500
DTEND;TZID=UTC:20291003T150000
DTSTAMP:20260423T181941
CREATED:20251017T015738Z
LAST-MODIFIED:20251120T193136Z
UID:10002600-1885729500-1885734000@sjjcouncil.org
SUMMARY:Civic Engagement Workshop
DESCRIPTION:
URL:https://sjjcouncil.org/event/civic-engagement-workshop-2/2029-10-03/
LOCATION:IL
ATTACH;FMTTYPE=image/png:https://sjjcouncil.org/wp-content/uploads/2025/10/Civic-Engagement-Workshop-2025-scaled.png
END:VEVENT
BEGIN:VEVENT
DTSTART;TZID=UTC:20291004T154500
DTEND;TZID=UTC:20291004T174500
DTSTAMP:20260423T181941
CREATED:20251017T015654Z
LAST-MODIFIED:20251120T193415Z
UID:10000997-1885823100-1885830300@sjjcouncil.org
SUMMARY:Civic Engagement Workshop
DESCRIPTION:
URL:https://sjjcouncil.org/event/civic-engagement-workshop/2029-10-04/
LOCATION:IL
ATTACH;FMTTYPE=image/png:https://sjjcouncil.org/wp-content/uploads/2025/10/Civic-Engagement-Workshop-2025-scaled.png
END:VEVENT
BEGIN:VEVENT
DTSTART;TZID=UTC:20291008T154500
DTEND;TZID=UTC:20291008T174500
DTSTAMP:20260423T181941
CREATED:20251017T015654Z
LAST-MODIFIED:20251120T193415Z
UID:10000998-1886168700-1886175900@sjjcouncil.org
SUMMARY:Civic Engagement Workshop
DESCRIPTION:
URL:https://sjjcouncil.org/event/civic-engagement-workshop/2029-10-08/
LOCATION:IL
ATTACH;FMTTYPE=image/png:https://sjjcouncil.org/wp-content/uploads/2025/10/Civic-Engagement-Workshop-2025-scaled.png
END:VEVENT
BEGIN:VEVENT
DTSTART;TZID=UTC:20291009T154500
DTEND;TZID=UTC:20291009T174500
DTSTAMP:20260423T181941
CREATED:20251017T015654Z
LAST-MODIFIED:20251120T193415Z
UID:10000999-1886255100-1886262300@sjjcouncil.org
SUMMARY:Civic Engagement Workshop
DESCRIPTION:
URL:https://sjjcouncil.org/event/civic-engagement-workshop/2029-10-09/
LOCATION:IL
ATTACH;FMTTYPE=image/png:https://sjjcouncil.org/wp-content/uploads/2025/10/Civic-Engagement-Workshop-2025-scaled.png
END:VEVENT
BEGIN:VEVENT
DTSTART;TZID=UTC:20291010T134500
DTEND;TZID=UTC:20291010T150000
DTSTAMP:20260423T181941
CREATED:20251017T015738Z
LAST-MODIFIED:20251120T193136Z
UID:10002603-1886334300-1886338800@sjjcouncil.org
SUMMARY:Civic Engagement Workshop
DESCRIPTION:
URL:https://sjjcouncil.org/event/civic-engagement-workshop-2/2029-10-10/
LOCATION:IL
ATTACH;FMTTYPE=image/png:https://sjjcouncil.org/wp-content/uploads/2025/10/Civic-Engagement-Workshop-2025-scaled.png
END:VEVENT
BEGIN:VEVENT
DTSTART;TZID=UTC:20291011T154500
DTEND;TZID=UTC:20291011T174500
DTSTAMP:20260423T181941
CREATED:20251017T015654Z
LAST-MODIFIED:20251120T193415Z
UID:10001000-1886427900-1886435100@sjjcouncil.org
SUMMARY:Civic Engagement Workshop
DESCRIPTION:
URL:https://sjjcouncil.org/event/civic-engagement-workshop/2029-10-11/
LOCATION:IL
ATTACH;FMTTYPE=image/png:https://sjjcouncil.org/wp-content/uploads/2025/10/Civic-Engagement-Workshop-2025-scaled.png
END:VEVENT
BEGIN:VEVENT
DTSTART;TZID=UTC:20291015T154500
DTEND;TZID=UTC:20291015T174500
DTSTAMP:20260423T181941
CREATED:20251017T015654Z
LAST-MODIFIED:20251120T193415Z
UID:10001001-1886773500-1886780700@sjjcouncil.org
SUMMARY:Civic Engagement Workshop
DESCRIPTION:
URL:https://sjjcouncil.org/event/civic-engagement-workshop/2029-10-15/
LOCATION:IL
ATTACH;FMTTYPE=image/png:https://sjjcouncil.org/wp-content/uploads/2025/10/Civic-Engagement-Workshop-2025-scaled.png
END:VEVENT
BEGIN:VEVENT
DTSTART;TZID=UTC:20291016T154500
DTEND;TZID=UTC:20291016T174500
DTSTAMP:20260423T181941
CREATED:20251017T015654Z
LAST-MODIFIED:20251120T193415Z
UID:10001002-1886859900-1886867100@sjjcouncil.org
SUMMARY:Civic Engagement Workshop
DESCRIPTION:
URL:https://sjjcouncil.org/event/civic-engagement-workshop/2029-10-16/
LOCATION:IL
ATTACH;FMTTYPE=image/png:https://sjjcouncil.org/wp-content/uploads/2025/10/Civic-Engagement-Workshop-2025-scaled.png
END:VEVENT
BEGIN:VEVENT
DTSTART;TZID=UTC:20291017T134500
DTEND;TZID=UTC:20291017T150000
DTSTAMP:20260423T181941
CREATED:20251017T015738Z
LAST-MODIFIED:20251120T193136Z
UID:10002606-1886939100-1886943600@sjjcouncil.org
SUMMARY:Civic Engagement Workshop
DESCRIPTION:
URL:https://sjjcouncil.org/event/civic-engagement-workshop-2/2029-10-17/
LOCATION:IL
ATTACH;FMTTYPE=image/png:https://sjjcouncil.org/wp-content/uploads/2025/10/Civic-Engagement-Workshop-2025-scaled.png
END:VEVENT
BEGIN:VEVENT
DTSTART;TZID=UTC:20291018T154500
DTEND;TZID=UTC:20291018T174500
DTSTAMP:20260423T181941
CREATED:20251017T015654Z
LAST-MODIFIED:20251120T193415Z
UID:10001003-1887032700-1887039900@sjjcouncil.org
SUMMARY:Civic Engagement Workshop
DESCRIPTION:
URL:https://sjjcouncil.org/event/civic-engagement-workshop/2029-10-18/
LOCATION:IL
ATTACH;FMTTYPE=image/png:https://sjjcouncil.org/wp-content/uploads/2025/10/Civic-Engagement-Workshop-2025-scaled.png
END:VEVENT
BEGIN:VEVENT
DTSTART;TZID=UTC:20291022T154500
DTEND;TZID=UTC:20291022T174500
DTSTAMP:20260423T181941
CREATED:20251017T015654Z
LAST-MODIFIED:20251120T193415Z
UID:10001004-1887378300-1887385500@sjjcouncil.org
SUMMARY:Civic Engagement Workshop
DESCRIPTION:
URL:https://sjjcouncil.org/event/civic-engagement-workshop/2029-10-22/
LOCATION:IL
ATTACH;FMTTYPE=image/png:https://sjjcouncil.org/wp-content/uploads/2025/10/Civic-Engagement-Workshop-2025-scaled.png
END:VEVENT
BEGIN:VEVENT
DTSTART;TZID=UTC:20291023T154500
DTEND;TZID=UTC:20291023T174500
DTSTAMP:20260423T181941
CREATED:20251017T015654Z
LAST-MODIFIED:20251120T193415Z
UID:10001005-1887464700-1887471900@sjjcouncil.org
SUMMARY:Civic Engagement Workshop
DESCRIPTION:
URL:https://sjjcouncil.org/event/civic-engagement-workshop/2029-10-23/
LOCATION:IL
ATTACH;FMTTYPE=image/png:https://sjjcouncil.org/wp-content/uploads/2025/10/Civic-Engagement-Workshop-2025-scaled.png
END:VEVENT
END:VCALENDAR