BEGIN:VCALENDAR
VERSION:2.0
PRODID:-//CCSJJC - ECPv6.15.20//NONSGML v1.0//EN
CALSCALE:GREGORIAN
METHOD:PUBLISH
X-ORIGINAL-URL:https://sjjcouncil.org
X-WR-CALDESC:Events for CCSJJC
REFRESH-INTERVAL;VALUE=DURATION:PT1H
X-Robots-Tag:noindex
X-PUBLISHED-TTL:PT1H
BEGIN:VTIMEZONE
TZID:UTC
BEGIN:STANDARD
TZOFFSETFROM:+0000
TZOFFSETTO:+0000
TZNAME:UTC
DTSTART:20280101T000000
END:STANDARD
END:VTIMEZONE
BEGIN:VEVENT
DTSTART;TZID=UTC:20290801T134500
DTEND;TZID=UTC:20290801T150000
DTSTAMP:20260423T162116
CREATED:20251017T015738Z
LAST-MODIFIED:20251120T193136Z
UID:10002573-1880286300-1880290800@sjjcouncil.org
SUMMARY:Civic Engagement Workshop
DESCRIPTION:
URL:https://sjjcouncil.org/event/civic-engagement-workshop-2/2029-08-01/
LOCATION:IL
ATTACH;FMTTYPE=image/png:https://sjjcouncil.org/wp-content/uploads/2025/10/Civic-Engagement-Workshop-2025-scaled.png
END:VEVENT
BEGIN:VEVENT
DTSTART;TZID=UTC:20290802T154500
DTEND;TZID=UTC:20290802T174500
DTSTAMP:20260423T162116
CREATED:20251017T015654Z
LAST-MODIFIED:20251120T193415Z
UID:10000970-1880379900-1880387100@sjjcouncil.org
SUMMARY:Civic Engagement Workshop
DESCRIPTION:
URL:https://sjjcouncil.org/event/civic-engagement-workshop/2029-08-02/
LOCATION:IL
ATTACH;FMTTYPE=image/png:https://sjjcouncil.org/wp-content/uploads/2025/10/Civic-Engagement-Workshop-2025-scaled.png
END:VEVENT
BEGIN:VEVENT
DTSTART;TZID=UTC:20290806T154500
DTEND;TZID=UTC:20290806T174500
DTSTAMP:20260423T162116
CREATED:20251017T015654Z
LAST-MODIFIED:20251120T193415Z
UID:10000971-1880725500-1880732700@sjjcouncil.org
SUMMARY:Civic Engagement Workshop
DESCRIPTION:
URL:https://sjjcouncil.org/event/civic-engagement-workshop/2029-08-06/
LOCATION:IL
ATTACH;FMTTYPE=image/png:https://sjjcouncil.org/wp-content/uploads/2025/10/Civic-Engagement-Workshop-2025-scaled.png
END:VEVENT
BEGIN:VEVENT
DTSTART;TZID=UTC:20290807T154500
DTEND;TZID=UTC:20290807T174500
DTSTAMP:20260423T162116
CREATED:20251017T015654Z
LAST-MODIFIED:20251120T193415Z
UID:10000972-1880811900-1880819100@sjjcouncil.org
SUMMARY:Civic Engagement Workshop
DESCRIPTION:
URL:https://sjjcouncil.org/event/civic-engagement-workshop/2029-08-07/
LOCATION:IL
ATTACH;FMTTYPE=image/png:https://sjjcouncil.org/wp-content/uploads/2025/10/Civic-Engagement-Workshop-2025-scaled.png
END:VEVENT
BEGIN:VEVENT
DTSTART;TZID=UTC:20290808T134500
DTEND;TZID=UTC:20290808T150000
DTSTAMP:20260423T162116
CREATED:20251017T015738Z
LAST-MODIFIED:20251120T193136Z
UID:10002576-1880891100-1880895600@sjjcouncil.org
SUMMARY:Civic Engagement Workshop
DESCRIPTION:
URL:https://sjjcouncil.org/event/civic-engagement-workshop-2/2029-08-08/
LOCATION:IL
ATTACH;FMTTYPE=image/png:https://sjjcouncil.org/wp-content/uploads/2025/10/Civic-Engagement-Workshop-2025-scaled.png
END:VEVENT
BEGIN:VEVENT
DTSTART;TZID=UTC:20290809T154500
DTEND;TZID=UTC:20290809T174500
DTSTAMP:20260423T162116
CREATED:20251017T015654Z
LAST-MODIFIED:20251120T193415Z
UID:10000973-1880984700-1880991900@sjjcouncil.org
SUMMARY:Civic Engagement Workshop
DESCRIPTION:
URL:https://sjjcouncil.org/event/civic-engagement-workshop/2029-08-09/
LOCATION:IL
ATTACH;FMTTYPE=image/png:https://sjjcouncil.org/wp-content/uploads/2025/10/Civic-Engagement-Workshop-2025-scaled.png
END:VEVENT
BEGIN:VEVENT
DTSTART;TZID=UTC:20290813T154500
DTEND;TZID=UTC:20290813T174500
DTSTAMP:20260423T162116
CREATED:20251017T015654Z
LAST-MODIFIED:20251120T193415Z
UID:10000974-1881330300-1881337500@sjjcouncil.org
SUMMARY:Civic Engagement Workshop
DESCRIPTION:
URL:https://sjjcouncil.org/event/civic-engagement-workshop/2029-08-13/
LOCATION:IL
ATTACH;FMTTYPE=image/png:https://sjjcouncil.org/wp-content/uploads/2025/10/Civic-Engagement-Workshop-2025-scaled.png
END:VEVENT
BEGIN:VEVENT
DTSTART;TZID=UTC:20290814T154500
DTEND;TZID=UTC:20290814T174500
DTSTAMP:20260423T162116
CREATED:20251017T015654Z
LAST-MODIFIED:20251120T193415Z
UID:10000975-1881416700-1881423900@sjjcouncil.org
SUMMARY:Civic Engagement Workshop
DESCRIPTION:
URL:https://sjjcouncil.org/event/civic-engagement-workshop/2029-08-14/
LOCATION:IL
ATTACH;FMTTYPE=image/png:https://sjjcouncil.org/wp-content/uploads/2025/10/Civic-Engagement-Workshop-2025-scaled.png
END:VEVENT
BEGIN:VEVENT
DTSTART;TZID=UTC:20290815T134500
DTEND;TZID=UTC:20290815T150000
DTSTAMP:20260423T162116
CREATED:20251017T015738Z
LAST-MODIFIED:20251120T193136Z
UID:10002579-1881495900-1881500400@sjjcouncil.org
SUMMARY:Civic Engagement Workshop
DESCRIPTION:
URL:https://sjjcouncil.org/event/civic-engagement-workshop-2/2029-08-15/
LOCATION:IL
ATTACH;FMTTYPE=image/png:https://sjjcouncil.org/wp-content/uploads/2025/10/Civic-Engagement-Workshop-2025-scaled.png
END:VEVENT
BEGIN:VEVENT
DTSTART;TZID=UTC:20290816T154500
DTEND;TZID=UTC:20290816T174500
DTSTAMP:20260423T162116
CREATED:20251017T015654Z
LAST-MODIFIED:20251120T193415Z
UID:10000976-1881589500-1881596700@sjjcouncil.org
SUMMARY:Civic Engagement Workshop
DESCRIPTION:
URL:https://sjjcouncil.org/event/civic-engagement-workshop/2029-08-16/
LOCATION:IL
ATTACH;FMTTYPE=image/png:https://sjjcouncil.org/wp-content/uploads/2025/10/Civic-Engagement-Workshop-2025-scaled.png
END:VEVENT
BEGIN:VEVENT
DTSTART;TZID=UTC:20290820T154500
DTEND;TZID=UTC:20290820T174500
DTSTAMP:20260423T162116
CREATED:20251017T015654Z
LAST-MODIFIED:20251120T193415Z
UID:10000977-1881935100-1881942300@sjjcouncil.org
SUMMARY:Civic Engagement Workshop
DESCRIPTION:
URL:https://sjjcouncil.org/event/civic-engagement-workshop/2029-08-20/
LOCATION:IL
ATTACH;FMTTYPE=image/png:https://sjjcouncil.org/wp-content/uploads/2025/10/Civic-Engagement-Workshop-2025-scaled.png
END:VEVENT
BEGIN:VEVENT
DTSTART;TZID=UTC:20290821T154500
DTEND;TZID=UTC:20290821T174500
DTSTAMP:20260423T162116
CREATED:20251017T015654Z
LAST-MODIFIED:20251120T193415Z
UID:10000978-1882021500-1882028700@sjjcouncil.org
SUMMARY:Civic Engagement Workshop
DESCRIPTION:
URL:https://sjjcouncil.org/event/civic-engagement-workshop/2029-08-21/
LOCATION:IL
ATTACH;FMTTYPE=image/png:https://sjjcouncil.org/wp-content/uploads/2025/10/Civic-Engagement-Workshop-2025-scaled.png
END:VEVENT
BEGIN:VEVENT
DTSTART;TZID=UTC:20290822T134500
DTEND;TZID=UTC:20290822T150000
DTSTAMP:20260423T162116
CREATED:20251017T015738Z
LAST-MODIFIED:20251120T193136Z
UID:10002582-1882100700-1882105200@sjjcouncil.org
SUMMARY:Civic Engagement Workshop
DESCRIPTION:
URL:https://sjjcouncil.org/event/civic-engagement-workshop-2/2029-08-22/
LOCATION:IL
ATTACH;FMTTYPE=image/png:https://sjjcouncil.org/wp-content/uploads/2025/10/Civic-Engagement-Workshop-2025-scaled.png
END:VEVENT
BEGIN:VEVENT
DTSTART;TZID=UTC:20290823T154500
DTEND;TZID=UTC:20290823T174500
DTSTAMP:20260423T162116
CREATED:20251017T015654Z
LAST-MODIFIED:20251120T193415Z
UID:10000979-1882194300-1882201500@sjjcouncil.org
SUMMARY:Civic Engagement Workshop
DESCRIPTION:
URL:https://sjjcouncil.org/event/civic-engagement-workshop/2029-08-23/
LOCATION:IL
ATTACH;FMTTYPE=image/png:https://sjjcouncil.org/wp-content/uploads/2025/10/Civic-Engagement-Workshop-2025-scaled.png
END:VEVENT
BEGIN:VEVENT
DTSTART;TZID=UTC:20290827T154500
DTEND;TZID=UTC:20290827T174500
DTSTAMP:20260423T162116
CREATED:20251017T015654Z
LAST-MODIFIED:20251120T193415Z
UID:10000980-1882539900-1882547100@sjjcouncil.org
SUMMARY:Civic Engagement Workshop
DESCRIPTION:
URL:https://sjjcouncil.org/event/civic-engagement-workshop/2029-08-27/
LOCATION:IL
ATTACH;FMTTYPE=image/png:https://sjjcouncil.org/wp-content/uploads/2025/10/Civic-Engagement-Workshop-2025-scaled.png
END:VEVENT
BEGIN:VEVENT
DTSTART;TZID=UTC:20290828T154500
DTEND;TZID=UTC:20290828T174500
DTSTAMP:20260423T162116
CREATED:20251017T015654Z
LAST-MODIFIED:20251120T193415Z
UID:10000981-1882626300-1882633500@sjjcouncil.org
SUMMARY:Civic Engagement Workshop
DESCRIPTION:
URL:https://sjjcouncil.org/event/civic-engagement-workshop/2029-08-28/
LOCATION:IL
ATTACH;FMTTYPE=image/png:https://sjjcouncil.org/wp-content/uploads/2025/10/Civic-Engagement-Workshop-2025-scaled.png
END:VEVENT
BEGIN:VEVENT
DTSTART;TZID=UTC:20290829T134500
DTEND;TZID=UTC:20290829T150000
DTSTAMP:20260423T162116
CREATED:20251017T015738Z
LAST-MODIFIED:20251120T193136Z
UID:10002585-1882705500-1882710000@sjjcouncil.org
SUMMARY:Civic Engagement Workshop
DESCRIPTION:
URL:https://sjjcouncil.org/event/civic-engagement-workshop-2/2029-08-29/
LOCATION:IL
ATTACH;FMTTYPE=image/png:https://sjjcouncil.org/wp-content/uploads/2025/10/Civic-Engagement-Workshop-2025-scaled.png
END:VEVENT
BEGIN:VEVENT
DTSTART;TZID=UTC:20290830T154500
DTEND;TZID=UTC:20290830T174500
DTSTAMP:20260423T162116
CREATED:20251017T015654Z
LAST-MODIFIED:20251120T193415Z
UID:10000982-1882799100-1882806300@sjjcouncil.org
SUMMARY:Civic Engagement Workshop
DESCRIPTION:
URL:https://sjjcouncil.org/event/civic-engagement-workshop/2029-08-30/
LOCATION:IL
ATTACH;FMTTYPE=image/png:https://sjjcouncil.org/wp-content/uploads/2025/10/Civic-Engagement-Workshop-2025-scaled.png
END:VEVENT
BEGIN:VEVENT
DTSTART;TZID=UTC:20290903T154500
DTEND;TZID=UTC:20290903T174500
DTSTAMP:20260423T162116
CREATED:20251017T015654Z
LAST-MODIFIED:20251120T193415Z
UID:10000983-1883144700-1883151900@sjjcouncil.org
SUMMARY:Civic Engagement Workshop
DESCRIPTION:
URL:https://sjjcouncil.org/event/civic-engagement-workshop/2029-09-03/
LOCATION:IL
ATTACH;FMTTYPE=image/png:https://sjjcouncil.org/wp-content/uploads/2025/10/Civic-Engagement-Workshop-2025-scaled.png
END:VEVENT
BEGIN:VEVENT
DTSTART;TZID=UTC:20290904T154500
DTEND;TZID=UTC:20290904T174500
DTSTAMP:20260423T162116
CREATED:20251017T015654Z
LAST-MODIFIED:20251120T193415Z
UID:10000984-1883231100-1883238300@sjjcouncil.org
SUMMARY:Civic Engagement Workshop
DESCRIPTION:
URL:https://sjjcouncil.org/event/civic-engagement-workshop/2029-09-04/
LOCATION:IL
ATTACH;FMTTYPE=image/png:https://sjjcouncil.org/wp-content/uploads/2025/10/Civic-Engagement-Workshop-2025-scaled.png
END:VEVENT
BEGIN:VEVENT
DTSTART;TZID=UTC:20290905T134500
DTEND;TZID=UTC:20290905T150000
DTSTAMP:20260423T162116
CREATED:20251017T015738Z
LAST-MODIFIED:20251120T193136Z
UID:10002588-1883310300-1883314800@sjjcouncil.org
SUMMARY:Civic Engagement Workshop
DESCRIPTION:
URL:https://sjjcouncil.org/event/civic-engagement-workshop-2/2029-09-05/
LOCATION:IL
ATTACH;FMTTYPE=image/png:https://sjjcouncil.org/wp-content/uploads/2025/10/Civic-Engagement-Workshop-2025-scaled.png
END:VEVENT
BEGIN:VEVENT
DTSTART;TZID=UTC:20290906T154500
DTEND;TZID=UTC:20290906T174500
DTSTAMP:20260423T162116
CREATED:20251017T015654Z
LAST-MODIFIED:20251120T193415Z
UID:10000985-1883403900-1883411100@sjjcouncil.org
SUMMARY:Civic Engagement Workshop
DESCRIPTION:
URL:https://sjjcouncil.org/event/civic-engagement-workshop/2029-09-06/
LOCATION:IL
ATTACH;FMTTYPE=image/png:https://sjjcouncil.org/wp-content/uploads/2025/10/Civic-Engagement-Workshop-2025-scaled.png
END:VEVENT
BEGIN:VEVENT
DTSTART;TZID=UTC:20290910T154500
DTEND;TZID=UTC:20290910T174500
DTSTAMP:20260423T162116
CREATED:20251017T015654Z
LAST-MODIFIED:20251120T193415Z
UID:10000986-1883749500-1883756700@sjjcouncil.org
SUMMARY:Civic Engagement Workshop
DESCRIPTION:
URL:https://sjjcouncil.org/event/civic-engagement-workshop/2029-09-10/
LOCATION:IL
ATTACH;FMTTYPE=image/png:https://sjjcouncil.org/wp-content/uploads/2025/10/Civic-Engagement-Workshop-2025-scaled.png
END:VEVENT
BEGIN:VEVENT
DTSTART;TZID=UTC:20290911T154500
DTEND;TZID=UTC:20290911T174500
DTSTAMP:20260423T162116
CREATED:20251017T015654Z
LAST-MODIFIED:20251120T193415Z
UID:10000987-1883835900-1883843100@sjjcouncil.org
SUMMARY:Civic Engagement Workshop
DESCRIPTION:
URL:https://sjjcouncil.org/event/civic-engagement-workshop/2029-09-11/
LOCATION:IL
ATTACH;FMTTYPE=image/png:https://sjjcouncil.org/wp-content/uploads/2025/10/Civic-Engagement-Workshop-2025-scaled.png
END:VEVENT
BEGIN:VEVENT
DTSTART;TZID=UTC:20290912T134500
DTEND;TZID=UTC:20290912T150000
DTSTAMP:20260423T162116
CREATED:20251017T015738Z
LAST-MODIFIED:20251120T193136Z
UID:10002591-1883915100-1883919600@sjjcouncil.org
SUMMARY:Civic Engagement Workshop
DESCRIPTION:
URL:https://sjjcouncil.org/event/civic-engagement-workshop-2/2029-09-12/
LOCATION:IL
ATTACH;FMTTYPE=image/png:https://sjjcouncil.org/wp-content/uploads/2025/10/Civic-Engagement-Workshop-2025-scaled.png
END:VEVENT
BEGIN:VEVENT
DTSTART;TZID=UTC:20290913T154500
DTEND;TZID=UTC:20290913T174500
DTSTAMP:20260423T162116
CREATED:20251017T015654Z
LAST-MODIFIED:20251120T193415Z
UID:10000988-1884008700-1884015900@sjjcouncil.org
SUMMARY:Civic Engagement Workshop
DESCRIPTION:
URL:https://sjjcouncil.org/event/civic-engagement-workshop/2029-09-13/
LOCATION:IL
ATTACH;FMTTYPE=image/png:https://sjjcouncil.org/wp-content/uploads/2025/10/Civic-Engagement-Workshop-2025-scaled.png
END:VEVENT
BEGIN:VEVENT
DTSTART;TZID=UTC:20290917T154500
DTEND;TZID=UTC:20290917T174500
DTSTAMP:20260423T162116
CREATED:20251017T015654Z
LAST-MODIFIED:20251120T193415Z
UID:10000989-1884354300-1884361500@sjjcouncil.org
SUMMARY:Civic Engagement Workshop
DESCRIPTION:
URL:https://sjjcouncil.org/event/civic-engagement-workshop/2029-09-17/
LOCATION:IL
ATTACH;FMTTYPE=image/png:https://sjjcouncil.org/wp-content/uploads/2025/10/Civic-Engagement-Workshop-2025-scaled.png
END:VEVENT
BEGIN:VEVENT
DTSTART;TZID=UTC:20290918T154500
DTEND;TZID=UTC:20290918T174500
DTSTAMP:20260423T162116
CREATED:20251017T015654Z
LAST-MODIFIED:20251120T193415Z
UID:10000990-1884440700-1884447900@sjjcouncil.org
SUMMARY:Civic Engagement Workshop
DESCRIPTION:
URL:https://sjjcouncil.org/event/civic-engagement-workshop/2029-09-18/
LOCATION:IL
ATTACH;FMTTYPE=image/png:https://sjjcouncil.org/wp-content/uploads/2025/10/Civic-Engagement-Workshop-2025-scaled.png
END:VEVENT
BEGIN:VEVENT
DTSTART;TZID=UTC:20290919T134500
DTEND;TZID=UTC:20290919T150000
DTSTAMP:20260423T162116
CREATED:20251017T015738Z
LAST-MODIFIED:20251120T193136Z
UID:10002594-1884519900-1884524400@sjjcouncil.org
SUMMARY:Civic Engagement Workshop
DESCRIPTION:
URL:https://sjjcouncil.org/event/civic-engagement-workshop-2/2029-09-19/
LOCATION:IL
ATTACH;FMTTYPE=image/png:https://sjjcouncil.org/wp-content/uploads/2025/10/Civic-Engagement-Workshop-2025-scaled.png
END:VEVENT
BEGIN:VEVENT
DTSTART;TZID=UTC:20290920T154500
DTEND;TZID=UTC:20290920T174500
DTSTAMP:20260423T162116
CREATED:20251017T015654Z
LAST-MODIFIED:20251120T193415Z
UID:10000991-1884613500-1884620700@sjjcouncil.org
SUMMARY:Civic Engagement Workshop
DESCRIPTION:
URL:https://sjjcouncil.org/event/civic-engagement-workshop/2029-09-20/
LOCATION:IL
ATTACH;FMTTYPE=image/png:https://sjjcouncil.org/wp-content/uploads/2025/10/Civic-Engagement-Workshop-2025-scaled.png
END:VEVENT
END:VCALENDAR