BEGIN:VCALENDAR
VERSION:2.0
PRODID:-//CCSJJC - ECPv6.15.20//NONSGML v1.0//EN
CALSCALE:GREGORIAN
METHOD:PUBLISH
X-ORIGINAL-URL:https://sjjcouncil.org
X-WR-CALDESC:Events for CCSJJC
REFRESH-INTERVAL;VALUE=DURATION:PT1H
X-Robots-Tag:noindex
X-PUBLISHED-TTL:PT1H
BEGIN:VTIMEZONE
TZID:UTC
BEGIN:STANDARD
TZOFFSETFROM:+0000
TZOFFSETTO:+0000
TZNAME:UTC
DTSTART:20270101T000000
END:STANDARD
END:VTIMEZONE
BEGIN:VEVENT
DTSTART;TZID=UTC:20280719T134500
DTEND;TZID=UTC:20280719T150000
DTSTAMP:20260422T175907
CREATED:20251017T015738Z
LAST-MODIFIED:20251120T193136Z
UID:10002411-1847627100-1847631600@sjjcouncil.org
SUMMARY:Civic Engagement Workshop
DESCRIPTION:
URL:https://sjjcouncil.org/event/civic-engagement-workshop-2/2028-07-19/
LOCATION:IL
ATTACH;FMTTYPE=image/png:https://sjjcouncil.org/wp-content/uploads/2025/10/Civic-Engagement-Workshop-2025-scaled.png
END:VEVENT
BEGIN:VEVENT
DTSTART;TZID=UTC:20280720T154500
DTEND;TZID=UTC:20280720T174500
DTSTAMP:20260422T175907
CREATED:20251017T015654Z
LAST-MODIFIED:20251120T193415Z
UID:10000808-1847720700-1847727900@sjjcouncil.org
SUMMARY:Civic Engagement Workshop
DESCRIPTION:
URL:https://sjjcouncil.org/event/civic-engagement-workshop/2028-07-20/
LOCATION:IL
ATTACH;FMTTYPE=image/png:https://sjjcouncil.org/wp-content/uploads/2025/10/Civic-Engagement-Workshop-2025-scaled.png
END:VEVENT
BEGIN:VEVENT
DTSTART;TZID=UTC:20280724T154500
DTEND;TZID=UTC:20280724T174500
DTSTAMP:20260422T175907
CREATED:20251017T015654Z
LAST-MODIFIED:20251120T193415Z
UID:10000809-1848066300-1848073500@sjjcouncil.org
SUMMARY:Civic Engagement Workshop
DESCRIPTION:
URL:https://sjjcouncil.org/event/civic-engagement-workshop/2028-07-24/
LOCATION:IL
ATTACH;FMTTYPE=image/png:https://sjjcouncil.org/wp-content/uploads/2025/10/Civic-Engagement-Workshop-2025-scaled.png
END:VEVENT
BEGIN:VEVENT
DTSTART;TZID=UTC:20280725T154500
DTEND;TZID=UTC:20280725T174500
DTSTAMP:20260422T175907
CREATED:20251017T015654Z
LAST-MODIFIED:20251120T193415Z
UID:10000810-1848152700-1848159900@sjjcouncil.org
SUMMARY:Civic Engagement Workshop
DESCRIPTION:
URL:https://sjjcouncil.org/event/civic-engagement-workshop/2028-07-25/
LOCATION:IL
ATTACH;FMTTYPE=image/png:https://sjjcouncil.org/wp-content/uploads/2025/10/Civic-Engagement-Workshop-2025-scaled.png
END:VEVENT
BEGIN:VEVENT
DTSTART;TZID=UTC:20280726T134500
DTEND;TZID=UTC:20280726T150000
DTSTAMP:20260422T175907
CREATED:20251017T015738Z
LAST-MODIFIED:20251120T193136Z
UID:10002414-1848231900-1848236400@sjjcouncil.org
SUMMARY:Civic Engagement Workshop
DESCRIPTION:
URL:https://sjjcouncil.org/event/civic-engagement-workshop-2/2028-07-26/
LOCATION:IL
ATTACH;FMTTYPE=image/png:https://sjjcouncil.org/wp-content/uploads/2025/10/Civic-Engagement-Workshop-2025-scaled.png
END:VEVENT
BEGIN:VEVENT
DTSTART;TZID=UTC:20280727T154500
DTEND;TZID=UTC:20280727T174500
DTSTAMP:20260422T175907
CREATED:20251017T015654Z
LAST-MODIFIED:20251120T193415Z
UID:10000811-1848325500-1848332700@sjjcouncil.org
SUMMARY:Civic Engagement Workshop
DESCRIPTION:
URL:https://sjjcouncil.org/event/civic-engagement-workshop/2028-07-27/
LOCATION:IL
ATTACH;FMTTYPE=image/png:https://sjjcouncil.org/wp-content/uploads/2025/10/Civic-Engagement-Workshop-2025-scaled.png
END:VEVENT
BEGIN:VEVENT
DTSTART;TZID=UTC:20280731T154500
DTEND;TZID=UTC:20280731T174500
DTSTAMP:20260422T175907
CREATED:20251017T015654Z
LAST-MODIFIED:20251120T193415Z
UID:10000812-1848671100-1848678300@sjjcouncil.org
SUMMARY:Civic Engagement Workshop
DESCRIPTION:
URL:https://sjjcouncil.org/event/civic-engagement-workshop/2028-07-31/
LOCATION:IL
ATTACH;FMTTYPE=image/png:https://sjjcouncil.org/wp-content/uploads/2025/10/Civic-Engagement-Workshop-2025-scaled.png
END:VEVENT
BEGIN:VEVENT
DTSTART;TZID=UTC:20280801T154500
DTEND;TZID=UTC:20280801T174500
DTSTAMP:20260422T175907
CREATED:20251017T015654Z
LAST-MODIFIED:20251120T193415Z
UID:10000813-1848757500-1848764700@sjjcouncil.org
SUMMARY:Civic Engagement Workshop
DESCRIPTION:
URL:https://sjjcouncil.org/event/civic-engagement-workshop/2028-08-01/
LOCATION:IL
ATTACH;FMTTYPE=image/png:https://sjjcouncil.org/wp-content/uploads/2025/10/Civic-Engagement-Workshop-2025-scaled.png
END:VEVENT
BEGIN:VEVENT
DTSTART;TZID=UTC:20280802T134500
DTEND;TZID=UTC:20280802T150000
DTSTAMP:20260422T175907
CREATED:20251017T015738Z
LAST-MODIFIED:20251120T193136Z
UID:10002417-1848836700-1848841200@sjjcouncil.org
SUMMARY:Civic Engagement Workshop
DESCRIPTION:
URL:https://sjjcouncil.org/event/civic-engagement-workshop-2/2028-08-02/
LOCATION:IL
ATTACH;FMTTYPE=image/png:https://sjjcouncil.org/wp-content/uploads/2025/10/Civic-Engagement-Workshop-2025-scaled.png
END:VEVENT
BEGIN:VEVENT
DTSTART;TZID=UTC:20280803T154500
DTEND;TZID=UTC:20280803T174500
DTSTAMP:20260422T175907
CREATED:20251017T015654Z
LAST-MODIFIED:20251120T193415Z
UID:10000814-1848930300-1848937500@sjjcouncil.org
SUMMARY:Civic Engagement Workshop
DESCRIPTION:
URL:https://sjjcouncil.org/event/civic-engagement-workshop/2028-08-03/
LOCATION:IL
ATTACH;FMTTYPE=image/png:https://sjjcouncil.org/wp-content/uploads/2025/10/Civic-Engagement-Workshop-2025-scaled.png
END:VEVENT
BEGIN:VEVENT
DTSTART;TZID=UTC:20280807T154500
DTEND;TZID=UTC:20280807T174500
DTSTAMP:20260422T175907
CREATED:20251017T015654Z
LAST-MODIFIED:20251120T193415Z
UID:10000815-1849275900-1849283100@sjjcouncil.org
SUMMARY:Civic Engagement Workshop
DESCRIPTION:
URL:https://sjjcouncil.org/event/civic-engagement-workshop/2028-08-07/
LOCATION:IL
ATTACH;FMTTYPE=image/png:https://sjjcouncil.org/wp-content/uploads/2025/10/Civic-Engagement-Workshop-2025-scaled.png
END:VEVENT
BEGIN:VEVENT
DTSTART;TZID=UTC:20280808T154500
DTEND;TZID=UTC:20280808T174500
DTSTAMP:20260422T175907
CREATED:20251017T015654Z
LAST-MODIFIED:20251120T193415Z
UID:10000816-1849362300-1849369500@sjjcouncil.org
SUMMARY:Civic Engagement Workshop
DESCRIPTION:
URL:https://sjjcouncil.org/event/civic-engagement-workshop/2028-08-08/
LOCATION:IL
ATTACH;FMTTYPE=image/png:https://sjjcouncil.org/wp-content/uploads/2025/10/Civic-Engagement-Workshop-2025-scaled.png
END:VEVENT
BEGIN:VEVENT
DTSTART;TZID=UTC:20280809T134500
DTEND;TZID=UTC:20280809T150000
DTSTAMP:20260422T175907
CREATED:20251017T015738Z
LAST-MODIFIED:20251120T193136Z
UID:10002420-1849441500-1849446000@sjjcouncil.org
SUMMARY:Civic Engagement Workshop
DESCRIPTION:
URL:https://sjjcouncil.org/event/civic-engagement-workshop-2/2028-08-09/
LOCATION:IL
ATTACH;FMTTYPE=image/png:https://sjjcouncil.org/wp-content/uploads/2025/10/Civic-Engagement-Workshop-2025-scaled.png
END:VEVENT
BEGIN:VEVENT
DTSTART;TZID=UTC:20280810T154500
DTEND;TZID=UTC:20280810T174500
DTSTAMP:20260422T175907
CREATED:20251017T015654Z
LAST-MODIFIED:20251120T193415Z
UID:10000817-1849535100-1849542300@sjjcouncil.org
SUMMARY:Civic Engagement Workshop
DESCRIPTION:
URL:https://sjjcouncil.org/event/civic-engagement-workshop/2028-08-10/
LOCATION:IL
ATTACH;FMTTYPE=image/png:https://sjjcouncil.org/wp-content/uploads/2025/10/Civic-Engagement-Workshop-2025-scaled.png
END:VEVENT
BEGIN:VEVENT
DTSTART;TZID=UTC:20280814T154500
DTEND;TZID=UTC:20280814T174500
DTSTAMP:20260422T175907
CREATED:20251017T015654Z
LAST-MODIFIED:20251120T193415Z
UID:10000818-1849880700-1849887900@sjjcouncil.org
SUMMARY:Civic Engagement Workshop
DESCRIPTION:
URL:https://sjjcouncil.org/event/civic-engagement-workshop/2028-08-14/
LOCATION:IL
ATTACH;FMTTYPE=image/png:https://sjjcouncil.org/wp-content/uploads/2025/10/Civic-Engagement-Workshop-2025-scaled.png
END:VEVENT
BEGIN:VEVENT
DTSTART;TZID=UTC:20280815T154500
DTEND;TZID=UTC:20280815T174500
DTSTAMP:20260422T175907
CREATED:20251017T015654Z
LAST-MODIFIED:20251120T193415Z
UID:10000819-1849967100-1849974300@sjjcouncil.org
SUMMARY:Civic Engagement Workshop
DESCRIPTION:
URL:https://sjjcouncil.org/event/civic-engagement-workshop/2028-08-15/
LOCATION:IL
ATTACH;FMTTYPE=image/png:https://sjjcouncil.org/wp-content/uploads/2025/10/Civic-Engagement-Workshop-2025-scaled.png
END:VEVENT
BEGIN:VEVENT
DTSTART;TZID=UTC:20280816T134500
DTEND;TZID=UTC:20280816T150000
DTSTAMP:20260422T175907
CREATED:20251017T015738Z
LAST-MODIFIED:20251120T193136Z
UID:10002423-1850046300-1850050800@sjjcouncil.org
SUMMARY:Civic Engagement Workshop
DESCRIPTION:
URL:https://sjjcouncil.org/event/civic-engagement-workshop-2/2028-08-16/
LOCATION:IL
ATTACH;FMTTYPE=image/png:https://sjjcouncil.org/wp-content/uploads/2025/10/Civic-Engagement-Workshop-2025-scaled.png
END:VEVENT
BEGIN:VEVENT
DTSTART;TZID=UTC:20280817T154500
DTEND;TZID=UTC:20280817T174500
DTSTAMP:20260422T175907
CREATED:20251017T015654Z
LAST-MODIFIED:20251120T193415Z
UID:10000820-1850139900-1850147100@sjjcouncil.org
SUMMARY:Civic Engagement Workshop
DESCRIPTION:
URL:https://sjjcouncil.org/event/civic-engagement-workshop/2028-08-17/
LOCATION:IL
ATTACH;FMTTYPE=image/png:https://sjjcouncil.org/wp-content/uploads/2025/10/Civic-Engagement-Workshop-2025-scaled.png
END:VEVENT
BEGIN:VEVENT
DTSTART;TZID=UTC:20280821T154500
DTEND;TZID=UTC:20280821T174500
DTSTAMP:20260422T175907
CREATED:20251017T015654Z
LAST-MODIFIED:20251120T193415Z
UID:10000821-1850485500-1850492700@sjjcouncil.org
SUMMARY:Civic Engagement Workshop
DESCRIPTION:
URL:https://sjjcouncil.org/event/civic-engagement-workshop/2028-08-21/
LOCATION:IL
ATTACH;FMTTYPE=image/png:https://sjjcouncil.org/wp-content/uploads/2025/10/Civic-Engagement-Workshop-2025-scaled.png
END:VEVENT
BEGIN:VEVENT
DTSTART;TZID=UTC:20280822T154500
DTEND;TZID=UTC:20280822T174500
DTSTAMP:20260422T175907
CREATED:20251017T015654Z
LAST-MODIFIED:20251120T193415Z
UID:10000822-1850571900-1850579100@sjjcouncil.org
SUMMARY:Civic Engagement Workshop
DESCRIPTION:
URL:https://sjjcouncil.org/event/civic-engagement-workshop/2028-08-22/
LOCATION:IL
ATTACH;FMTTYPE=image/png:https://sjjcouncil.org/wp-content/uploads/2025/10/Civic-Engagement-Workshop-2025-scaled.png
END:VEVENT
BEGIN:VEVENT
DTSTART;TZID=UTC:20280823T134500
DTEND;TZID=UTC:20280823T150000
DTSTAMP:20260422T175907
CREATED:20251017T015738Z
LAST-MODIFIED:20251120T193136Z
UID:10002426-1850651100-1850655600@sjjcouncil.org
SUMMARY:Civic Engagement Workshop
DESCRIPTION:
URL:https://sjjcouncil.org/event/civic-engagement-workshop-2/2028-08-23/
LOCATION:IL
ATTACH;FMTTYPE=image/png:https://sjjcouncil.org/wp-content/uploads/2025/10/Civic-Engagement-Workshop-2025-scaled.png
END:VEVENT
BEGIN:VEVENT
DTSTART;TZID=UTC:20280824T154500
DTEND;TZID=UTC:20280824T174500
DTSTAMP:20260422T175907
CREATED:20251017T015654Z
LAST-MODIFIED:20251120T193415Z
UID:10000823-1850744700-1850751900@sjjcouncil.org
SUMMARY:Civic Engagement Workshop
DESCRIPTION:
URL:https://sjjcouncil.org/event/civic-engagement-workshop/2028-08-24/
LOCATION:IL
ATTACH;FMTTYPE=image/png:https://sjjcouncil.org/wp-content/uploads/2025/10/Civic-Engagement-Workshop-2025-scaled.png
END:VEVENT
BEGIN:VEVENT
DTSTART;TZID=UTC:20280828T154500
DTEND;TZID=UTC:20280828T174500
DTSTAMP:20260422T175907
CREATED:20251017T015654Z
LAST-MODIFIED:20251120T193415Z
UID:10000824-1851090300-1851097500@sjjcouncil.org
SUMMARY:Civic Engagement Workshop
DESCRIPTION:
URL:https://sjjcouncil.org/event/civic-engagement-workshop/2028-08-28/
LOCATION:IL
ATTACH;FMTTYPE=image/png:https://sjjcouncil.org/wp-content/uploads/2025/10/Civic-Engagement-Workshop-2025-scaled.png
END:VEVENT
BEGIN:VEVENT
DTSTART;TZID=UTC:20280829T154500
DTEND;TZID=UTC:20280829T174500
DTSTAMP:20260422T175907
CREATED:20251017T015654Z
LAST-MODIFIED:20251120T193415Z
UID:10000825-1851176700-1851183900@sjjcouncil.org
SUMMARY:Civic Engagement Workshop
DESCRIPTION:
URL:https://sjjcouncil.org/event/civic-engagement-workshop/2028-08-29/
LOCATION:IL
ATTACH;FMTTYPE=image/png:https://sjjcouncil.org/wp-content/uploads/2025/10/Civic-Engagement-Workshop-2025-scaled.png
END:VEVENT
BEGIN:VEVENT
DTSTART;TZID=UTC:20280830T134500
DTEND;TZID=UTC:20280830T150000
DTSTAMP:20260422T175907
CREATED:20251017T015738Z
LAST-MODIFIED:20251120T193136Z
UID:10002429-1851255900-1851260400@sjjcouncil.org
SUMMARY:Civic Engagement Workshop
DESCRIPTION:
URL:https://sjjcouncil.org/event/civic-engagement-workshop-2/2028-08-30/
LOCATION:IL
ATTACH;FMTTYPE=image/png:https://sjjcouncil.org/wp-content/uploads/2025/10/Civic-Engagement-Workshop-2025-scaled.png
END:VEVENT
BEGIN:VEVENT
DTSTART;TZID=UTC:20280831T154500
DTEND;TZID=UTC:20280831T174500
DTSTAMP:20260422T175907
CREATED:20251017T015654Z
LAST-MODIFIED:20251120T193415Z
UID:10000826-1851349500-1851356700@sjjcouncil.org
SUMMARY:Civic Engagement Workshop
DESCRIPTION:
URL:https://sjjcouncil.org/event/civic-engagement-workshop/2028-08-31/
LOCATION:IL
ATTACH;FMTTYPE=image/png:https://sjjcouncil.org/wp-content/uploads/2025/10/Civic-Engagement-Workshop-2025-scaled.png
END:VEVENT
BEGIN:VEVENT
DTSTART;TZID=UTC:20280904T154500
DTEND;TZID=UTC:20280904T174500
DTSTAMP:20260422T175907
CREATED:20251017T015654Z
LAST-MODIFIED:20251120T193415Z
UID:10000827-1851695100-1851702300@sjjcouncil.org
SUMMARY:Civic Engagement Workshop
DESCRIPTION:
URL:https://sjjcouncil.org/event/civic-engagement-workshop/2028-09-04/
LOCATION:IL
ATTACH;FMTTYPE=image/png:https://sjjcouncil.org/wp-content/uploads/2025/10/Civic-Engagement-Workshop-2025-scaled.png
END:VEVENT
BEGIN:VEVENT
DTSTART;TZID=UTC:20280905T154500
DTEND;TZID=UTC:20280905T174500
DTSTAMP:20260422T175907
CREATED:20251017T015654Z
LAST-MODIFIED:20251120T193415Z
UID:10000828-1851781500-1851788700@sjjcouncil.org
SUMMARY:Civic Engagement Workshop
DESCRIPTION:
URL:https://sjjcouncil.org/event/civic-engagement-workshop/2028-09-05/
LOCATION:IL
ATTACH;FMTTYPE=image/png:https://sjjcouncil.org/wp-content/uploads/2025/10/Civic-Engagement-Workshop-2025-scaled.png
END:VEVENT
BEGIN:VEVENT
DTSTART;TZID=UTC:20280906T134500
DTEND;TZID=UTC:20280906T150000
DTSTAMP:20260422T175907
CREATED:20251017T015738Z
LAST-MODIFIED:20251120T193136Z
UID:10002432-1851860700-1851865200@sjjcouncil.org
SUMMARY:Civic Engagement Workshop
DESCRIPTION:
URL:https://sjjcouncil.org/event/civic-engagement-workshop-2/2028-09-06/
LOCATION:IL
ATTACH;FMTTYPE=image/png:https://sjjcouncil.org/wp-content/uploads/2025/10/Civic-Engagement-Workshop-2025-scaled.png
END:VEVENT
BEGIN:VEVENT
DTSTART;TZID=UTC:20280907T154500
DTEND;TZID=UTC:20280907T174500
DTSTAMP:20260422T175907
CREATED:20251017T015654Z
LAST-MODIFIED:20251120T193415Z
UID:10000829-1851954300-1851961500@sjjcouncil.org
SUMMARY:Civic Engagement Workshop
DESCRIPTION:
URL:https://sjjcouncil.org/event/civic-engagement-workshop/2028-09-07/
LOCATION:IL
ATTACH;FMTTYPE=image/png:https://sjjcouncil.org/wp-content/uploads/2025/10/Civic-Engagement-Workshop-2025-scaled.png
END:VEVENT
END:VCALENDAR