BEGIN:VCALENDAR
VERSION:2.0
PRODID:-//CCSJJC - ECPv6.15.20//NONSGML v1.0//EN
CALSCALE:GREGORIAN
METHOD:PUBLISH
X-ORIGINAL-URL:https://sjjcouncil.org
X-WR-CALDESC:Events for CCSJJC
REFRESH-INTERVAL;VALUE=DURATION:PT1H
X-Robots-Tag:noindex
X-PUBLISHED-TTL:PT1H
BEGIN:VTIMEZONE
TZID:UTC
BEGIN:STANDARD
TZOFFSETFROM:+0000
TZOFFSETTO:+0000
TZNAME:UTC
DTSTART:20270101T000000
END:STANDARD
END:VTIMEZONE
BEGIN:VEVENT
DTSTART;TZID=UTC:20280228T154500
DTEND;TZID=UTC:20280228T174500
DTSTAMP:20260422T171006
CREATED:20251017T015654Z
LAST-MODIFIED:20251120T193415Z
UID:10000746-1835365500-1835372700@sjjcouncil.org
SUMMARY:Civic Engagement Workshop
DESCRIPTION:
URL:https://sjjcouncil.org/event/civic-engagement-workshop/2028-02-28/
LOCATION:IL
ATTACH;FMTTYPE=image/png:https://sjjcouncil.org/wp-content/uploads/2025/10/Civic-Engagement-Workshop-2025-scaled.png
END:VEVENT
BEGIN:VEVENT
DTSTART;TZID=UTC:20280229T154500
DTEND;TZID=UTC:20280229T174500
DTSTAMP:20260422T171006
CREATED:20251017T015654Z
LAST-MODIFIED:20251120T193415Z
UID:10000747-1835451900-1835459100@sjjcouncil.org
SUMMARY:Civic Engagement Workshop
DESCRIPTION:
URL:https://sjjcouncil.org/event/civic-engagement-workshop/2028-02-29/
LOCATION:IL
ATTACH;FMTTYPE=image/png:https://sjjcouncil.org/wp-content/uploads/2025/10/Civic-Engagement-Workshop-2025-scaled.png
END:VEVENT
BEGIN:VEVENT
DTSTART;TZID=UTC:20280301T134500
DTEND;TZID=UTC:20280301T150000
DTSTAMP:20260422T171006
CREATED:20251017T015738Z
LAST-MODIFIED:20251120T193136Z
UID:10002351-1835531100-1835535600@sjjcouncil.org
SUMMARY:Civic Engagement Workshop
DESCRIPTION:
URL:https://sjjcouncil.org/event/civic-engagement-workshop-2/2028-03-01/
LOCATION:IL
ATTACH;FMTTYPE=image/png:https://sjjcouncil.org/wp-content/uploads/2025/10/Civic-Engagement-Workshop-2025-scaled.png
END:VEVENT
BEGIN:VEVENT
DTSTART;TZID=UTC:20280302T154500
DTEND;TZID=UTC:20280302T174500
DTSTAMP:20260422T171006
CREATED:20251017T015654Z
LAST-MODIFIED:20251120T193415Z
UID:10000748-1835624700-1835631900@sjjcouncil.org
SUMMARY:Civic Engagement Workshop
DESCRIPTION:
URL:https://sjjcouncil.org/event/civic-engagement-workshop/2028-03-02/
LOCATION:IL
ATTACH;FMTTYPE=image/png:https://sjjcouncil.org/wp-content/uploads/2025/10/Civic-Engagement-Workshop-2025-scaled.png
END:VEVENT
BEGIN:VEVENT
DTSTART;TZID=UTC:20280306T154500
DTEND;TZID=UTC:20280306T174500
DTSTAMP:20260422T171006
CREATED:20251017T015654Z
LAST-MODIFIED:20251120T193415Z
UID:10000749-1835970300-1835977500@sjjcouncil.org
SUMMARY:Civic Engagement Workshop
DESCRIPTION:
URL:https://sjjcouncil.org/event/civic-engagement-workshop/2028-03-06/
LOCATION:IL
ATTACH;FMTTYPE=image/png:https://sjjcouncil.org/wp-content/uploads/2025/10/Civic-Engagement-Workshop-2025-scaled.png
END:VEVENT
BEGIN:VEVENT
DTSTART;TZID=UTC:20280307T154500
DTEND;TZID=UTC:20280307T174500
DTSTAMP:20260422T171006
CREATED:20251017T015654Z
LAST-MODIFIED:20251120T193415Z
UID:10000750-1836056700-1836063900@sjjcouncil.org
SUMMARY:Civic Engagement Workshop
DESCRIPTION:
URL:https://sjjcouncil.org/event/civic-engagement-workshop/2028-03-07/
LOCATION:IL
ATTACH;FMTTYPE=image/png:https://sjjcouncil.org/wp-content/uploads/2025/10/Civic-Engagement-Workshop-2025-scaled.png
END:VEVENT
BEGIN:VEVENT
DTSTART;TZID=UTC:20280308T134500
DTEND;TZID=UTC:20280308T150000
DTSTAMP:20260422T171006
CREATED:20251017T015738Z
LAST-MODIFIED:20251120T193136Z
UID:10002354-1836135900-1836140400@sjjcouncil.org
SUMMARY:Civic Engagement Workshop
DESCRIPTION:
URL:https://sjjcouncil.org/event/civic-engagement-workshop-2/2028-03-08/
LOCATION:IL
ATTACH;FMTTYPE=image/png:https://sjjcouncil.org/wp-content/uploads/2025/10/Civic-Engagement-Workshop-2025-scaled.png
END:VEVENT
BEGIN:VEVENT
DTSTART;TZID=UTC:20280309T154500
DTEND;TZID=UTC:20280309T174500
DTSTAMP:20260422T171006
CREATED:20251017T015654Z
LAST-MODIFIED:20251120T193415Z
UID:10000751-1836229500-1836236700@sjjcouncil.org
SUMMARY:Civic Engagement Workshop
DESCRIPTION:
URL:https://sjjcouncil.org/event/civic-engagement-workshop/2028-03-09/
LOCATION:IL
ATTACH;FMTTYPE=image/png:https://sjjcouncil.org/wp-content/uploads/2025/10/Civic-Engagement-Workshop-2025-scaled.png
END:VEVENT
BEGIN:VEVENT
DTSTART;TZID=UTC:20280313T154500
DTEND;TZID=UTC:20280313T174500
DTSTAMP:20260422T171006
CREATED:20251017T015654Z
LAST-MODIFIED:20251120T193415Z
UID:10000752-1836575100-1836582300@sjjcouncil.org
SUMMARY:Civic Engagement Workshop
DESCRIPTION:
URL:https://sjjcouncil.org/event/civic-engagement-workshop/2028-03-13/
LOCATION:IL
ATTACH;FMTTYPE=image/png:https://sjjcouncil.org/wp-content/uploads/2025/10/Civic-Engagement-Workshop-2025-scaled.png
END:VEVENT
BEGIN:VEVENT
DTSTART;TZID=UTC:20280314T154500
DTEND;TZID=UTC:20280314T174500
DTSTAMP:20260422T171006
CREATED:20251017T015654Z
LAST-MODIFIED:20251120T193415Z
UID:10000753-1836661500-1836668700@sjjcouncil.org
SUMMARY:Civic Engagement Workshop
DESCRIPTION:
URL:https://sjjcouncil.org/event/civic-engagement-workshop/2028-03-14/
LOCATION:IL
ATTACH;FMTTYPE=image/png:https://sjjcouncil.org/wp-content/uploads/2025/10/Civic-Engagement-Workshop-2025-scaled.png
END:VEVENT
BEGIN:VEVENT
DTSTART;TZID=UTC:20280315T134500
DTEND;TZID=UTC:20280315T150000
DTSTAMP:20260422T171006
CREATED:20251017T015738Z
LAST-MODIFIED:20251120T193136Z
UID:10002357-1836740700-1836745200@sjjcouncil.org
SUMMARY:Civic Engagement Workshop
DESCRIPTION:
URL:https://sjjcouncil.org/event/civic-engagement-workshop-2/2028-03-15/
LOCATION:IL
ATTACH;FMTTYPE=image/png:https://sjjcouncil.org/wp-content/uploads/2025/10/Civic-Engagement-Workshop-2025-scaled.png
END:VEVENT
BEGIN:VEVENT
DTSTART;TZID=UTC:20280316T154500
DTEND;TZID=UTC:20280316T174500
DTSTAMP:20260422T171006
CREATED:20251017T015654Z
LAST-MODIFIED:20251120T193415Z
UID:10000754-1836834300-1836841500@sjjcouncil.org
SUMMARY:Civic Engagement Workshop
DESCRIPTION:
URL:https://sjjcouncil.org/event/civic-engagement-workshop/2028-03-16/
LOCATION:IL
ATTACH;FMTTYPE=image/png:https://sjjcouncil.org/wp-content/uploads/2025/10/Civic-Engagement-Workshop-2025-scaled.png
END:VEVENT
BEGIN:VEVENT
DTSTART;TZID=UTC:20280320T154500
DTEND;TZID=UTC:20280320T174500
DTSTAMP:20260422T171006
CREATED:20251017T015654Z
LAST-MODIFIED:20251120T193415Z
UID:10000755-1837179900-1837187100@sjjcouncil.org
SUMMARY:Civic Engagement Workshop
DESCRIPTION:
URL:https://sjjcouncil.org/event/civic-engagement-workshop/2028-03-20/
LOCATION:IL
ATTACH;FMTTYPE=image/png:https://sjjcouncil.org/wp-content/uploads/2025/10/Civic-Engagement-Workshop-2025-scaled.png
END:VEVENT
BEGIN:VEVENT
DTSTART;TZID=UTC:20280321T154500
DTEND;TZID=UTC:20280321T174500
DTSTAMP:20260422T171006
CREATED:20251017T015654Z
LAST-MODIFIED:20251120T193415Z
UID:10000756-1837266300-1837273500@sjjcouncil.org
SUMMARY:Civic Engagement Workshop
DESCRIPTION:
URL:https://sjjcouncil.org/event/civic-engagement-workshop/2028-03-21/
LOCATION:IL
ATTACH;FMTTYPE=image/png:https://sjjcouncil.org/wp-content/uploads/2025/10/Civic-Engagement-Workshop-2025-scaled.png
END:VEVENT
BEGIN:VEVENT
DTSTART;TZID=UTC:20280322T134500
DTEND;TZID=UTC:20280322T150000
DTSTAMP:20260422T171006
CREATED:20251017T015738Z
LAST-MODIFIED:20251120T193136Z
UID:10002360-1837345500-1837350000@sjjcouncil.org
SUMMARY:Civic Engagement Workshop
DESCRIPTION:
URL:https://sjjcouncil.org/event/civic-engagement-workshop-2/2028-03-22/
LOCATION:IL
ATTACH;FMTTYPE=image/png:https://sjjcouncil.org/wp-content/uploads/2025/10/Civic-Engagement-Workshop-2025-scaled.png
END:VEVENT
BEGIN:VEVENT
DTSTART;TZID=UTC:20280323T154500
DTEND;TZID=UTC:20280323T174500
DTSTAMP:20260422T171006
CREATED:20251017T015654Z
LAST-MODIFIED:20251120T193415Z
UID:10000757-1837439100-1837446300@sjjcouncil.org
SUMMARY:Civic Engagement Workshop
DESCRIPTION:
URL:https://sjjcouncil.org/event/civic-engagement-workshop/2028-03-23/
LOCATION:IL
ATTACH;FMTTYPE=image/png:https://sjjcouncil.org/wp-content/uploads/2025/10/Civic-Engagement-Workshop-2025-scaled.png
END:VEVENT
BEGIN:VEVENT
DTSTART;TZID=UTC:20280327T154500
DTEND;TZID=UTC:20280327T174500
DTSTAMP:20260422T171006
CREATED:20251017T015654Z
LAST-MODIFIED:20251120T193415Z
UID:10000758-1837784700-1837791900@sjjcouncil.org
SUMMARY:Civic Engagement Workshop
DESCRIPTION:
URL:https://sjjcouncil.org/event/civic-engagement-workshop/2028-03-27/
LOCATION:IL
ATTACH;FMTTYPE=image/png:https://sjjcouncil.org/wp-content/uploads/2025/10/Civic-Engagement-Workshop-2025-scaled.png
END:VEVENT
BEGIN:VEVENT
DTSTART;TZID=UTC:20280328T154500
DTEND;TZID=UTC:20280328T174500
DTSTAMP:20260422T171006
CREATED:20251017T015654Z
LAST-MODIFIED:20251120T193415Z
UID:10000759-1837871100-1837878300@sjjcouncil.org
SUMMARY:Civic Engagement Workshop
DESCRIPTION:
URL:https://sjjcouncil.org/event/civic-engagement-workshop/2028-03-28/
LOCATION:IL
ATTACH;FMTTYPE=image/png:https://sjjcouncil.org/wp-content/uploads/2025/10/Civic-Engagement-Workshop-2025-scaled.png
END:VEVENT
BEGIN:VEVENT
DTSTART;TZID=UTC:20280329T134500
DTEND;TZID=UTC:20280329T150000
DTSTAMP:20260422T171006
CREATED:20251017T015738Z
LAST-MODIFIED:20251120T193136Z
UID:10002363-1837950300-1837954800@sjjcouncil.org
SUMMARY:Civic Engagement Workshop
DESCRIPTION:
URL:https://sjjcouncil.org/event/civic-engagement-workshop-2/2028-03-29/
LOCATION:IL
ATTACH;FMTTYPE=image/png:https://sjjcouncil.org/wp-content/uploads/2025/10/Civic-Engagement-Workshop-2025-scaled.png
END:VEVENT
BEGIN:VEVENT
DTSTART;TZID=UTC:20280330T154500
DTEND;TZID=UTC:20280330T174500
DTSTAMP:20260422T171006
CREATED:20251017T015654Z
LAST-MODIFIED:20251120T193415Z
UID:10000760-1838043900-1838051100@sjjcouncil.org
SUMMARY:Civic Engagement Workshop
DESCRIPTION:
URL:https://sjjcouncil.org/event/civic-engagement-workshop/2028-03-30/
LOCATION:IL
ATTACH;FMTTYPE=image/png:https://sjjcouncil.org/wp-content/uploads/2025/10/Civic-Engagement-Workshop-2025-scaled.png
END:VEVENT
BEGIN:VEVENT
DTSTART;TZID=UTC:20280403T154500
DTEND;TZID=UTC:20280403T174500
DTSTAMP:20260422T171006
CREATED:20251017T015654Z
LAST-MODIFIED:20251120T193415Z
UID:10000761-1838389500-1838396700@sjjcouncil.org
SUMMARY:Civic Engagement Workshop
DESCRIPTION:
URL:https://sjjcouncil.org/event/civic-engagement-workshop/2028-04-03/
LOCATION:IL
ATTACH;FMTTYPE=image/png:https://sjjcouncil.org/wp-content/uploads/2025/10/Civic-Engagement-Workshop-2025-scaled.png
END:VEVENT
BEGIN:VEVENT
DTSTART;TZID=UTC:20280404T154500
DTEND;TZID=UTC:20280404T174500
DTSTAMP:20260422T171006
CREATED:20251017T015654Z
LAST-MODIFIED:20251120T193415Z
UID:10000762-1838475900-1838483100@sjjcouncil.org
SUMMARY:Civic Engagement Workshop
DESCRIPTION:
URL:https://sjjcouncil.org/event/civic-engagement-workshop/2028-04-04/
LOCATION:IL
ATTACH;FMTTYPE=image/png:https://sjjcouncil.org/wp-content/uploads/2025/10/Civic-Engagement-Workshop-2025-scaled.png
END:VEVENT
BEGIN:VEVENT
DTSTART;TZID=UTC:20280405T134500
DTEND;TZID=UTC:20280405T150000
DTSTAMP:20260422T171006
CREATED:20251017T015738Z
LAST-MODIFIED:20251120T193136Z
UID:10002366-1838555100-1838559600@sjjcouncil.org
SUMMARY:Civic Engagement Workshop
DESCRIPTION:
URL:https://sjjcouncil.org/event/civic-engagement-workshop-2/2028-04-05/
LOCATION:IL
ATTACH;FMTTYPE=image/png:https://sjjcouncil.org/wp-content/uploads/2025/10/Civic-Engagement-Workshop-2025-scaled.png
END:VEVENT
BEGIN:VEVENT
DTSTART;TZID=UTC:20280406T154500
DTEND;TZID=UTC:20280406T174500
DTSTAMP:20260422T171006
CREATED:20251017T015654Z
LAST-MODIFIED:20251120T193415Z
UID:10000763-1838648700-1838655900@sjjcouncil.org
SUMMARY:Civic Engagement Workshop
DESCRIPTION:
URL:https://sjjcouncil.org/event/civic-engagement-workshop/2028-04-06/
LOCATION:IL
ATTACH;FMTTYPE=image/png:https://sjjcouncil.org/wp-content/uploads/2025/10/Civic-Engagement-Workshop-2025-scaled.png
END:VEVENT
BEGIN:VEVENT
DTSTART;TZID=UTC:20280410T154500
DTEND;TZID=UTC:20280410T174500
DTSTAMP:20260422T171006
CREATED:20251017T015654Z
LAST-MODIFIED:20251120T193415Z
UID:10000764-1838994300-1839001500@sjjcouncil.org
SUMMARY:Civic Engagement Workshop
DESCRIPTION:
URL:https://sjjcouncil.org/event/civic-engagement-workshop/2028-04-10/
LOCATION:IL
ATTACH;FMTTYPE=image/png:https://sjjcouncil.org/wp-content/uploads/2025/10/Civic-Engagement-Workshop-2025-scaled.png
END:VEVENT
BEGIN:VEVENT
DTSTART;TZID=UTC:20280411T154500
DTEND;TZID=UTC:20280411T174500
DTSTAMP:20260422T171006
CREATED:20251017T015654Z
LAST-MODIFIED:20251120T193415Z
UID:10000765-1839080700-1839087900@sjjcouncil.org
SUMMARY:Civic Engagement Workshop
DESCRIPTION:
URL:https://sjjcouncil.org/event/civic-engagement-workshop/2028-04-11/
LOCATION:IL
ATTACH;FMTTYPE=image/png:https://sjjcouncil.org/wp-content/uploads/2025/10/Civic-Engagement-Workshop-2025-scaled.png
END:VEVENT
BEGIN:VEVENT
DTSTART;TZID=UTC:20280412T134500
DTEND;TZID=UTC:20280412T150000
DTSTAMP:20260422T171006
CREATED:20251017T015738Z
LAST-MODIFIED:20251120T193136Z
UID:10002369-1839159900-1839164400@sjjcouncil.org
SUMMARY:Civic Engagement Workshop
DESCRIPTION:
URL:https://sjjcouncil.org/event/civic-engagement-workshop-2/2028-04-12/
LOCATION:IL
ATTACH;FMTTYPE=image/png:https://sjjcouncil.org/wp-content/uploads/2025/10/Civic-Engagement-Workshop-2025-scaled.png
END:VEVENT
BEGIN:VEVENT
DTSTART;TZID=UTC:20280413T154500
DTEND;TZID=UTC:20280413T174500
DTSTAMP:20260422T171006
CREATED:20251017T015654Z
LAST-MODIFIED:20251120T193415Z
UID:10000766-1839253500-1839260700@sjjcouncil.org
SUMMARY:Civic Engagement Workshop
DESCRIPTION:
URL:https://sjjcouncil.org/event/civic-engagement-workshop/2028-04-13/
LOCATION:IL
ATTACH;FMTTYPE=image/png:https://sjjcouncil.org/wp-content/uploads/2025/10/Civic-Engagement-Workshop-2025-scaled.png
END:VEVENT
BEGIN:VEVENT
DTSTART;TZID=UTC:20280417T154500
DTEND;TZID=UTC:20280417T174500
DTSTAMP:20260422T171006
CREATED:20251017T015654Z
LAST-MODIFIED:20251120T193415Z
UID:10000767-1839599100-1839606300@sjjcouncil.org
SUMMARY:Civic Engagement Workshop
DESCRIPTION:
URL:https://sjjcouncil.org/event/civic-engagement-workshop/2028-04-17/
LOCATION:IL
ATTACH;FMTTYPE=image/png:https://sjjcouncil.org/wp-content/uploads/2025/10/Civic-Engagement-Workshop-2025-scaled.png
END:VEVENT
BEGIN:VEVENT
DTSTART;TZID=UTC:20280418T154500
DTEND;TZID=UTC:20280418T174500
DTSTAMP:20260422T171006
CREATED:20251017T015654Z
LAST-MODIFIED:20251120T193415Z
UID:10000768-1839685500-1839692700@sjjcouncil.org
SUMMARY:Civic Engagement Workshop
DESCRIPTION:
URL:https://sjjcouncil.org/event/civic-engagement-workshop/2028-04-18/
LOCATION:IL
ATTACH;FMTTYPE=image/png:https://sjjcouncil.org/wp-content/uploads/2025/10/Civic-Engagement-Workshop-2025-scaled.png
END:VEVENT
END:VCALENDAR