BEGIN:VCALENDAR
VERSION:2.0
PRODID:-//CCSJJC - ECPv6.15.20//NONSGML v1.0//EN
CALSCALE:GREGORIAN
METHOD:PUBLISH
X-WR-CALNAME:CCSJJC
X-ORIGINAL-URL:https://sjjcouncil.org
X-WR-CALDESC:Events for CCSJJC
REFRESH-INTERVAL;VALUE=DURATION:PT1H
X-Robots-Tag:noindex
X-PUBLISHED-TTL:PT1H
BEGIN:VTIMEZONE
TZID:UTC
BEGIN:STANDARD
TZOFFSETFROM:+0000
TZOFFSETTO:+0000
TZNAME:UTC
DTSTART:20280101T000000
END:STANDARD
END:VTIMEZONE
BEGIN:VEVENT
DTSTART;TZID=UTC:20290516T134500
DTEND;TZID=UTC:20290516T150000
DTSTAMP:20260423T135055
CREATED:20251017T015738Z
LAST-MODIFIED:20251120T193136Z
UID:10002540-1873633500-1873638000@sjjcouncil.org
SUMMARY:Civic Engagement Workshop
DESCRIPTION:
URL:https://sjjcouncil.org/event/civic-engagement-workshop-2/2029-05-16/
LOCATION:IL
ATTACH;FMTTYPE=image/png:https://sjjcouncil.org/wp-content/uploads/2025/10/Civic-Engagement-Workshop-2025-scaled.png
END:VEVENT
BEGIN:VEVENT
DTSTART;TZID=UTC:20290517T154500
DTEND;TZID=UTC:20290517T174500
DTSTAMP:20260423T135055
CREATED:20251017T015654Z
LAST-MODIFIED:20251120T193415Z
UID:10000937-1873727100-1873734300@sjjcouncil.org
SUMMARY:Civic Engagement Workshop
DESCRIPTION:
URL:https://sjjcouncil.org/event/civic-engagement-workshop/2029-05-17/
LOCATION:IL
ATTACH;FMTTYPE=image/png:https://sjjcouncil.org/wp-content/uploads/2025/10/Civic-Engagement-Workshop-2025-scaled.png
END:VEVENT
BEGIN:VEVENT
DTSTART;TZID=UTC:20290521T154500
DTEND;TZID=UTC:20290521T174500
DTSTAMP:20260423T135055
CREATED:20251017T015654Z
LAST-MODIFIED:20251120T193415Z
UID:10000938-1874072700-1874079900@sjjcouncil.org
SUMMARY:Civic Engagement Workshop
DESCRIPTION:
URL:https://sjjcouncil.org/event/civic-engagement-workshop/2029-05-21/
LOCATION:IL
ATTACH;FMTTYPE=image/png:https://sjjcouncil.org/wp-content/uploads/2025/10/Civic-Engagement-Workshop-2025-scaled.png
END:VEVENT
BEGIN:VEVENT
DTSTART;TZID=UTC:20290522T154500
DTEND;TZID=UTC:20290522T174500
DTSTAMP:20260423T135055
CREATED:20251017T015654Z
LAST-MODIFIED:20251120T193415Z
UID:10000939-1874159100-1874166300@sjjcouncil.org
SUMMARY:Civic Engagement Workshop
DESCRIPTION:
URL:https://sjjcouncil.org/event/civic-engagement-workshop/2029-05-22/
LOCATION:IL
ATTACH;FMTTYPE=image/png:https://sjjcouncil.org/wp-content/uploads/2025/10/Civic-Engagement-Workshop-2025-scaled.png
END:VEVENT
BEGIN:VEVENT
DTSTART;TZID=UTC:20290523T134500
DTEND;TZID=UTC:20290523T150000
DTSTAMP:20260423T135055
CREATED:20251017T015738Z
LAST-MODIFIED:20251120T193136Z
UID:10002543-1874238300-1874242800@sjjcouncil.org
SUMMARY:Civic Engagement Workshop
DESCRIPTION:
URL:https://sjjcouncil.org/event/civic-engagement-workshop-2/2029-05-23/
LOCATION:IL
ATTACH;FMTTYPE=image/png:https://sjjcouncil.org/wp-content/uploads/2025/10/Civic-Engagement-Workshop-2025-scaled.png
END:VEVENT
BEGIN:VEVENT
DTSTART;TZID=UTC:20290524T154500
DTEND;TZID=UTC:20290524T174500
DTSTAMP:20260423T135055
CREATED:20251017T015654Z
LAST-MODIFIED:20251120T193415Z
UID:10000940-1874331900-1874339100@sjjcouncil.org
SUMMARY:Civic Engagement Workshop
DESCRIPTION:
URL:https://sjjcouncil.org/event/civic-engagement-workshop/2029-05-24/
LOCATION:IL
ATTACH;FMTTYPE=image/png:https://sjjcouncil.org/wp-content/uploads/2025/10/Civic-Engagement-Workshop-2025-scaled.png
END:VEVENT
BEGIN:VEVENT
DTSTART;TZID=UTC:20290528T154500
DTEND;TZID=UTC:20290528T174500
DTSTAMP:20260423T135055
CREATED:20251017T015654Z
LAST-MODIFIED:20251120T193415Z
UID:10000941-1874677500-1874684700@sjjcouncil.org
SUMMARY:Civic Engagement Workshop
DESCRIPTION:
URL:https://sjjcouncil.org/event/civic-engagement-workshop/2029-05-28/
LOCATION:IL
ATTACH;FMTTYPE=image/png:https://sjjcouncil.org/wp-content/uploads/2025/10/Civic-Engagement-Workshop-2025-scaled.png
END:VEVENT
BEGIN:VEVENT
DTSTART;TZID=UTC:20290529T154500
DTEND;TZID=UTC:20290529T174500
DTSTAMP:20260423T135055
CREATED:20251017T015654Z
LAST-MODIFIED:20251120T193415Z
UID:10000942-1874763900-1874771100@sjjcouncil.org
SUMMARY:Civic Engagement Workshop
DESCRIPTION:
URL:https://sjjcouncil.org/event/civic-engagement-workshop/2029-05-29/
LOCATION:IL
ATTACH;FMTTYPE=image/png:https://sjjcouncil.org/wp-content/uploads/2025/10/Civic-Engagement-Workshop-2025-scaled.png
END:VEVENT
BEGIN:VEVENT
DTSTART;TZID=UTC:20290530T134500
DTEND;TZID=UTC:20290530T150000
DTSTAMP:20260423T135055
CREATED:20251017T015738Z
LAST-MODIFIED:20251120T193136Z
UID:10002546-1874843100-1874847600@sjjcouncil.org
SUMMARY:Civic Engagement Workshop
DESCRIPTION:
URL:https://sjjcouncil.org/event/civic-engagement-workshop-2/2029-05-30/
LOCATION:IL
ATTACH;FMTTYPE=image/png:https://sjjcouncil.org/wp-content/uploads/2025/10/Civic-Engagement-Workshop-2025-scaled.png
END:VEVENT
BEGIN:VEVENT
DTSTART;TZID=UTC:20290531T154500
DTEND;TZID=UTC:20290531T174500
DTSTAMP:20260423T135055
CREATED:20251017T015654Z
LAST-MODIFIED:20251120T193415Z
UID:10000943-1874936700-1874943900@sjjcouncil.org
SUMMARY:Civic Engagement Workshop
DESCRIPTION:
URL:https://sjjcouncil.org/event/civic-engagement-workshop/2029-05-31/
LOCATION:IL
ATTACH;FMTTYPE=image/png:https://sjjcouncil.org/wp-content/uploads/2025/10/Civic-Engagement-Workshop-2025-scaled.png
END:VEVENT
BEGIN:VEVENT
DTSTART;TZID=UTC:20290604T154500
DTEND;TZID=UTC:20290604T174500
DTSTAMP:20260423T135055
CREATED:20251017T015654Z
LAST-MODIFIED:20251120T193415Z
UID:10000944-1875282300-1875289500@sjjcouncil.org
SUMMARY:Civic Engagement Workshop
DESCRIPTION:
URL:https://sjjcouncil.org/event/civic-engagement-workshop/2029-06-04/
LOCATION:IL
ATTACH;FMTTYPE=image/png:https://sjjcouncil.org/wp-content/uploads/2025/10/Civic-Engagement-Workshop-2025-scaled.png
END:VEVENT
BEGIN:VEVENT
DTSTART;TZID=UTC:20290605T154500
DTEND;TZID=UTC:20290605T174500
DTSTAMP:20260423T135055
CREATED:20251017T015654Z
LAST-MODIFIED:20251120T193415Z
UID:10000945-1875368700-1875375900@sjjcouncil.org
SUMMARY:Civic Engagement Workshop
DESCRIPTION:
URL:https://sjjcouncil.org/event/civic-engagement-workshop/2029-06-05/
LOCATION:IL
ATTACH;FMTTYPE=image/png:https://sjjcouncil.org/wp-content/uploads/2025/10/Civic-Engagement-Workshop-2025-scaled.png
END:VEVENT
BEGIN:VEVENT
DTSTART;TZID=UTC:20290606T134500
DTEND;TZID=UTC:20290606T150000
DTSTAMP:20260423T135055
CREATED:20251017T015738Z
LAST-MODIFIED:20251120T193136Z
UID:10002549-1875447900-1875452400@sjjcouncil.org
SUMMARY:Civic Engagement Workshop
DESCRIPTION:
URL:https://sjjcouncil.org/event/civic-engagement-workshop-2/2029-06-06/
LOCATION:IL
ATTACH;FMTTYPE=image/png:https://sjjcouncil.org/wp-content/uploads/2025/10/Civic-Engagement-Workshop-2025-scaled.png
END:VEVENT
BEGIN:VEVENT
DTSTART;TZID=UTC:20290607T154500
DTEND;TZID=UTC:20290607T174500
DTSTAMP:20260423T135055
CREATED:20251017T015654Z
LAST-MODIFIED:20251120T193415Z
UID:10000946-1875541500-1875548700@sjjcouncil.org
SUMMARY:Civic Engagement Workshop
DESCRIPTION:
URL:https://sjjcouncil.org/event/civic-engagement-workshop/2029-06-07/
LOCATION:IL
ATTACH;FMTTYPE=image/png:https://sjjcouncil.org/wp-content/uploads/2025/10/Civic-Engagement-Workshop-2025-scaled.png
END:VEVENT
BEGIN:VEVENT
DTSTART;TZID=UTC:20290611T154500
DTEND;TZID=UTC:20290611T174500
DTSTAMP:20260423T135055
CREATED:20251017T015654Z
LAST-MODIFIED:20251120T193415Z
UID:10000947-1875887100-1875894300@sjjcouncil.org
SUMMARY:Civic Engagement Workshop
DESCRIPTION:
URL:https://sjjcouncil.org/event/civic-engagement-workshop/2029-06-11/
LOCATION:IL
ATTACH;FMTTYPE=image/png:https://sjjcouncil.org/wp-content/uploads/2025/10/Civic-Engagement-Workshop-2025-scaled.png
END:VEVENT
BEGIN:VEVENT
DTSTART;TZID=UTC:20290612T154500
DTEND;TZID=UTC:20290612T174500
DTSTAMP:20260423T135056
CREATED:20251017T015654Z
LAST-MODIFIED:20251120T193415Z
UID:10000948-1875973500-1875980700@sjjcouncil.org
SUMMARY:Civic Engagement Workshop
DESCRIPTION:
URL:https://sjjcouncil.org/event/civic-engagement-workshop/2029-06-12/
LOCATION:IL
ATTACH;FMTTYPE=image/png:https://sjjcouncil.org/wp-content/uploads/2025/10/Civic-Engagement-Workshop-2025-scaled.png
END:VEVENT
BEGIN:VEVENT
DTSTART;TZID=UTC:20290613T134500
DTEND;TZID=UTC:20290613T150000
DTSTAMP:20260423T135056
CREATED:20251017T015738Z
LAST-MODIFIED:20251120T193136Z
UID:10002552-1876052700-1876057200@sjjcouncil.org
SUMMARY:Civic Engagement Workshop
DESCRIPTION:
URL:https://sjjcouncil.org/event/civic-engagement-workshop-2/2029-06-13/
LOCATION:IL
ATTACH;FMTTYPE=image/png:https://sjjcouncil.org/wp-content/uploads/2025/10/Civic-Engagement-Workshop-2025-scaled.png
END:VEVENT
BEGIN:VEVENT
DTSTART;TZID=UTC:20290614T154500
DTEND;TZID=UTC:20290614T174500
DTSTAMP:20260423T135056
CREATED:20251017T015654Z
LAST-MODIFIED:20251120T193415Z
UID:10000949-1876146300-1876153500@sjjcouncil.org
SUMMARY:Civic Engagement Workshop
DESCRIPTION:
URL:https://sjjcouncil.org/event/civic-engagement-workshop/2029-06-14/
LOCATION:IL
ATTACH;FMTTYPE=image/png:https://sjjcouncil.org/wp-content/uploads/2025/10/Civic-Engagement-Workshop-2025-scaled.png
END:VEVENT
BEGIN:VEVENT
DTSTART;TZID=UTC:20290618T154500
DTEND;TZID=UTC:20290618T174500
DTSTAMP:20260423T135056
CREATED:20251017T015654Z
LAST-MODIFIED:20251120T193415Z
UID:10000950-1876491900-1876499100@sjjcouncil.org
SUMMARY:Civic Engagement Workshop
DESCRIPTION:
URL:https://sjjcouncil.org/event/civic-engagement-workshop/2029-06-18/
LOCATION:IL
ATTACH;FMTTYPE=image/png:https://sjjcouncil.org/wp-content/uploads/2025/10/Civic-Engagement-Workshop-2025-scaled.png
END:VEVENT
BEGIN:VEVENT
DTSTART;TZID=UTC:20290619T154500
DTEND;TZID=UTC:20290619T174500
DTSTAMP:20260423T135056
CREATED:20251017T015654Z
LAST-MODIFIED:20251120T193415Z
UID:10000951-1876578300-1876585500@sjjcouncil.org
SUMMARY:Civic Engagement Workshop
DESCRIPTION:
URL:https://sjjcouncil.org/event/civic-engagement-workshop/2029-06-19/
LOCATION:IL
ATTACH;FMTTYPE=image/png:https://sjjcouncil.org/wp-content/uploads/2025/10/Civic-Engagement-Workshop-2025-scaled.png
END:VEVENT
BEGIN:VEVENT
DTSTART;TZID=UTC:20290620T134500
DTEND;TZID=UTC:20290620T150000
DTSTAMP:20260423T135056
CREATED:20251017T015738Z
LAST-MODIFIED:20251120T193136Z
UID:10002555-1876657500-1876662000@sjjcouncil.org
SUMMARY:Civic Engagement Workshop
DESCRIPTION:
URL:https://sjjcouncil.org/event/civic-engagement-workshop-2/2029-06-20/
LOCATION:IL
ATTACH;FMTTYPE=image/png:https://sjjcouncil.org/wp-content/uploads/2025/10/Civic-Engagement-Workshop-2025-scaled.png
END:VEVENT
BEGIN:VEVENT
DTSTART;TZID=UTC:20290621T154500
DTEND;TZID=UTC:20290621T174500
DTSTAMP:20260423T135056
CREATED:20251017T015654Z
LAST-MODIFIED:20251120T193415Z
UID:10000952-1876751100-1876758300@sjjcouncil.org
SUMMARY:Civic Engagement Workshop
DESCRIPTION:
URL:https://sjjcouncil.org/event/civic-engagement-workshop/2029-06-21/
LOCATION:IL
ATTACH;FMTTYPE=image/png:https://sjjcouncil.org/wp-content/uploads/2025/10/Civic-Engagement-Workshop-2025-scaled.png
END:VEVENT
BEGIN:VEVENT
DTSTART;TZID=UTC:20290625T154500
DTEND;TZID=UTC:20290625T174500
DTSTAMP:20260423T135056
CREATED:20251017T015654Z
LAST-MODIFIED:20251120T193415Z
UID:10000953-1877096700-1877103900@sjjcouncil.org
SUMMARY:Civic Engagement Workshop
DESCRIPTION:
URL:https://sjjcouncil.org/event/civic-engagement-workshop/2029-06-25/
LOCATION:IL
ATTACH;FMTTYPE=image/png:https://sjjcouncil.org/wp-content/uploads/2025/10/Civic-Engagement-Workshop-2025-scaled.png
END:VEVENT
BEGIN:VEVENT
DTSTART;TZID=UTC:20290626T154500
DTEND;TZID=UTC:20290626T174500
DTSTAMP:20260423T135056
CREATED:20251017T015654Z
LAST-MODIFIED:20251120T193415Z
UID:10000954-1877183100-1877190300@sjjcouncil.org
SUMMARY:Civic Engagement Workshop
DESCRIPTION:
URL:https://sjjcouncil.org/event/civic-engagement-workshop/2029-06-26/
LOCATION:IL
ATTACH;FMTTYPE=image/png:https://sjjcouncil.org/wp-content/uploads/2025/10/Civic-Engagement-Workshop-2025-scaled.png
END:VEVENT
BEGIN:VEVENT
DTSTART;TZID=UTC:20290627T134500
DTEND;TZID=UTC:20290627T150000
DTSTAMP:20260423T135056
CREATED:20251017T015738Z
LAST-MODIFIED:20251120T193136Z
UID:10002558-1877262300-1877266800@sjjcouncil.org
SUMMARY:Civic Engagement Workshop
DESCRIPTION:
URL:https://sjjcouncil.org/event/civic-engagement-workshop-2/2029-06-27/
LOCATION:IL
ATTACH;FMTTYPE=image/png:https://sjjcouncil.org/wp-content/uploads/2025/10/Civic-Engagement-Workshop-2025-scaled.png
END:VEVENT
BEGIN:VEVENT
DTSTART;TZID=UTC:20290628T154500
DTEND;TZID=UTC:20290628T174500
DTSTAMP:20260423T135056
CREATED:20251017T015654Z
LAST-MODIFIED:20251120T193415Z
UID:10000955-1877355900-1877363100@sjjcouncil.org
SUMMARY:Civic Engagement Workshop
DESCRIPTION:
URL:https://sjjcouncil.org/event/civic-engagement-workshop/2029-06-28/
LOCATION:IL
ATTACH;FMTTYPE=image/png:https://sjjcouncil.org/wp-content/uploads/2025/10/Civic-Engagement-Workshop-2025-scaled.png
END:VEVENT
BEGIN:VEVENT
DTSTART;TZID=UTC:20290702T154500
DTEND;TZID=UTC:20290702T174500
DTSTAMP:20260423T135056
CREATED:20251017T015654Z
LAST-MODIFIED:20251120T193415Z
UID:10000956-1877701500-1877708700@sjjcouncil.org
SUMMARY:Civic Engagement Workshop
DESCRIPTION:
URL:https://sjjcouncil.org/event/civic-engagement-workshop/2029-07-02/
LOCATION:IL
ATTACH;FMTTYPE=image/png:https://sjjcouncil.org/wp-content/uploads/2025/10/Civic-Engagement-Workshop-2025-scaled.png
END:VEVENT
BEGIN:VEVENT
DTSTART;TZID=UTC:20290703T154500
DTEND;TZID=UTC:20290703T174500
DTSTAMP:20260423T135056
CREATED:20251017T015654Z
LAST-MODIFIED:20251120T193415Z
UID:10000957-1877787900-1877795100@sjjcouncil.org
SUMMARY:Civic Engagement Workshop
DESCRIPTION:
URL:https://sjjcouncil.org/event/civic-engagement-workshop/2029-07-03/
LOCATION:IL
ATTACH;FMTTYPE=image/png:https://sjjcouncil.org/wp-content/uploads/2025/10/Civic-Engagement-Workshop-2025-scaled.png
END:VEVENT
BEGIN:VEVENT
DTSTART;TZID=UTC:20290704T134500
DTEND;TZID=UTC:20290704T150000
DTSTAMP:20260423T135056
CREATED:20251017T015738Z
LAST-MODIFIED:20251120T193136Z
UID:10002561-1877867100-1877871600@sjjcouncil.org
SUMMARY:Civic Engagement Workshop
DESCRIPTION:
URL:https://sjjcouncil.org/event/civic-engagement-workshop-2/2029-07-04/
LOCATION:IL
ATTACH;FMTTYPE=image/png:https://sjjcouncil.org/wp-content/uploads/2025/10/Civic-Engagement-Workshop-2025-scaled.png
END:VEVENT
BEGIN:VEVENT
DTSTART;TZID=UTC:20290705T154500
DTEND;TZID=UTC:20290705T174500
DTSTAMP:20260423T135056
CREATED:20251017T015654Z
LAST-MODIFIED:20251120T193415Z
UID:10000958-1877960700-1877967900@sjjcouncil.org
SUMMARY:Civic Engagement Workshop
DESCRIPTION:
URL:https://sjjcouncil.org/event/civic-engagement-workshop/2029-07-05/
LOCATION:IL
ATTACH;FMTTYPE=image/png:https://sjjcouncil.org/wp-content/uploads/2025/10/Civic-Engagement-Workshop-2025-scaled.png
END:VEVENT
END:VCALENDAR