BEGIN:VCALENDAR
VERSION:2.0
PRODID:-//CCSJJC - ECPv6.15.20//NONSGML v1.0//EN
CALSCALE:GREGORIAN
METHOD:PUBLISH
X-WR-CALNAME:CCSJJC
X-ORIGINAL-URL:https://sjjcouncil.org
X-WR-CALDESC:Events for CCSJJC
REFRESH-INTERVAL;VALUE=DURATION:PT1H
X-Robots-Tag:noindex
X-PUBLISHED-TTL:PT1H
BEGIN:VTIMEZONE
TZID:UTC
BEGIN:STANDARD
TZOFFSETFROM:+0000
TZOFFSETTO:+0000
TZNAME:UTC
DTSTART:20280101T000000
END:STANDARD
END:VTIMEZONE
BEGIN:VEVENT
DTSTART;TZID=UTC:20290215T154500
DTEND;TZID=UTC:20290215T174500
DTSTAMP:20260423T061437
CREATED:20251017T015654Z
LAST-MODIFIED:20251120T193415Z
UID:10000898-1865864700-1865871900@sjjcouncil.org
SUMMARY:Civic Engagement Workshop
DESCRIPTION:
URL:https://sjjcouncil.org/event/civic-engagement-workshop/2029-02-15/
LOCATION:IL
ATTACH;FMTTYPE=image/png:https://sjjcouncil.org/wp-content/uploads/2025/10/Civic-Engagement-Workshop-2025-scaled.png
END:VEVENT
BEGIN:VEVENT
DTSTART;TZID=UTC:20290219T154500
DTEND;TZID=UTC:20290219T174500
DTSTAMP:20260423T061437
CREATED:20251017T015654Z
LAST-MODIFIED:20251120T193415Z
UID:10000899-1866210300-1866217500@sjjcouncil.org
SUMMARY:Civic Engagement Workshop
DESCRIPTION:
URL:https://sjjcouncil.org/event/civic-engagement-workshop/2029-02-19/
LOCATION:IL
ATTACH;FMTTYPE=image/png:https://sjjcouncil.org/wp-content/uploads/2025/10/Civic-Engagement-Workshop-2025-scaled.png
END:VEVENT
BEGIN:VEVENT
DTSTART;TZID=UTC:20290220T154500
DTEND;TZID=UTC:20290220T174500
DTSTAMP:20260423T061437
CREATED:20251017T015654Z
LAST-MODIFIED:20251120T193415Z
UID:10000900-1866296700-1866303900@sjjcouncil.org
SUMMARY:Civic Engagement Workshop
DESCRIPTION:
URL:https://sjjcouncil.org/event/civic-engagement-workshop/2029-02-20/
LOCATION:IL
ATTACH;FMTTYPE=image/png:https://sjjcouncil.org/wp-content/uploads/2025/10/Civic-Engagement-Workshop-2025-scaled.png
END:VEVENT
BEGIN:VEVENT
DTSTART;TZID=UTC:20290221T134500
DTEND;TZID=UTC:20290221T150000
DTSTAMP:20260423T061437
CREATED:20251017T015738Z
LAST-MODIFIED:20251120T193136Z
UID:10002504-1866375900-1866380400@sjjcouncil.org
SUMMARY:Civic Engagement Workshop
DESCRIPTION:
URL:https://sjjcouncil.org/event/civic-engagement-workshop-2/2029-02-21/
LOCATION:IL
ATTACH;FMTTYPE=image/png:https://sjjcouncil.org/wp-content/uploads/2025/10/Civic-Engagement-Workshop-2025-scaled.png
END:VEVENT
BEGIN:VEVENT
DTSTART;TZID=UTC:20290222T154500
DTEND;TZID=UTC:20290222T174500
DTSTAMP:20260423T061437
CREATED:20251017T015654Z
LAST-MODIFIED:20251120T193415Z
UID:10000901-1866469500-1866476700@sjjcouncil.org
SUMMARY:Civic Engagement Workshop
DESCRIPTION:
URL:https://sjjcouncil.org/event/civic-engagement-workshop/2029-02-22/
LOCATION:IL
ATTACH;FMTTYPE=image/png:https://sjjcouncil.org/wp-content/uploads/2025/10/Civic-Engagement-Workshop-2025-scaled.png
END:VEVENT
BEGIN:VEVENT
DTSTART;TZID=UTC:20290226T154500
DTEND;TZID=UTC:20290226T174500
DTSTAMP:20260423T061437
CREATED:20251017T015654Z
LAST-MODIFIED:20251120T193415Z
UID:10000902-1866815100-1866822300@sjjcouncil.org
SUMMARY:Civic Engagement Workshop
DESCRIPTION:
URL:https://sjjcouncil.org/event/civic-engagement-workshop/2029-02-26/
LOCATION:IL
ATTACH;FMTTYPE=image/png:https://sjjcouncil.org/wp-content/uploads/2025/10/Civic-Engagement-Workshop-2025-scaled.png
END:VEVENT
BEGIN:VEVENT
DTSTART;TZID=UTC:20290227T154500
DTEND;TZID=UTC:20290227T174500
DTSTAMP:20260423T061437
CREATED:20251017T015654Z
LAST-MODIFIED:20251120T193415Z
UID:10000903-1866901500-1866908700@sjjcouncil.org
SUMMARY:Civic Engagement Workshop
DESCRIPTION:
URL:https://sjjcouncil.org/event/civic-engagement-workshop/2029-02-27/
LOCATION:IL
ATTACH;FMTTYPE=image/png:https://sjjcouncil.org/wp-content/uploads/2025/10/Civic-Engagement-Workshop-2025-scaled.png
END:VEVENT
BEGIN:VEVENT
DTSTART;TZID=UTC:20290228T134500
DTEND;TZID=UTC:20290228T150000
DTSTAMP:20260423T061437
CREATED:20251017T015738Z
LAST-MODIFIED:20251120T193136Z
UID:10002507-1866980700-1866985200@sjjcouncil.org
SUMMARY:Civic Engagement Workshop
DESCRIPTION:
URL:https://sjjcouncil.org/event/civic-engagement-workshop-2/2029-02-28/
LOCATION:IL
ATTACH;FMTTYPE=image/png:https://sjjcouncil.org/wp-content/uploads/2025/10/Civic-Engagement-Workshop-2025-scaled.png
END:VEVENT
BEGIN:VEVENT
DTSTART;TZID=UTC:20290301T154500
DTEND;TZID=UTC:20290301T174500
DTSTAMP:20260423T061437
CREATED:20251017T015654Z
LAST-MODIFIED:20251120T193415Z
UID:10000904-1867074300-1867081500@sjjcouncil.org
SUMMARY:Civic Engagement Workshop
DESCRIPTION:
URL:https://sjjcouncil.org/event/civic-engagement-workshop/2029-03-01/
LOCATION:IL
ATTACH;FMTTYPE=image/png:https://sjjcouncil.org/wp-content/uploads/2025/10/Civic-Engagement-Workshop-2025-scaled.png
END:VEVENT
BEGIN:VEVENT
DTSTART;TZID=UTC:20290305T154500
DTEND;TZID=UTC:20290305T174500
DTSTAMP:20260423T061437
CREATED:20251017T015654Z
LAST-MODIFIED:20251120T193415Z
UID:10000905-1867419900-1867427100@sjjcouncil.org
SUMMARY:Civic Engagement Workshop
DESCRIPTION:
URL:https://sjjcouncil.org/event/civic-engagement-workshop/2029-03-05/
LOCATION:IL
ATTACH;FMTTYPE=image/png:https://sjjcouncil.org/wp-content/uploads/2025/10/Civic-Engagement-Workshop-2025-scaled.png
END:VEVENT
BEGIN:VEVENT
DTSTART;TZID=UTC:20290306T154500
DTEND;TZID=UTC:20290306T174500
DTSTAMP:20260423T061437
CREATED:20251017T015654Z
LAST-MODIFIED:20251120T193415Z
UID:10000906-1867506300-1867513500@sjjcouncil.org
SUMMARY:Civic Engagement Workshop
DESCRIPTION:
URL:https://sjjcouncil.org/event/civic-engagement-workshop/2029-03-06/
LOCATION:IL
ATTACH;FMTTYPE=image/png:https://sjjcouncil.org/wp-content/uploads/2025/10/Civic-Engagement-Workshop-2025-scaled.png
END:VEVENT
BEGIN:VEVENT
DTSTART;TZID=UTC:20290307T134500
DTEND;TZID=UTC:20290307T150000
DTSTAMP:20260423T061437
CREATED:20251017T015738Z
LAST-MODIFIED:20251120T193136Z
UID:10002510-1867585500-1867590000@sjjcouncil.org
SUMMARY:Civic Engagement Workshop
DESCRIPTION:
URL:https://sjjcouncil.org/event/civic-engagement-workshop-2/2029-03-07/
LOCATION:IL
ATTACH;FMTTYPE=image/png:https://sjjcouncil.org/wp-content/uploads/2025/10/Civic-Engagement-Workshop-2025-scaled.png
END:VEVENT
BEGIN:VEVENT
DTSTART;TZID=UTC:20290308T154500
DTEND;TZID=UTC:20290308T174500
DTSTAMP:20260423T061437
CREATED:20251017T015654Z
LAST-MODIFIED:20251120T193415Z
UID:10000907-1867679100-1867686300@sjjcouncil.org
SUMMARY:Civic Engagement Workshop
DESCRIPTION:
URL:https://sjjcouncil.org/event/civic-engagement-workshop/2029-03-08/
LOCATION:IL
ATTACH;FMTTYPE=image/png:https://sjjcouncil.org/wp-content/uploads/2025/10/Civic-Engagement-Workshop-2025-scaled.png
END:VEVENT
BEGIN:VEVENT
DTSTART;TZID=UTC:20290312T154500
DTEND;TZID=UTC:20290312T174500
DTSTAMP:20260423T061437
CREATED:20251017T015654Z
LAST-MODIFIED:20251120T193415Z
UID:10000908-1868024700-1868031900@sjjcouncil.org
SUMMARY:Civic Engagement Workshop
DESCRIPTION:
URL:https://sjjcouncil.org/event/civic-engagement-workshop/2029-03-12/
LOCATION:IL
ATTACH;FMTTYPE=image/png:https://sjjcouncil.org/wp-content/uploads/2025/10/Civic-Engagement-Workshop-2025-scaled.png
END:VEVENT
BEGIN:VEVENT
DTSTART;TZID=UTC:20290313T154500
DTEND;TZID=UTC:20290313T174500
DTSTAMP:20260423T061437
CREATED:20251017T015654Z
LAST-MODIFIED:20251120T193415Z
UID:10000909-1868111100-1868118300@sjjcouncil.org
SUMMARY:Civic Engagement Workshop
DESCRIPTION:
URL:https://sjjcouncil.org/event/civic-engagement-workshop/2029-03-13/
LOCATION:IL
ATTACH;FMTTYPE=image/png:https://sjjcouncil.org/wp-content/uploads/2025/10/Civic-Engagement-Workshop-2025-scaled.png
END:VEVENT
BEGIN:VEVENT
DTSTART;TZID=UTC:20290314T134500
DTEND;TZID=UTC:20290314T150000
DTSTAMP:20260423T061437
CREATED:20251017T015738Z
LAST-MODIFIED:20251120T193136Z
UID:10002513-1868190300-1868194800@sjjcouncil.org
SUMMARY:Civic Engagement Workshop
DESCRIPTION:
URL:https://sjjcouncil.org/event/civic-engagement-workshop-2/2029-03-14/
LOCATION:IL
ATTACH;FMTTYPE=image/png:https://sjjcouncil.org/wp-content/uploads/2025/10/Civic-Engagement-Workshop-2025-scaled.png
END:VEVENT
BEGIN:VEVENT
DTSTART;TZID=UTC:20290315T154500
DTEND;TZID=UTC:20290315T174500
DTSTAMP:20260423T061437
CREATED:20251017T015654Z
LAST-MODIFIED:20251120T193415Z
UID:10000910-1868283900-1868291100@sjjcouncil.org
SUMMARY:Civic Engagement Workshop
DESCRIPTION:
URL:https://sjjcouncil.org/event/civic-engagement-workshop/2029-03-15/
LOCATION:IL
ATTACH;FMTTYPE=image/png:https://sjjcouncil.org/wp-content/uploads/2025/10/Civic-Engagement-Workshop-2025-scaled.png
END:VEVENT
BEGIN:VEVENT
DTSTART;TZID=UTC:20290319T154500
DTEND;TZID=UTC:20290319T174500
DTSTAMP:20260423T061437
CREATED:20251017T015654Z
LAST-MODIFIED:20251120T193415Z
UID:10000911-1868629500-1868636700@sjjcouncil.org
SUMMARY:Civic Engagement Workshop
DESCRIPTION:
URL:https://sjjcouncil.org/event/civic-engagement-workshop/2029-03-19/
LOCATION:IL
ATTACH;FMTTYPE=image/png:https://sjjcouncil.org/wp-content/uploads/2025/10/Civic-Engagement-Workshop-2025-scaled.png
END:VEVENT
BEGIN:VEVENT
DTSTART;TZID=UTC:20290320T154500
DTEND;TZID=UTC:20290320T174500
DTSTAMP:20260423T061437
CREATED:20251017T015654Z
LAST-MODIFIED:20251120T193415Z
UID:10000912-1868715900-1868723100@sjjcouncil.org
SUMMARY:Civic Engagement Workshop
DESCRIPTION:
URL:https://sjjcouncil.org/event/civic-engagement-workshop/2029-03-20/
LOCATION:IL
ATTACH;FMTTYPE=image/png:https://sjjcouncil.org/wp-content/uploads/2025/10/Civic-Engagement-Workshop-2025-scaled.png
END:VEVENT
BEGIN:VEVENT
DTSTART;TZID=UTC:20290321T134500
DTEND;TZID=UTC:20290321T150000
DTSTAMP:20260423T061437
CREATED:20251017T015738Z
LAST-MODIFIED:20251120T193136Z
UID:10002516-1868795100-1868799600@sjjcouncil.org
SUMMARY:Civic Engagement Workshop
DESCRIPTION:
URL:https://sjjcouncil.org/event/civic-engagement-workshop-2/2029-03-21/
LOCATION:IL
ATTACH;FMTTYPE=image/png:https://sjjcouncil.org/wp-content/uploads/2025/10/Civic-Engagement-Workshop-2025-scaled.png
END:VEVENT
BEGIN:VEVENT
DTSTART;TZID=UTC:20290322T154500
DTEND;TZID=UTC:20290322T174500
DTSTAMP:20260423T061437
CREATED:20251017T015654Z
LAST-MODIFIED:20251120T193415Z
UID:10000913-1868888700-1868895900@sjjcouncil.org
SUMMARY:Civic Engagement Workshop
DESCRIPTION:
URL:https://sjjcouncil.org/event/civic-engagement-workshop/2029-03-22/
LOCATION:IL
ATTACH;FMTTYPE=image/png:https://sjjcouncil.org/wp-content/uploads/2025/10/Civic-Engagement-Workshop-2025-scaled.png
END:VEVENT
BEGIN:VEVENT
DTSTART;TZID=UTC:20290326T154500
DTEND;TZID=UTC:20290326T174500
DTSTAMP:20260423T061437
CREATED:20251017T015654Z
LAST-MODIFIED:20251120T193415Z
UID:10000914-1869234300-1869241500@sjjcouncil.org
SUMMARY:Civic Engagement Workshop
DESCRIPTION:
URL:https://sjjcouncil.org/event/civic-engagement-workshop/2029-03-26/
LOCATION:IL
ATTACH;FMTTYPE=image/png:https://sjjcouncil.org/wp-content/uploads/2025/10/Civic-Engagement-Workshop-2025-scaled.png
END:VEVENT
BEGIN:VEVENT
DTSTART;TZID=UTC:20290327T154500
DTEND;TZID=UTC:20290327T174500
DTSTAMP:20260423T061437
CREATED:20251017T015654Z
LAST-MODIFIED:20251120T193415Z
UID:10000915-1869320700-1869327900@sjjcouncil.org
SUMMARY:Civic Engagement Workshop
DESCRIPTION:
URL:https://sjjcouncil.org/event/civic-engagement-workshop/2029-03-27/
LOCATION:IL
ATTACH;FMTTYPE=image/png:https://sjjcouncil.org/wp-content/uploads/2025/10/Civic-Engagement-Workshop-2025-scaled.png
END:VEVENT
BEGIN:VEVENT
DTSTART;TZID=UTC:20290328T134500
DTEND;TZID=UTC:20290328T150000
DTSTAMP:20260423T061437
CREATED:20251017T015738Z
LAST-MODIFIED:20251120T193136Z
UID:10002519-1869399900-1869404400@sjjcouncil.org
SUMMARY:Civic Engagement Workshop
DESCRIPTION:
URL:https://sjjcouncil.org/event/civic-engagement-workshop-2/2029-03-28/
LOCATION:IL
ATTACH;FMTTYPE=image/png:https://sjjcouncil.org/wp-content/uploads/2025/10/Civic-Engagement-Workshop-2025-scaled.png
END:VEVENT
BEGIN:VEVENT
DTSTART;TZID=UTC:20290329T154500
DTEND;TZID=UTC:20290329T174500
DTSTAMP:20260423T061437
CREATED:20251017T015654Z
LAST-MODIFIED:20251120T193415Z
UID:10000916-1869493500-1869500700@sjjcouncil.org
SUMMARY:Civic Engagement Workshop
DESCRIPTION:
URL:https://sjjcouncil.org/event/civic-engagement-workshop/2029-03-29/
LOCATION:IL
ATTACH;FMTTYPE=image/png:https://sjjcouncil.org/wp-content/uploads/2025/10/Civic-Engagement-Workshop-2025-scaled.png
END:VEVENT
BEGIN:VEVENT
DTSTART;TZID=UTC:20290402T154500
DTEND;TZID=UTC:20290402T174500
DTSTAMP:20260423T061437
CREATED:20251017T015654Z
LAST-MODIFIED:20251120T193415Z
UID:10000917-1869839100-1869846300@sjjcouncil.org
SUMMARY:Civic Engagement Workshop
DESCRIPTION:
URL:https://sjjcouncil.org/event/civic-engagement-workshop/2029-04-02/
LOCATION:IL
ATTACH;FMTTYPE=image/png:https://sjjcouncil.org/wp-content/uploads/2025/10/Civic-Engagement-Workshop-2025-scaled.png
END:VEVENT
BEGIN:VEVENT
DTSTART;TZID=UTC:20290403T154500
DTEND;TZID=UTC:20290403T174500
DTSTAMP:20260423T061437
CREATED:20251017T015654Z
LAST-MODIFIED:20251120T193415Z
UID:10000918-1869925500-1869932700@sjjcouncil.org
SUMMARY:Civic Engagement Workshop
DESCRIPTION:
URL:https://sjjcouncil.org/event/civic-engagement-workshop/2029-04-03/
LOCATION:IL
ATTACH;FMTTYPE=image/png:https://sjjcouncil.org/wp-content/uploads/2025/10/Civic-Engagement-Workshop-2025-scaled.png
END:VEVENT
BEGIN:VEVENT
DTSTART;TZID=UTC:20290404T134500
DTEND;TZID=UTC:20290404T150000
DTSTAMP:20260423T061437
CREATED:20251017T015738Z
LAST-MODIFIED:20251120T193136Z
UID:10002522-1870004700-1870009200@sjjcouncil.org
SUMMARY:Civic Engagement Workshop
DESCRIPTION:
URL:https://sjjcouncil.org/event/civic-engagement-workshop-2/2029-04-04/
LOCATION:IL
ATTACH;FMTTYPE=image/png:https://sjjcouncil.org/wp-content/uploads/2025/10/Civic-Engagement-Workshop-2025-scaled.png
END:VEVENT
BEGIN:VEVENT
DTSTART;TZID=UTC:20290405T154500
DTEND;TZID=UTC:20290405T174500
DTSTAMP:20260423T061437
CREATED:20251017T015654Z
LAST-MODIFIED:20251120T193415Z
UID:10000919-1870098300-1870105500@sjjcouncil.org
SUMMARY:Civic Engagement Workshop
DESCRIPTION:
URL:https://sjjcouncil.org/event/civic-engagement-workshop/2029-04-05/
LOCATION:IL
ATTACH;FMTTYPE=image/png:https://sjjcouncil.org/wp-content/uploads/2025/10/Civic-Engagement-Workshop-2025-scaled.png
END:VEVENT
BEGIN:VEVENT
DTSTART;TZID=UTC:20290409T154500
DTEND;TZID=UTC:20290409T174500
DTSTAMP:20260423T061438
CREATED:20251017T015654Z
LAST-MODIFIED:20251120T193415Z
UID:10000920-1870443900-1870451100@sjjcouncil.org
SUMMARY:Civic Engagement Workshop
DESCRIPTION:
URL:https://sjjcouncil.org/event/civic-engagement-workshop/2029-04-09/
LOCATION:IL
ATTACH;FMTTYPE=image/png:https://sjjcouncil.org/wp-content/uploads/2025/10/Civic-Engagement-Workshop-2025-scaled.png
END:VEVENT
END:VCALENDAR