BEGIN:VCALENDAR
VERSION:2.0
PRODID:-//CCSJJC - ECPv6.15.20//NONSGML v1.0//EN
CALSCALE:GREGORIAN
METHOD:PUBLISH
X-WR-CALNAME:CCSJJC
X-ORIGINAL-URL:https://sjjcouncil.org
X-WR-CALDESC:Events for CCSJJC
REFRESH-INTERVAL;VALUE=DURATION:PT1H
X-Robots-Tag:noindex
X-PUBLISHED-TTL:PT1H
BEGIN:VTIMEZONE
TZID:UTC
BEGIN:STANDARD
TZOFFSETFROM:+0000
TZOFFSETTO:+0000
TZNAME:UTC
DTSTART:20240101T000000
END:STANDARD
END:VTIMEZONE
BEGIN:VEVENT
DTSTART;TZID=UTC:20250416T180000
DTEND;TZID=UTC:20250416T193000
DTSTAMP:20260421T034756
CREATED:20250417T015358Z
LAST-MODIFIED:20250417T015358Z
UID:10000342-1744826400-1744831800@sjjcouncil.org
SUMMARY:Youth Voices for Violence Prevention (YVVP) Listening Sessions
DESCRIPTION:
URL:https://sjjcouncil.org/event/youth-voices-for-violence-prevention-yvvp-listening-sessions/
LOCATION:Vernard L. Alsberry Jr. Municipal Center\, 3601 W 183rd Street\, Hazel Crest\, IL\, United States
ATTACH;FMTTYPE=image/png:https://sjjcouncil.org/wp-content/uploads/2025/04/Event-Poster_-US-Letter.png
END:VEVENT
END:VCALENDAR